BEGIN:VCALENDAR
VERSION:2.0
PRODID:-//Tampa Salsa Lessons | Clases de Salsa - ECPv6.15.20//NONSGML v1.0//EN
CALSCALE:GREGORIAN
METHOD:PUBLISH
X-ORIGINAL-URL:https://www.tatosalsa.com
X-WR-CALDESC:Events for Tampa Salsa Lessons | Clases de Salsa
REFRESH-INTERVAL;VALUE=DURATION:PT1H
X-Robots-Tag:noindex
X-PUBLISHED-TTL:PT1H
BEGIN:VTIMEZONE
TZID:America/New_York
BEGIN:DAYLIGHT
TZOFFSETFROM:-0500
TZOFFSETTO:-0400
TZNAME:EDT
DTSTART:20240310T070000
END:DAYLIGHT
BEGIN:STANDARD
TZOFFSETFROM:-0400
TZOFFSETTO:-0500
TZNAME:EST
DTSTART:20241103T060000
END:STANDARD
BEGIN:DAYLIGHT
TZOFFSETFROM:-0500
TZOFFSETTO:-0400
TZNAME:EDT
DTSTART:20250309T070000
END:DAYLIGHT
BEGIN:STANDARD
TZOFFSETFROM:-0400
TZOFFSETTO:-0500
TZNAME:EST
DTSTART:20251102T060000
END:STANDARD
BEGIN:DAYLIGHT
TZOFFSETFROM:-0500
TZOFFSETTO:-0400
TZNAME:EDT
DTSTART:20260308T070000
END:DAYLIGHT
BEGIN:STANDARD
TZOFFSETFROM:-0400
TZOFFSETTO:-0500
TZNAME:EST
DTSTART:20261101T060000
END:STANDARD
END:VTIMEZONE
BEGIN:VEVENT
DTSTART;TZID=America/New_York:20250303T183000
DTEND;TZID=America/New_York:20250303T220000
DTSTAMP:20260422T182514
CREATED:20250130T012904Z
LAST-MODIFIED:20250224T142928Z
UID:7194-1741026600-1741039200@www.tatosalsa.com
SUMMARY:TaToSalsa - New 6 weeks beginner Salsa course and regular classes
DESCRIPTION:Our 6 weeks beginner course is currently CLOSED due to enrollment. Please be sure to sign up for our upcoming new 6 weeks beginner course starting March 31st. \nPlease note: If you’ve never taken formal classes at a studio before\, you will need to start with our beginner course. Those students that have taken formal classes will need to do a “test-in” to join our advance beginner level class. \nFor all our other levels\, is class as usual! \nSchedule is as follows: \n*6 weeks beginner course – 7pm-8pm – CLOSED \n*Advance beginner class – 7pm – 8pm – OPEN \n*Intermediate class – 8:15pm to 9:15pm – OPEN \n*Advance Intermediate class – 8:30pm to 9:30pm – OPEN \n-SHOES- \nNEW STUDENTS: Tennis shoes/ Street shoes/flats/ comfortable indoor shoes (NO FLIP FLOPS OR SANDALS) \nINTERMEDIATE/ADVANCE STUDENTS: Dance Shoes \n*NOTE* \nADULT CLASS (18+) \nCOURSE vs CLASS: 6 weeks beginner course has a starting date and ending date | A CLASS – Ongoing and it doesn’t have a starting or ending date. A student can join a class at anytime and doesn’t have to wait for a starting date as it’s an ongoing class (a syllabus is used in a class and it recycles through the material for that level).
URL:https://www.tatosalsa.com/event/tatosalsa-new-6-weeks-beginner-salsa-course-and-regular-classes-11/
LOCATION:Tato Salsa Studio\, 2901 W. Busch Blvd\, Suite 1024\, Tampa\, FL\, 33618\, United States
ATTACH;FMTTYPE=image/png:https://www.tatosalsa.com/wp-content/uploads/2024/12/Newclassflyerfeb2025.png
END:VEVENT
BEGIN:VEVENT
DTSTART;TZID=America/New_York:20250304T193000
DTEND;TZID=America/New_York:20250304T220000
DTSTAMP:20260422T182514
CREATED:20250130T013241Z
LAST-MODIFIED:20250130T013241Z
UID:7198-1741116600-1741125600@www.tatosalsa.com
SUMMARY:TaToSalsa - New 6 weeks beginner Salsa On2 (Mambo) course and regular classes
DESCRIPTION:Today is the last day to join our current beginner course. This will be a 4 weeks course and price is $65. Starting time is 6:30pm. \nPlease note: If you’ve never taken formal classes at a studio before\, you will need to start with our beginner course. Those students that have taken formal classes will need to do a “test-in” to join our advance beginner level class. \nFor all our other levels\, is class as usual! \nSchedule is as follows: \n*6 weeks beginner course – 7:30pm-8:30pm \n*Advance beginner class – 7:30pm – 8:30pm \n*Intermediate class – 8:30pm to 9:30pm \n-SHOES- \nNEW STUDENTS: Tennis shoes/ Street shoes/flats/ comfortable indoor shoes (NO FLIP FLOPS OR SANDALS) \nINTERMEDIATE/ADVANCE STUDENTS: Dance Shoes \n*NOTE* \nADULT CLASS (18+) \nCOURSE vs CLASS: 4 weeks beginner course has a starting date and ending date | A CLASS – Ongoing and it doesn’t have a starting or ending date. A student can join a class at anytime and doesn’t have to wait for a starting date as it’s an ongoing class (a syllabus is used in a class and it recycles through the material for that level).
URL:https://www.tatosalsa.com/event/tatosalsa-new-6-weeks-beginner-salsa-on2-mambo-course-and-regular-classes-6/
LOCATION:Tato Salsa Studio\, 2901 W. Busch Blvd\, Suite 1024\, Tampa\, FL\, 33618\, United States
ATTACH;FMTTYPE=image/png:https://www.tatosalsa.com/wp-content/uploads/2024/12/Newclassflyerfeb2025.png
END:VEVENT
BEGIN:VEVENT
DTSTART;TZID=America/New_York:20250305T190000
DTEND;TZID=America/New_York:20250305T220000
DTSTAMP:20260422T182514
CREATED:20250130T013608Z
LAST-MODIFIED:20250130T013608Z
UID:7204-1741201200-1741212000@www.tatosalsa.com
SUMMARY:TaToSalsa - New 6 weeks beginner Bachata course and regular classes
DESCRIPTION:Today is the last day to join our current beginner course. This will be a 4 weeks course and price is $65. Starting time is 6:30pm. \nPlease note: If you’ve never taken formal classes at a studio before\, you will need to start with our beginner course. Those students that have taken formal classes will need to do a “test-in” to join our advance beginner level class. \nFor all our other levels\, is class as usual! \nSchedule is as follows: \n*6 weeks beginner course – 7pm-8pm \n*Advance beginner class – 7pm – 8pm \n*Intermediate class – 8:15pm to 9:15pm \n*Advance Intermediate class – 8:30pm to 9:30pm \n-SHOES- \nNEW STUDENTS: Tennis shoes/ Street shoes/flats/ comfortable indoor shoes (NO FLIP FLOPS OR SANDALS) \nINTERMEDIATE/ADVANCE STUDENTS: Dance Shoes \n*NOTE* \nADULT CLASS (18+) \nCOURSE vs CLASS: 6 weeks beginner course has a starting date and ending date | A CLASS – Ongoing and it doesn’t have a starting or ending date. A student can join a class at anytime and doesn’t have to wait for a starting date as it’s an ongoing class (a syllabus is used in a class and it recycles through the material for that level).
URL:https://www.tatosalsa.com/event/tatosalsa-new-6-weeks-beginner-bachata-course-and-regular-classes-21/
LOCATION:Tato Salsa Studio\, 2901 W. Busch Blvd\, Suite 1024\, Tampa\, FL\, 33618\, United States
ATTACH;FMTTYPE=image/png:https://www.tatosalsa.com/wp-content/uploads/2024/12/Newclassflyerfeb2025.png
END:VEVENT
BEGIN:VEVENT
DTSTART;TZID=America/New_York:20250310T183000
DTEND;TZID=America/New_York:20250310T220000
DTSTAMP:20260422T182514
CREATED:20250130T013930Z
LAST-MODIFIED:20250224T143105Z
UID:7207-1741631400-1741644000@www.tatosalsa.com
SUMMARY:TaToSalsa - Salsa beginner course and regular classes
DESCRIPTION:Our 6 weeks beginner course is currently CLOSED due to enrollment. Please be sure to sign up for our upcoming new 6 weeks beginner course starting March 31st. \nPlease note: If you’ve never taken formal classes at a studio before\, you will need to start with our beginner course. Those students that have taken formal classes will need to do a “test-in” to join our advance beginner level class. \nFor all our other levels\, is class as usual! \nSchedule is as follows: \n*6 weeks beginner course – 7pm-8pm – CLOSED \n*Advance beginner class – 7pm – 8pm – OPEN \n*Intermediate class – 8:15pm to 9:15pm – OPEN \n*Advance Intermediate class – 8:30pm to 9:30pm – OPEN \n-SHOES- \nNEW STUDENTS: Tennis shoes/ Street shoes/flats/ comfortable indoor shoes (NO FLIP FLOPS OR SANDALS) \nINTERMEDIATE/ADVANCE STUDENTS: Dance Shoes \n*NOTE* \nADULT CLASS (18+) \nCOURSE vs CLASS: 6 weeks beginner course has a starting date and ending date | A CLASS – Ongoing and it doesn’t have a starting or ending date. A student can join a class at anytime and doesn’t have to wait for a starting date as it’s an ongoing class (a syllabus is used in a class and it recycles through the material for that level).
URL:https://www.tatosalsa.com/event/tatosalsa-salsa-beginner-course-and-regular-classes-19/
LOCATION:Tato Salsa Studio\, 2901 W. Busch Blvd\, Suite 1024\, Tampa\, FL\, 33618\, United States
ATTACH;FMTTYPE=image/png:https://www.tatosalsa.com/wp-content/uploads/2024/12/Newclassflyerfeb2025.png
END:VEVENT
BEGIN:VEVENT
DTSTART;TZID=America/New_York:20250311T193000
DTEND;TZID=America/New_York:20250311T220000
DTSTAMP:20260422T182514
CREATED:20250130T014536Z
LAST-MODIFIED:20250130T014536Z
UID:7213-1741721400-1741730400@www.tatosalsa.com
SUMMARY:TaToSalsa - Salsa On2 beginner course and regular classes
DESCRIPTION:Our current 6 weeks beginner course is CLOSED. If you’re a new student and would like to get started\, you can join our upcoming new 6 weeks course starting April 1st. Register today to reserve your spot! \nPlease note: If you’ve never taken formal classes at a studio before\, you will need to start with our beginner course. Those students that have taken formal classes will need to do a “test-in” to join our advance beginner level class. \nFor all our other levels\, is class as usual! \nSchedule is as follows: \n*6 weeks beginner course – 7:30pm – 8:30pm \n*Advance beginner class – 7:30pm – 8:30pm \n*Intermediate class – 8:30pm to 9:30pm \n-SHOES- \nNEW STUDENTS: Tennis shoes/ Street shoes/flats/ comfortable indoor shoes (NO FLIP FLOPS OR SANDALS) \nINTERMEDIATE/ADVANCE STUDENTS: Dance Shoes \n*NOTE* \nADULT CLASS (18+) \nCOURSE vs CLASS: 6 weeks beginner course has a starting date and ending date | A CLASS – Ongoing and it doesn’t have a starting or ending date. A student can join a class at anytime and doesn’t have to wait for a starting date as it’s an ongoing class (a syllabus is used in a class and it recycles through the material for that level).
URL:https://www.tatosalsa.com/event/tatosalsa-salsa-on2-beginner-course-and-regular-classes-27/
LOCATION:Tato Salsa Studio\, 2901 W. Busch Blvd\, Suite 1024\, Tampa\, FL\, 33618\, United States
ATTACH;FMTTYPE=image/png:https://www.tatosalsa.com/wp-content/uploads/2024/12/Newclassflyerfeb2025.png
END:VEVENT
BEGIN:VEVENT
DTSTART;TZID=America/New_York:20250312T190000
DTEND;TZID=America/New_York:20250312T220000
DTSTAMP:20260422T182514
CREATED:20250130T014947Z
LAST-MODIFIED:20250130T014947Z
UID:7219-1741806000-1741816800@www.tatosalsa.com
SUMMARY:TaToSalsa - Bachata beginner course and regular classes
DESCRIPTION:Our current 6 weeks beginner course is CLOSED. If you’re a new student and would like to get started\, you can join our upcoming new 6 weeks course starting April 2nd. Register today to reserve your spot! \nPlease note: If you’ve never taken formal classes at a studio before\, you will need to start with our beginner course. Those students that have taken formal classes will need to do a “test-in” to join our advance beginner level class. \nFor all our other levels\, is class as usual! \nSchedule is as follows: \n*6 weeks beginner course – 6:30pm-7:30pm \n*Advance beginner class – 7:30pm to 8:30pm \n*Intermediate class – 8:30pm to 9:30pm | Advance Intermediate class – 8:30pm to 9:30pm \n-SHOES- \nNEW STUDENTS: Tennis shoes/ Street shoes/flats/ comfortable indoor shoes (NO FLIP FLOPS OR SANDALS) \nINTERMEDIATE/ADVANCE STUDENTS: Dance Shoes \n*NOTE* \nADULT CLASS (18+) \nCOURSE vs CLASS: 6 weeks beginner course has a starting date and ending date | A CLASS – Ongoing and it doesn’t have a starting or ending date. A student can join a class at anytime and doesn’t have to wait for a starting date as it’s an ongoing class (a syllabus is used in a class and it recycles through the material for that level).
URL:https://www.tatosalsa.com/event/tatosalsa-bachata-beginner-course-and-regular-classes-26/
LOCATION:Tato Salsa Studio\, 2901 W. Busch Blvd\, Suite 1024\, Tampa\, FL\, 33618\, United States
ATTACH;FMTTYPE=image/png:https://www.tatosalsa.com/wp-content/uploads/2024/12/Newclassflyerfeb2025.png
END:VEVENT
BEGIN:VEVENT
DTSTART;TZID=America/New_York:20250313T210000
DTEND;TZID=America/New_York:20250314T010000
DTSTAMP:20260422T182514
CREATED:20250224T143733Z
LAST-MODIFIED:20250313T095728Z
UID:7245-1741899600-1741914000@www.tatosalsa.com
SUMMARY:Tumbao Thursday Dance Social
DESCRIPTION:Join us for our February social next Thursday at our TaToSalsa Studio in Tampa. Get your pre-weekend dance fix on with your favorite Salsa\, Mambo\, and Bachata music. It’s our annual St. Patty’s theme dance social\, WEAR GREEN!\nDJ: Mambo TribePrice: $10 Current TaTo Salsa Students | $15 General AdmissionLesson by: Elizabeth Perez\nParking Available.Start Time: Doors open 9:00 pm – 1amHosted by: Tato SalsaNO ONE UNDER 18Free Parking\nSee you there!!!!
URL:https://www.tatosalsa.com/event/tumbao-thursday-dance-social-6/
LOCATION:Tato Salsa Studio\, 2901 W. Busch Blvd\, Suite 1024\, Tampa\, FL\, 33618\, United States
ATTACH;FMTTYPE=image/jpeg:https://www.tatosalsa.com/wp-content/uploads/2025/02/481055929_1218638139827246_9210007792514012255_n.jpg
END:VEVENT
BEGIN:VEVENT
DTSTART;TZID=America/New_York:20250317T183000
DTEND;TZID=America/New_York:20250317T220000
DTSTAMP:20260422T182514
CREATED:20250130T014037Z
LAST-MODIFIED:20250224T143213Z
UID:7209-1742236200-1742248800@www.tatosalsa.com
SUMMARY:TaToSalsa - Salsa beginner course and regular classes
DESCRIPTION:Our 6 weeks beginner course is currently CLOSED due to enrollment. Please be sure to sign up for our upcoming new 6 weeks beginner course starting March 31st. \nPlease note: If you’ve never taken formal classes at a studio before\, you will need to start with our beginner course. Those students that have taken formal classes will need to do a “test-in” to join our advance beginner level class. \nFor all our other levels\, is class as usual! \nSchedule is as follows: \n*6 weeks beginner course – 7pm-8pm – CLOSED \n*Advance beginner class – 7pm – 8pm – OPEN \n*Intermediate class – 8:15pm to 9:15pm – OPEN \n*Advance Intermediate class – 8:30pm to 9:30pm – OPEN \n-SHOES- \nNEW STUDENTS: Tennis shoes/ Street shoes/flats/ comfortable indoor shoes (NO FLIP FLOPS OR SANDALS) \nINTERMEDIATE/ADVANCE STUDENTS: Dance Shoes \n*NOTE* \nADULT CLASS (18+) \nCOURSE vs CLASS: 6 weeks beginner course has a starting date and ending date | A CLASS – Ongoing and it doesn’t have a starting or ending date. A student can join a class at anytime and doesn’t have to wait for a starting date as it’s an ongoing class (a syllabus is used in a class and it recycles through the material for that level).
URL:https://www.tatosalsa.com/event/tatosalsa-salsa-beginner-course-and-regular-classes-20/
LOCATION:Tato Salsa Studio\, 2901 W. Busch Blvd\, Suite 1024\, Tampa\, FL\, 33618\, United States
ATTACH;FMTTYPE=image/png:https://www.tatosalsa.com/wp-content/uploads/2024/12/Newclassflyerfeb2025.png
END:VEVENT
BEGIN:VEVENT
DTSTART;TZID=America/New_York:20250318T193000
DTEND;TZID=America/New_York:20250318T220000
DTSTAMP:20260422T182514
CREATED:20250130T014636Z
LAST-MODIFIED:20250130T014636Z
UID:7215-1742326200-1742335200@www.tatosalsa.com
SUMMARY:TaToSalsa - Salsa On2 beginner course and regular classes
DESCRIPTION:Our current 6 weeks beginner course is CLOSED. If you’re a new student and would like to get started\, you can join our upcoming new 6 weeks course starting April 1st. Register today to reserve your spot! \nPlease note: If you’ve never taken formal classes at a studio before\, you will need to start with our beginner course. Those students that have taken formal classes will need to do a “test-in” to join our advance beginner level class. \nFor all our other levels\, is class as usual! \nSchedule is as follows: \n*6 weeks beginner course – 7:30pm – 8:30pm \n*Advance beginner class – 7:30pm – 8:30pm \n*Intermediate class – 8:30pm to 9:30pm \n-SHOES- \nNEW STUDENTS: Tennis shoes/ Street shoes/flats/ comfortable indoor shoes (NO FLIP FLOPS OR SANDALS) \nINTERMEDIATE/ADVANCE STUDENTS: Dance Shoes \n*NOTE* \nADULT CLASS (18+) \nCOURSE vs CLASS: 6 weeks beginner course has a starting date and ending date | A CLASS – Ongoing and it doesn’t have a starting or ending date. A student can join a class at anytime and doesn’t have to wait for a starting date as it’s an ongoing class (a syllabus is used in a class and it recycles through the material for that level).
URL:https://www.tatosalsa.com/event/tatosalsa-salsa-on2-beginner-course-and-regular-classes-28/
LOCATION:Tato Salsa Studio\, 2901 W. Busch Blvd\, Suite 1024\, Tampa\, FL\, 33618\, United States
ATTACH;FMTTYPE=image/png:https://www.tatosalsa.com/wp-content/uploads/2024/12/Newclassflyerfeb2025.png
END:VEVENT
BEGIN:VEVENT
DTSTART;TZID=America/New_York:20250319T190000
DTEND;TZID=America/New_York:20250319T220000
DTSTAMP:20260422T182514
CREATED:20250130T015056Z
LAST-MODIFIED:20250130T015056Z
UID:7222-1742410800-1742421600@www.tatosalsa.com
SUMMARY:TaToSalsa - Bachata beginner course and regular classes
DESCRIPTION:Our current 6 weeks beginner course is CLOSED. If you’re a new student and would like to get started\, you can join our upcoming new 6 weeks course starting April 2nd. Register today to reserve your spot! \nPlease note: If you’ve never taken formal classes at a studio before\, you will need to start with our beginner course. Those students that have taken formal classes will need to do a “test-in” to join our advance beginner level class. \nFor all our other levels\, is class as usual! \nSchedule is as follows: \n*6 weeks beginner course – 6:30pm-7:30pm \n*Advance beginner class – 7:30pm to 8:30pm \n*Intermediate class – 8:30pm to 9:30pm | Advance Intermediate class – 8:30pm to 9:30pm \n-SHOES- \nNEW STUDENTS: Tennis shoes/ Street shoes/flats/ comfortable indoor shoes (NO FLIP FLOPS OR SANDALS) \nINTERMEDIATE/ADVANCE STUDENTS: Dance Shoes \n*NOTE* \nADULT CLASS (18+) \nCOURSE vs CLASS: 6 weeks beginner course has a starting date and ending date | A CLASS – Ongoing and it doesn’t have a starting or ending date. A student can join a class at anytime and doesn’t have to wait for a starting date as it’s an ongoing class (a syllabus is used in a class and it recycles through the material for that level).
URL:https://www.tatosalsa.com/event/tatosalsa-bachata-beginner-course-and-regular-classes-27/
LOCATION:Tato Salsa Studio\, 2901 W. Busch Blvd\, Suite 1024\, Tampa\, FL\, 33618\, United States
ATTACH;FMTTYPE=image/png:https://www.tatosalsa.com/wp-content/uploads/2024/12/Newclassflyerfeb2025.png
END:VEVENT
BEGIN:VEVENT
DTSTART;TZID=America/New_York:20250323T150000
DTEND;TZID=America/New_York:20250323T200000
DTSTAMP:20260422T182514
CREATED:20250224T151513Z
LAST-MODIFIED:20250319T141726Z
UID:7248-1742742000-1742760000@www.tatosalsa.com
SUMMARY:Sunday de Sabrosura Dance Social
DESCRIPTION:Join us March 23rd for your favorite social. Tampa’s longest running\, original afternoon dance Sunday social. THANK YOU for keeping the passion for dance alive. Our Baila Tampa sponsor\, we will be raffling off a party pass for the Baila Tampa Dance Festival May 1-4th!!!\nJoin us for an afternoon of dancing at your favorite Sunday social in the heart of Ybor City\, this month’s dance class is Orlando’s very own Amy Dominguez. Come dance with us!\nPLEASE NOTE THE FOLLOWING:\n– No children will be allowed\, no exceptions– Must be 18 to enter event– If you are feeling under the weather and have COVID like symptoms\, please stay home.DISCLAIMER: ***Attend and dance at your own risk. TaToSalsa Inc\, its owners and staff\, La Herencia de Ybor\, its owner and staff will not be held liable for any sickness\, or injuries that may arise while attending this event. ***Sunday de Sabrosura social is normally held once a month typically every 4th Sunday of the month in the heart of Ybor city at La Herencia de Ybor. It has grown to be Tampa’s favorite afternoon social\, where you’ll find the best mojitos and sangrias here. Let’s not forget great music with an awesome afternoon vibe!\nTaTo Salsa Students $10 | General Admission $15Music By: Mambo TribeDance Lesson: Amy Dominguez\nParking is available in the lot behind the venue; HOWEVER\, YOU MUST PAY THE METER. We have noticed the rate has increased\, please consider parking across the street\, or in the lots on the adjacent sides of La Herencia\, they are cheaper. There is free street parking available in some areas\, please read the signs.\nThank you\,\nTaToSalsa\nATTENTION NEW ATTENDEES:\nADDRESS IS 1817 E 7TH AVE TAMPA\, FL\, 33605
URL:https://www.tatosalsa.com/event/sunday-de-sabrosura-dance-social-27/
LOCATION:Tato Salsa Studio\, 2901 W. Busch Blvd\, Suite 1024\, Tampa\, FL\, 33618\, United States
ATTACH;FMTTYPE=image/jpeg:https://www.tatosalsa.com/wp-content/uploads/2025/02/485063671_1378132250276125_5706807259892607181_n.jpg
END:VEVENT
BEGIN:VEVENT
DTSTART;TZID=America/New_York:20250324T183000
DTEND;TZID=America/New_York:20250324T220000
DTSTAMP:20260422T182514
CREATED:20250130T014317Z
LAST-MODIFIED:20250224T143345Z
UID:7211-1742841000-1742853600@www.tatosalsa.com
SUMMARY:TaToSalsa - Salsa beginner course and regular classes
DESCRIPTION:Our 6 weeks beginner course is currently CLOSED due to enrollment. Please be sure to sign up for our upcoming new 6 weeks beginner course starting March 31st. \nPlease note: If you’ve never taken formal classes at a studio before\, you will need to start with our beginner course. Those students that have taken formal classes will need to do a “test-in” to join our advance beginner level class. \nFor all our other levels\, is class as usual! \nSchedule is as follows: \n*6 weeks beginner course – 7pm-8pm – CLOSED \n*Advance beginner class – 7pm – 8pm – OPEN \n*Intermediate class – 8:15pm to 9:15pm – OPEN \n*Advance Intermediate class – 8:30pm to 9:30pm – OPEN \n-SHOES- \nNEW STUDENTS: Tennis shoes/ Street shoes/flats/ comfortable indoor shoes (NO FLIP FLOPS OR SANDALS) \nINTERMEDIATE/ADVANCE STUDENTS: Dance Shoes \n*NOTE* \nADULT CLASS (18+) \nCOURSE vs CLASS: 6 weeks beginner course has a starting date and ending date | A CLASS – Ongoing and it doesn’t have a starting or ending date. A student can join a class at anytime and doesn’t have to wait for a starting date as it’s an ongoing class (a syllabus is used in a class and it recycles through the material for that level).
URL:https://www.tatosalsa.com/event/tatosalsa-salsa-beginner-course-and-regular-classes-21/
LOCATION:Tato Salsa Studio\, 2901 W. Busch Blvd\, Suite 1024\, Tampa\, FL\, 33618\, United States
ATTACH;FMTTYPE=image/png:https://www.tatosalsa.com/wp-content/uploads/2024/12/Newclassflyerfeb2025.png
END:VEVENT
BEGIN:VEVENT
DTSTART;TZID=America/New_York:20250325T193000
DTEND;TZID=America/New_York:20250325T220000
DTSTAMP:20260422T182514
CREATED:20250130T014752Z
LAST-MODIFIED:20250130T014752Z
UID:7217-1742931000-1742940000@www.tatosalsa.com
SUMMARY:TaToSalsa - Salsa On2 course and regular classes
DESCRIPTION:Our current 6 weeks beginner course is CLOSED. If you’re a new student and would like to get started\, you can join our upcoming new 6 weeks course starting April 1st. Register today to reserve your spot! \nPlease note: If you’ve never taken formal classes at a studio before\, you will need to start with our beginner course. Those students that have taken formal classes will need to do a “test-in” to join our advance beginner level class. \nFor all our other levels\, is class as usual! \nSchedule is as follows: \n*6 weeks beginner course – 7:30pm – 8:30pm \n*Advance beginner class – 7:30pm – 8:30pm \n*Intermediate class – 8:30pm to 9:30pm \n-SHOES- \nNEW STUDENTS: Tennis shoes/ Street shoes/flats/ comfortable indoor shoes (NO FLIP FLOPS OR SANDALS) \nINTERMEDIATE/ADVANCE STUDENTS: Dance Shoes \n*NOTE* \nADULT CLASS (18+) \nCOURSE vs CLASS: 6 weeks beginner course has a starting date and ending date | A CLASS – Ongoing and it doesn’t have a starting or ending date. A student can join a class at anytime and doesn’t have to wait for a starting date as it’s an ongoing class (a syllabus is used in a class and it recycles through the material for that level).
URL:https://www.tatosalsa.com/event/tatosalsa-salsa-on2-course-and-regular-classes-2/
LOCATION:Tato Salsa Studio\, 2901 W. Busch Blvd\, Suite 1024\, Tampa\, FL\, 33618\, United States
ATTACH;FMTTYPE=image/png:https://www.tatosalsa.com/wp-content/uploads/2024/12/Newclassflyerfeb2025.png
END:VEVENT
BEGIN:VEVENT
DTSTART;TZID=America/New_York:20250326T190000
DTEND;TZID=America/New_York:20250326T220000
DTSTAMP:20260422T182514
CREATED:20250130T015222Z
LAST-MODIFIED:20250130T015222Z
UID:7224-1743015600-1743026400@www.tatosalsa.com
SUMMARY:TaToSalsa - Bachata beginner course and regular classes
DESCRIPTION:Our current 6 weeks beginner course is CLOSED. If you’re a new student and would like to get started\, you can join our upcoming new 6 weeks course starting April 2nd. Register today to reserve your spot! \nPlease note: If you’ve never taken formal classes at a studio before\, you will need to start with our beginner course. Those students that have taken formal classes will need to do a “test-in” to join our advance beginner level class. \nFor all our other levels\, is class as usual! \nSchedule is as follows: \n*6 weeks beginner course – 6:30pm-7:30pm \n*Advance beginner class – 7:30pm to 8:30pm \n*Intermediate class – 8:30pm to 9:30pm | Advance Intermediate class – 8:30pm to 9:30pm \n-SHOES- \nNEW STUDENTS: Tennis shoes/ Street shoes/flats/ comfortable indoor shoes (NO FLIP FLOPS OR SANDALS) \nINTERMEDIATE/ADVANCE STUDENTS: Dance Shoes \n*NOTE* \nADULT CLASS (18+) \nCOURSE vs CLASS: 6 weeks beginner course has a starting date and ending date | A CLASS – Ongoing and it doesn’t have a starting or ending date. A student can join a class at anytime and doesn’t have to wait for a starting date as it’s an ongoing class (a syllabus is used in a class and it recycles through the material for that level).
URL:https://www.tatosalsa.com/event/tatosalsa-bachata-beginner-course-and-regular-classes-28/
LOCATION:Tato Salsa Studio\, 2901 W. Busch Blvd\, Suite 1024\, Tampa\, FL\, 33618\, United States
ATTACH;FMTTYPE=image/png:https://www.tatosalsa.com/wp-content/uploads/2024/12/Newclassflyerfeb2025.png
END:VEVENT
BEGIN:VEVENT
DTSTART;TZID=America/New_York:20250331T183000
DTEND;TZID=America/New_York:20250331T220000
DTSTAMP:20260422T182514
CREATED:20250313T101538Z
LAST-MODIFIED:20250313T113505Z
UID:7254-1743445800-1743458400@www.tatosalsa.com
SUMMARY:NEW 6 WEEKS BEGINNER SALSA COURSE STARTING TONIGHT
DESCRIPTION:Join us for our NEW 6 weeks beginner course starting tonight at 6:30pm. Please be sure to arrive a little early to settle and also go through our registration process. Please register for this course online. \nPlease note: If you’ve never taken formal classes at a studio before\, you will need to start with our beginner course. Those students that have taken formal classes will need to do a “test-in” to join our advance beginner level class. \nFor all our other levels\, is class as usual! \nSchedule is as follows: \n*6 weeks beginner course – 6:30pm-7:30pm \n*Advance beginner class – 7:30pm – 8:30pm \n*Intermediate class – 8:30pm to 9:30pm \n*Advance Intermediate class – 8:30pm to 9:30pm \n-SHOES- \nNEW STUDENTS: Tennis shoes/ Street shoes/flats/ comfortable indoor shoes (NO FLIP FLOPS OR SANDALS) \nINTERMEDIATE/ADVANCE STUDENTS: Dance Shoes \n*NOTE* \nADULT CLASS (18+) \nCOURSE vs CLASS: 6 weeks beginner course has a starting date and ending date | A CLASS – Ongoing and it doesn’t have a starting or ending date. A student can join a class at anytime and doesn’t have to wait for a starting date as it’s an ongoing class (a syllabus is used in a class and it recycles through the material for that level).
URL:https://www.tatosalsa.com/event/new-6-weeks-beginner-salsa-course-starting-tonight/
LOCATION:Tato Salsa Studio\, 2901 W. Busch Blvd\, Suite 1024\, Tampa\, FL\, 33618\, United States
CATEGORIES:Salsa,Social
ATTACH;FMTTYPE=image/png:https://www.tatosalsa.com/wp-content/uploads/2025/03/newclassflyer.png
END:VEVENT
END:VCALENDAR