BEGIN:VCALENDAR
VERSION:2.0
PRODID:-//Tampa Salsa Lessons | Clases de Salsa - ECPv6.15.20//NONSGML v1.0//EN
CALSCALE:GREGORIAN
METHOD:PUBLISH
X-WR-CALNAME:Tampa Salsa Lessons | Clases de Salsa
X-ORIGINAL-URL:https://www.tatosalsa.com
X-WR-CALDESC:Events for Tampa Salsa Lessons | Clases de Salsa
REFRESH-INTERVAL;VALUE=DURATION:PT1H
X-Robots-Tag:noindex
X-PUBLISHED-TTL:PT1H
BEGIN:VTIMEZONE
TZID:America/New_York
BEGIN:DAYLIGHT
TZOFFSETFROM:-0500
TZOFFSETTO:-0400
TZNAME:EDT
DTSTART:20230312T070000
END:DAYLIGHT
BEGIN:STANDARD
TZOFFSETFROM:-0400
TZOFFSETTO:-0500
TZNAME:EST
DTSTART:20231105T060000
END:STANDARD
BEGIN:DAYLIGHT
TZOFFSETFROM:-0500
TZOFFSETTO:-0400
TZNAME:EDT
DTSTART:20240310T070000
END:DAYLIGHT
BEGIN:STANDARD
TZOFFSETFROM:-0400
TZOFFSETTO:-0500
TZNAME:EST
DTSTART:20241103T060000
END:STANDARD
BEGIN:DAYLIGHT
TZOFFSETFROM:-0500
TZOFFSETTO:-0400
TZNAME:EDT
DTSTART:20250309T070000
END:DAYLIGHT
BEGIN:STANDARD
TZOFFSETFROM:-0400
TZOFFSETTO:-0500
TZNAME:EST
DTSTART:20251102T060000
END:STANDARD
END:VTIMEZONE
BEGIN:VEVENT
DTSTART;TZID=America/New_York:20241202T193000
DTEND;TZID=America/New_York:20241202T220000
DTSTAMP:20260422T045142
CREATED:20241112T010513Z
LAST-MODIFIED:20241112T010513Z
UID:7044-1733167800-1733176800@www.tatosalsa.com
SUMMARY:TaToSalsa - Salsa classes
DESCRIPTION:Our upcoming new 6 weeks beginner course is scheduled to start on January 6th. Please register to reserve your spot for this course. \nFor all our other levels\, is class as usual! \nSchedule is as follows: \n*Advance Salsa beginner class – 7:30pm to 8:30pm \n*Intermediate Salsa level 1 class – 8:30pm to 9:30pm \n*Intermediate Salsa level 2 class – 8:30pm to 9:30pm \n-SHOES- \nNEW STUDENTS: Tennis shoes/ Street shoes/flats/ comfortable indoor shoes (NO FLIP FLOPS OR SANDALS) \nINTERMEDIATE/ADVANCE STUDENTS: Dance Shoes \n*NOTE* \nADULT CLASS (18+) \nCOURSE vs CLASS: 6 weeks beginner course has a starting date and ending date | A CLASS – Ongoing and it doesn’t have a starting or ending date. A student can join a class at anytime and doesn’t have to wait for a starting date as it’s an ongoing class (a syllabus is used in a class and it recycles through the material for that level).
URL:https://www.tatosalsa.com/event/tatosalsa-salsa-classes/
LOCATION:Tato Salsa Studio\, 2901 W. Busch Blvd\, Suite 1024\, Tampa\, FL\, 33618\, United States
END:VEVENT
BEGIN:VEVENT
DTSTART;TZID=America/New_York:20241203T193000
DTEND;TZID=America/New_York:20241203T220000
DTSTAMP:20260422T045142
CREATED:20241112T011002Z
LAST-MODIFIED:20241112T011002Z
UID:7046-1733254200-1733263200@www.tatosalsa.com
SUMMARY:TaToSalsa - Salsa On2 (Mambo) classes
DESCRIPTION:Our new 6 weeks beginner course is scheduled to start on January 7th\, 2025. If you’re a new student and would like to join\, please be sure to register and reserve your spot. \nFor all our other levels\, is class as usual! \nSchedule is as follows: \n*Advance beginner Salsa On2 class – 7:30pm to 8:30pm \n*Intermediate Salsa On2 class – 8:30pm to 9:30pm \n-SHOES- \nNEW STUDENTS: Tennis shoes/ Street shoes/flats/ comfortable indoor shoes (NO FLIP FLOPS OR SANDALS) \nINTERMEDIATE/ADVANCE STUDENTS: Dance Shoes \n*NOTE* \nADULT CLASS (18+) \nCOURSE vs CLASS: 6 weeks beginner course has a starting date and ending date | A CLASS – Ongoing and it doesn’t have a starting or ending date. A student can join a class at anytime and doesn’t have to wait for a starting date as it’s an ongoing class (a syllabus is used in a class and it recycles through the material for that level).
URL:https://www.tatosalsa.com/event/tatosalsa-salsa-on2-mambo-classes/
LOCATION:Tato Salsa Studio\, 2901 W. Busch Blvd\, Suite 1024\, Tampa\, FL\, 33618\, United States
END:VEVENT
BEGIN:VEVENT
DTSTART;TZID=America/New_York:20241204T190000
DTEND;TZID=America/New_York:20241204T220000
DTSTAMP:20260422T045142
CREATED:20241112T011313Z
LAST-MODIFIED:20241112T011313Z
UID:7049-1733338800-1733349600@www.tatosalsa.com
SUMMARY:TaToSalsa - Bachata classes
DESCRIPTION:Our upcoming new 6 weeks beginner course is scheduled to start on January 8th. Please register to reserve your spot. \nFor all our other levels\, is class as usual! \nSchedule is as follows: \n*Advance Bachata beginner class – 7pm to 8pm \n*Intermediate Level 1 and Level 2 Bachata class – 8:15pm to 9:15pm \n-SHOES- \nNEW STUDENTS: Tennis shoes/ Street shoes/flats/ comfortable indoor shoes (NO FLIP FLOPS OR SANDALS) \nINTERMEDIATE/ADVANCE STUDENTS: Dance Shoes \n*NOTE* \nADULT CLASS (18+) \nCOURSE vs CLASS: 6 weeks beginner course has a starting date and ending date | A CLASS – Ongoing and it doesn’t have a starting or ending date. A student can join a class at anytime and doesn’t have to wait for a starting date as it’s an ongoing class (a syllabus is used in a class and it recycles through the material for that level).
URL:https://www.tatosalsa.com/event/tatosalsa-bachata-classes-2/
LOCATION:Tato Salsa Studio\, 2901 W. Busch Blvd\, Suite 1024\, Tampa\, FL\, 33618\, United States
END:VEVENT
BEGIN:VEVENT
DTSTART;TZID=America/New_York:20241209T193000
DTEND;TZID=America/New_York:20241209T220000
DTSTAMP:20260422T045142
CREATED:20241112T011638Z
LAST-MODIFIED:20241112T011638Z
UID:7051-1733772600-1733781600@www.tatosalsa.com
SUMMARY:TaToSalsa - Salsa Classes
DESCRIPTION:Our upcoming new 6 weeks beginner course is scheduled to start on January 6th. Please register to reserve your spot for this course. \nFor all our other levels\, is class as usual! \nSchedule is as follows: \n*Advance Salsa beginner class – 7:30pm to 8:30pm \n*Intermediate Salsa level 1 class – 8:30pm to 9:30pm \n*Intermediate Salsa level 2 class – 8:30pm to 9:30pm \n-SHOES- \nNEW STUDENTS: Tennis shoes/ Street shoes/flats/ comfortable indoor shoes (NO FLIP FLOPS OR SANDALS) \nINTERMEDIATE/ADVANCE STUDENTS: Dance Shoes \n*NOTE* \nADULT CLASS (18+) \nCOURSE vs CLASS: 6 weeks beginner course has a starting date and ending date | A CLASS – Ongoing and it doesn’t have a starting or ending date. A student can join a class at anytime and doesn’t have to wait for a starting date as it’s an ongoing class (a syllabus is used in a class and it recycles through the material for that level).
URL:https://www.tatosalsa.com/event/tatosalsa-salsa-classes-2/
LOCATION:Tato Salsa Studio\, 2901 W. Busch Blvd\, Suite 1024\, Tampa\, FL\, 33618\, United States
END:VEVENT
BEGIN:VEVENT
DTSTART;TZID=America/New_York:20241210T193000
DTEND;TZID=America/New_York:20241210T220000
DTSTAMP:20260422T045142
CREATED:20241112T011853Z
LAST-MODIFIED:20241112T011853Z
UID:7055-1733859000-1733868000@www.tatosalsa.com
SUMMARY:TaToSalsa - Salsa On2 (Mambo) Classes
DESCRIPTION:Our new 6 weeks beginner course is scheduled to start on January 7th\, 2025. If you’re a new student and would like to join\, please be sure to register and reserve your spot. \nFor all our other levels\, is class as usual! \nSchedule is as follows: \n*Advance beginner Salsa On2 class – 7:30pm to 8:30pm \n*Intermediate Salsa On2 class – 8:30pm to 9:30pm \n-SHOES- \nNEW STUDENTS: Tennis shoes/ Street shoes/flats/ comfortable indoor shoes (NO FLIP FLOPS OR SANDALS) \nINTERMEDIATE/ADVANCE STUDENTS: Dance Shoes \n*NOTE* \nADULT CLASS (18+) \nCOURSE vs CLASS: 6 weeks beginner course has a starting date and ending date | A CLASS – Ongoing and it doesn’t have a starting or ending date. A student can join a class at anytime and doesn’t have to wait for a starting date as it’s an ongoing class (a syllabus is used in a class and it recycles through the material for that level).
URL:https://www.tatosalsa.com/event/tatosalsa-salsa-on2-mambo-classes-2/
LOCATION:Tato Salsa Studio\, 2901 W. Busch Blvd\, Suite 1024\, Tampa\, FL\, 33618\, United States
END:VEVENT
BEGIN:VEVENT
DTSTART;TZID=America/New_York:20241211T190000
DTEND;TZID=America/New_York:20241211T220000
DTSTAMP:20260422T045142
CREATED:20241112T012200Z
LAST-MODIFIED:20241112T012200Z
UID:7059-1733943600-1733954400@www.tatosalsa.com
SUMMARY:TaToSalsa - Bachata Classes
DESCRIPTION:Our upcoming new 6 weeks beginner course is scheduled to start on January 8th. Please register to reserve your spot. \nFor all our other levels\, is class as usual! \nSchedule is as follows: \n*Advance Bachata beginner class – 7pm to 8pm \n*Intermediate Level 1 and Level 2 Bachata class – 8:15pm to 9:15pm \n-SHOES- \nNEW STUDENTS: Tennis shoes/ Street shoes/flats/ comfortable indoor shoes (NO FLIP FLOPS OR SANDALS) \nINTERMEDIATE/ADVANCE STUDENTS: Dance Shoes \n*NOTE* \nADULT CLASS (18+) \nCOURSE vs CLASS: 6 weeks beginner course has a starting date and ending date | A CLASS – Ongoing and it doesn’t have a starting or ending date. A student can join a class at anytime and doesn’t have to wait for a starting date as it’s an ongoing class (a syllabus is used in a class and it recycles through the material for that level).
URL:https://www.tatosalsa.com/event/tatosalsa-bachata-classes-3/
LOCATION:Tato Salsa Studio\, 2901 W. Busch Blvd\, Suite 1024\, Tampa\, FL\, 33618\, United States
END:VEVENT
BEGIN:VEVENT
DTSTART;TZID=America/New_York:20241213T200000
DTEND;TZID=America/New_York:20241214T010000
DTSTAMP:20260422T045142
CREATED:20241112T012942Z
LAST-MODIFIED:20241112T012942Z
UID:7063-1734120000-1734138000@www.tatosalsa.com
SUMMARY:TATOSALSA CHRISTMAS DANCE SOCIAL
DESCRIPTION:Join us for our amazing and exciting Christmas Dance Social. More info coming soon!
URL:https://www.tatosalsa.com/event/tatosalsa-christmas-dance-social-2/
LOCATION:Tato Salsa Studio\, 2901 W. Busch Blvd\, Suite 1024\, Tampa\, FL\, 33618\, United States
END:VEVENT
BEGIN:VEVENT
DTSTART;TZID=America/New_York:20241216T193000
DTEND;TZID=America/New_York:20241216T220000
DTSTAMP:20260422T045142
CREATED:20241112T011730Z
LAST-MODIFIED:20241112T011730Z
UID:7053-1734377400-1734386400@www.tatosalsa.com
SUMMARY:TaToSalsa - Salsa Classes
DESCRIPTION:Our upcoming new 6 weeks beginner course is scheduled to start on January 6th. Please register to reserve your spot for this course. \nFor all our other levels\, is class as usual! \nSchedule is as follows: \n*Advance Salsa beginner class – 7:30pm to 8:30pm \n*Intermediate Salsa level 1 class – 8:30pm to 9:30pm \n*Intermediate Salsa level 2 class – 8:30pm to 9:30pm \n-SHOES- \nNEW STUDENTS: Tennis shoes/ Street shoes/flats/ comfortable indoor shoes (NO FLIP FLOPS OR SANDALS) \nINTERMEDIATE/ADVANCE STUDENTS: Dance Shoes \n*NOTE* \nADULT CLASS (18+) \nCOURSE vs CLASS: 6 weeks beginner course has a starting date and ending date | A CLASS – Ongoing and it doesn’t have a starting or ending date. A student can join a class at anytime and doesn’t have to wait for a starting date as it’s an ongoing class (a syllabus is used in a class and it recycles through the material for that level).
URL:https://www.tatosalsa.com/event/tatosalsa-salsa-classes-3/
LOCATION:Tato Salsa Studio\, 2901 W. Busch Blvd\, Suite 1024\, Tampa\, FL\, 33618\, United States
END:VEVENT
BEGIN:VEVENT
DTSTART;TZID=America/New_York:20241217T193000
DTEND;TZID=America/New_York:20241217T220000
DTSTAMP:20260422T045142
CREATED:20241112T012001Z
LAST-MODIFIED:20241112T012001Z
UID:7057-1734463800-1734472800@www.tatosalsa.com
SUMMARY:TaToSalsa - Salsa On2 (Mambo) Classes
DESCRIPTION:Our new 6 weeks beginner course is scheduled to start on January 7th\, 2025. If you’re a new student and would like to join\, please be sure to register and reserve your spot. \nFor all our other levels\, is class as usual! \nSchedule is as follows: \n*Advance beginner Salsa On2 class – 7:30pm to 8:30pm \n*Intermediate Salsa On2 class – 8:30pm to 9:30pm \n-SHOES- \nNEW STUDENTS: Tennis shoes/ Street shoes/flats/ comfortable indoor shoes (NO FLIP FLOPS OR SANDALS) \nINTERMEDIATE/ADVANCE STUDENTS: Dance Shoes \n*NOTE* \nADULT CLASS (18+) \nCOURSE vs CLASS: 6 weeks beginner course has a starting date and ending date | A CLASS – Ongoing and it doesn’t have a starting or ending date. A student can join a class at anytime and doesn’t have to wait for a starting date as it’s an ongoing class (a syllabus is used in a class and it recycles through the material for that level).
URL:https://www.tatosalsa.com/event/tatosalsa-salsa-on2-mambo-classes-3/
LOCATION:Tato Salsa Studio\, 2901 W. Busch Blvd\, Suite 1024\, Tampa\, FL\, 33618\, United States
END:VEVENT
BEGIN:VEVENT
DTSTART;TZID=America/New_York:20241218T190000
DTEND;TZID=America/New_York:20241218T220000
DTSTAMP:20260422T045142
CREATED:20241112T012250Z
LAST-MODIFIED:20241112T012250Z
UID:7061-1734548400-1734559200@www.tatosalsa.com
SUMMARY:TaToSalsa - Bachata Classes
DESCRIPTION:Our upcoming new 6 weeks beginner course is scheduled to start on January 8th. Please register to reserve your spot. \nFor all our other levels\, is class as usual! \nSchedule is as follows: \n*Advance Bachata beginner class – 7pm to 8pm \n*Intermediate Level 1 and Level 2 Bachata class – 8:15pm to 9:15pm \n-SHOES- \nNEW STUDENTS: Tennis shoes/ Street shoes/flats/ comfortable indoor shoes (NO FLIP FLOPS OR SANDALS) \nINTERMEDIATE/ADVANCE STUDENTS: Dance Shoes \n*NOTE* \nADULT CLASS (18+) \nCOURSE vs CLASS: 6 weeks beginner course has a starting date and ending date | A CLASS – Ongoing and it doesn’t have a starting or ending date. A student can join a class at anytime and doesn’t have to wait for a starting date as it’s an ongoing class (a syllabus is used in a class and it recycles through the material for that level).
URL:https://www.tatosalsa.com/event/tatosalsa-bachata-classes-4/
LOCATION:Tato Salsa Studio\, 2901 W. Busch Blvd\, Suite 1024\, Tampa\, FL\, 33618\, United States
END:VEVENT
BEGIN:VEVENT
DTSTART;TZID=America/New_York:20241222T150000
DTEND;TZID=America/New_York:20241222T200000
DTSTAMP:20260422T045142
CREATED:20241112T013140Z
LAST-MODIFIED:20241112T013140Z
UID:7065-1734879600-1734897600@www.tatosalsa.com
SUMMARY:SUNDAY DE SABROSURA DANCE SOCIAL
DESCRIPTION:Join us as we celebrate our 10yrs anniversary of this amazing social. More info coming soon!
URL:https://www.tatosalsa.com/event/sunday-de-sabrosura-dance-social-25/
LOCATION:Herencia de Ybor\, 1817 E 7th ave. \, Tampa\, FL\, 33605\, United States
END:VEVENT
BEGIN:VEVENT
DTSTART;VALUE=DATE:20241223
DTEND;VALUE=DATE:20241224
DTSTAMP:20260422T045142
CREATED:20241123T201933Z
LAST-MODIFIED:20241123T201933Z
UID:7080-1734912000-1734998399@www.tatosalsa.com
SUMMARY:Studio is closed!
DESCRIPTION:The studio is closed for the Christmas Holidays. We wish everyone a Merry Christmas and a Happy New Year!
URL:https://www.tatosalsa.com/event/studio-is-closed-9/
LOCATION:Tato Salsa Studio\, 2901 W. Busch Blvd\, Suite 1024\, Tampa\, FL\, 33618\, United States
END:VEVENT
BEGIN:VEVENT
DTSTART;VALUE=DATE:20241224
DTEND;VALUE=DATE:20241225
DTSTAMP:20260422T045142
CREATED:20241123T201756Z
LAST-MODIFIED:20241123T201756Z
UID:7076-1734998400-1735084799@www.tatosalsa.com
SUMMARY:Studio is closed!
DESCRIPTION:The studio is closed for the Christmas Holidays. We wish everyone a Merry Christmas and a Happy New Year!
URL:https://www.tatosalsa.com/event/studio-is-closed-7/
LOCATION:Tato Salsa Studio\, 2901 W. Busch Blvd\, Suite 1024\, Tampa\, FL\, 33618\, United States
END:VEVENT
BEGIN:VEVENT
DTSTART;VALUE=DATE:20241225
DTEND;VALUE=DATE:20241226
DTSTAMP:20260422T045142
CREATED:20241123T201840Z
LAST-MODIFIED:20241123T201840Z
UID:7078-1735084800-1735171199@www.tatosalsa.com
SUMMARY:Studio is closed!
DESCRIPTION:The studio is closed for the Christmas Holidays. We wish everyone a Merry Christmas and a Happy New Year!
URL:https://www.tatosalsa.com/event/studio-is-closed-8/
LOCATION:Tato Salsa Studio\, 2901 W. Busch Blvd\, Suite 1024\, Tampa\, FL\, 33618\, United States
END:VEVENT
BEGIN:VEVENT
DTSTART;VALUE=DATE:20241230
DTEND;VALUE=DATE:20241231
DTSTAMP:20260422T045142
CREATED:20241123T202034Z
LAST-MODIFIED:20241123T202034Z
UID:7082-1735516800-1735603199@www.tatosalsa.com
SUMMARY:Studio is closed!
DESCRIPTION:The studio is closed for the Christmas Holidays. We wish everyone a Merry Christmas and a Happy New Year!
URL:https://www.tatosalsa.com/event/studio-is-closed-10/
LOCATION:Tato Salsa Studio\, 2901 W. Busch Blvd\, Suite 1024\, Tampa\, FL\, 33618\, United States
END:VEVENT
BEGIN:VEVENT
DTSTART;VALUE=DATE:20241231
DTEND;VALUE=DATE:20250101
DTSTAMP:20260422T045142
CREATED:20241123T202119Z
LAST-MODIFIED:20241123T202119Z
UID:7085-1735603200-1735689599@www.tatosalsa.com
SUMMARY:Studio is closed!
DESCRIPTION:The studio is closed for the Christmas Holidays. We wish everyone a Merry Christmas and a Happy New Year!
URL:https://www.tatosalsa.com/event/studio-is-closed-11/
LOCATION:Tato Salsa Studio\, 2901 W. Busch Blvd\, Suite 1024\, Tampa\, FL\, 33618\, United States
END:VEVENT
END:VCALENDAR