BEGIN:VCALENDAR
VERSION:2.0
PRODID:-//Tampa Salsa Lessons | Clases de Salsa - ECPv6.15.20//NONSGML v1.0//EN
CALSCALE:GREGORIAN
METHOD:PUBLISH
X-WR-CALNAME:Tampa Salsa Lessons | Clases de Salsa
X-ORIGINAL-URL:https://www.tatosalsa.com
X-WR-CALDESC:Events for Tampa Salsa Lessons | Clases de Salsa
REFRESH-INTERVAL;VALUE=DURATION:PT1H
X-Robots-Tag:noindex
X-PUBLISHED-TTL:PT1H
BEGIN:VTIMEZONE
TZID:America/New_York
BEGIN:DAYLIGHT
TZOFFSETFROM:-0500
TZOFFSETTO:-0400
TZNAME:EDT
DTSTART:20230312T070000
END:DAYLIGHT
BEGIN:STANDARD
TZOFFSETFROM:-0400
TZOFFSETTO:-0500
TZNAME:EST
DTSTART:20231105T060000
END:STANDARD
BEGIN:DAYLIGHT
TZOFFSETFROM:-0500
TZOFFSETTO:-0400
TZNAME:EDT
DTSTART:20240310T070000
END:DAYLIGHT
BEGIN:STANDARD
TZOFFSETFROM:-0400
TZOFFSETTO:-0500
TZNAME:EST
DTSTART:20241103T060000
END:STANDARD
BEGIN:DAYLIGHT
TZOFFSETFROM:-0500
TZOFFSETTO:-0400
TZNAME:EDT
DTSTART:20250309T070000
END:DAYLIGHT
BEGIN:STANDARD
TZOFFSETFROM:-0400
TZOFFSETTO:-0500
TZNAME:EST
DTSTART:20251102T060000
END:STANDARD
END:VTIMEZONE
BEGIN:VEVENT
DTSTART;TZID=America/New_York:20241001T193000
DTEND;TZID=America/New_York:20241001T220000
DTSTAMP:20260421T201440
CREATED:20240901T012740Z
LAST-MODIFIED:20240909T133550Z
UID:6935-1727811000-1727820000@www.tatosalsa.com
SUMMARY:NEW 6 WEEKS BEGINNER SALSA ON2 (MAMBO) COURSE STARTS TODAY!
DESCRIPTION:Today is the starting day of our new 6 weeks Salsa On2 (Mambo) beginner course. If you’re a formal student\, make sure to purchase your class package for the advance beginner Salsa On2 classes (check out the class package page on the site). Cost for the beginner course is $60 (New students). \nREGISTER TODAY! \nIf you’re a formal student or a new student who’s taken formal classes in the past\, you can join the classes at any point. \nFor all our other levels\, is class as usual! \nSchedule is as follows: \n*6 weeks beginner course – 7:30pm–8:30pm \n*Advance beginner class – 7:30pm to 8:30pm \n*Intermediate class – 8:45pm to 9:45pm \n-SHOES- \nNEW STUDENTS: Tennis shoes/ Street shoes/flats/ comfortable indoor shoes (NO FLIP FLOPS OR SANDALS) \nINTERMEDIATE/ADVANCE STUDENTS: Dance Shoes \n*NOTE* \nADULT CLASS (18+) \nCOURSE vs CLASS: 4 weeks beginner course has a starting date and ending date | A CLASS – Ongoing and it doesn’t have a starting or ending date. A student can join a class at anytime and doesn’t have to wait for a starting date as it’s an ongoing class (a syllabus is used in a class and it recycles through the material for that level).
URL:https://www.tatosalsa.com/event/new-6-weeks-beginner-salsa-on2-mambo-course-starts-today/
LOCATION:Tato Salsa Studio\, 2901 W. Busch Blvd\, Suite 1024\, Tampa\, FL\, 33618\, United States
ATTACH;FMTTYPE=image/png:https://www.tatosalsa.com/wp-content/uploads/2024/08/newclassflyersep2025.png
END:VEVENT
BEGIN:VEVENT
DTSTART;TZID=America/New_York:20241002T190000
DTEND;TZID=America/New_York:20241002T220000
DTSTAMP:20260421T201440
CREATED:20240901T013054Z
LAST-MODIFIED:20240909T133648Z
UID:6937-1727895600-1727906400@www.tatosalsa.com
SUMMARY:NEW 6 WEEKS BEGINNER BACHATA COURSE STARTS TODAY!
DESCRIPTION:Today is the starting day of our new 6 weeks Bachata beginner course. If you’re a formal student\, make sure to purchase your class package for the advance beginner Bachata classes (check out the class package page on the site). Cost for the beginner course is $60 (New students). \nREGISTER TODAY! \nIf you’re a formal student or a new student who’s taken formal classes in the past\, you can join the classes at any point. \nFor all our other levels\, is class as usual! \nSchedule is as follows: \n*6 weeks beginner course – 7pm–8pm \n*Advance beginner class – 7pm to 8pm \n*Intermediate class – 8:15pm to 9:15pm | Intermediate 2/Advance class – 8:15pm to 9:15pm \n-SHOES- \nNEW STUDENTS: Tennis shoes/ Street shoes/flats/ comfortable indoor shoes (NO FLIP FLOPS OR SANDALS) \nINTERMEDIATE/ADVANCE STUDENTS: Dance Shoes \n*NOTE* \nADULT CLASSES (18+) \nCOURSE vs CLASS: 4 weeks beginner course has a starting date and ending date | A CLASS – Ongoing and it doesn’t have a starting or ending date. A student can join a class at anytime and doesn’t have to wait for a starting date as it’s an ongoing class (a syllabus is used in a class and it recycles through the material for that level).
URL:https://www.tatosalsa.com/event/new-6-weeks-beginner-bachata-course-starts-today/
LOCATION:Tato Salsa Studio\, 2901 W. Busch Blvd\, Suite 1024\, Tampa\, FL\, 33618\, United States
ATTACH;FMTTYPE=image/png:https://www.tatosalsa.com/wp-content/uploads/2024/08/newclassflyersep2025.png
END:VEVENT
BEGIN:VEVENT
DTSTART;VALUE=DATE:20241007
DTEND;VALUE=DATE:20241008
DTSTAMP:20260421T201440
CREATED:20240911T222131Z
LAST-MODIFIED:20241006T182949Z
UID:6952-1728259200-1728345599@www.tatosalsa.com
SUMMARY:CLASSES CANCELED DUE TO HURRICANE MILTON
DESCRIPTION:If you happen to miss our first week of our 6 weeks beginner course\, it’s okay! You can join us tonight for the remaining 5 weeks. Cost for the 5 weeks is $60. \nFor all our other levels\, is class as usual! \nSchedule is as follows: \n*Salsa beginner course – 6:30pm to 7:30pm \n*Advance Salsa beginner class – 7:30pm to 8:30pm \n*Intermediate Salsa level 1 class – 8:30pm to 9:30pm \n*Intermediate Salsa level 2 class – 8:30pm to 9:30pm \n-SHOES- \nNEW STUDENTS: Tennis shoes/ Street shoes/flats/ comfortable indoor shoes (NO FLIP FLOPS OR SANDALS) \nINTERMEDIATE/ADVANCE STUDENTS: Dance Shoes \n*NOTE* \nADULT CLASSES (+18) \nCOURSE vs CLASS: 6 weeks beginner course has a starting date and ending date | A CLASS – Ongoing and it doesn’t have a starting or ending date. A student can join a class at anytime and doesn’t have to wait for a starting date as it’s an ongoing class (a syllabus is used in a class and it recycles through the material for that level).
URL:https://www.tatosalsa.com/event/tatosalsa-new-6-weeks-beginner-salsa-course-and-regular-classes-6/
LOCATION:Tato Salsa Studio\, 2901 W. Busch Blvd\, Suite 1024\, Tampa\, FL\, 33618\, United States
ATTACH;FMTTYPE=image/png:https://www.tatosalsa.com/wp-content/uploads/2024/08/newclassflyersep2025.png
END:VEVENT
BEGIN:VEVENT
DTSTART;VALUE=DATE:20241008
DTEND;VALUE=DATE:20241009
DTSTAMP:20260421T201440
CREATED:20240916T145219Z
LAST-MODIFIED:20241006T182928Z
UID:6957-1728345600-1728431999@www.tatosalsa.com
SUMMARY:CLASSES CANCELED DUE TO HURRICANE MILTON
DESCRIPTION:If you happen to miss our first week of our 6 weeks beginner course\, it’s okay! You can join us tonight for the remaining 5 weeks. Cost for the 5 weeks is $60. \nFor all our other levels\, is class as usual! \nSchedule is as follows: \n*Salsa On2 beginner course – 7:30pm to 8:30pm \n*Advance beginner Salsa On2 class – 7:30pm to 8:30pm \n*Intermediate level 1&2 Salsa On2 class – 8:30pm to 9:30pm \n-SHOES- \nNEW STUDENTS: Tennis shoes/ Street shoes/flats/ comfortable indoor shoes (NO FLIP FLOPS OR SANDALS) \nINTERMEDIATE/ADVANCE STUDENTS: Dance Shoes \n*NOTE* \nADULT CLASSES (18+) \nCOURSE vs CLASS: 6 weeks beginner course has a starting date and ending date | A CLASS – Ongoing and it doesn’t have a starting or ending date. A student can join a class at anytime and doesn’t have to wait for a starting date as it’s an ongoing class (a syllabus is used in a class and it recycles through the material for that level).
URL:https://www.tatosalsa.com/event/tatosalsa-new-6-weeks-beginner-salsa-on2-course-and-regular-classes-13/
LOCATION:Tato Salsa Studio\, 2901 W. Busch Blvd\, Suite 1024\, Tampa\, FL\, 33618\, United States
ATTACH;FMTTYPE=image/png:https://www.tatosalsa.com/wp-content/uploads/2024/08/newclassflyersep2025.png
END:VEVENT
BEGIN:VEVENT
DTSTART;VALUE=DATE:20241009
DTEND;VALUE=DATE:20241010
DTSTAMP:20260421T201440
CREATED:20240916T145750Z
LAST-MODIFIED:20241006T183032Z
UID:6961-1728432000-1728518399@www.tatosalsa.com
SUMMARY:CLASSES CANCELED DUE TO HURRICANE MILTON
DESCRIPTION:If you happen to miss our first week of our 6 weeks beginner course\, it’s okay! You can join us tonight for the remaining 5 weeks. Cost for the 5 weeks is $60. \nFor all our other levels\, is class as usual! \nSchedule is as follows: \n*Bachata beginner course – 7pm to 8pm \n*Advance Bachata beginner class – 7pm to 8pm \n*Intermediate level 1 and level 2 Bachata class – 8:15pm to 9:15pm \n-SHOES- \nNEW STUDENTS: Tennis shoes/ Street shoes/flats/ comfortable indoor shoes (NO FLIP FLOPS OR SANDALS) \nINTERMEDIATE/ADVANCE STUDENTS: Dance Shoes \n*NOTE* \nADULT CLASS (18+) \nCOURSE vs CLASS: 6 weeks beginner course has a starting date and ending date | A CLASS – Ongoing and it doesn’t have a starting or ending date. A student can join a class at anytime and doesn’t have to wait for a starting date as it’s an ongoing class (a syllabus is used in a class and it recycles through the material for that level).
URL:https://www.tatosalsa.com/event/tatosalsa-new-6-weeks-beginner-bachata-course-and-regular-classes-15/
LOCATION:Tato Salsa Studio\, 2901 W. Busch Blvd\, Suite 1024\, Tampa\, FL\, 33618\, United States
ATTACH;FMTTYPE=image/png:https://www.tatosalsa.com/wp-content/uploads/2024/08/newclassflyersep2025.png
END:VEVENT
BEGIN:VEVENT
DTSTART;VALUE=DATE:20241014
DTEND;VALUE=DATE:20241015
DTSTAMP:20260421T201440
CREATED:20240911T222448Z
LAST-MODIFIED:20241012T195544Z
UID:6954-1728864000-1728950399@www.tatosalsa.com
SUMMARY:Studio is closed
DESCRIPTION:Due to power outages and safety\, we will be postponing all classes until the week of October 21st. \nWhile we want to have classes back ASAP – It is most important to us to make sure everyone is okay and getting back on their feet.
URL:https://www.tatosalsa.com/event/tatosalsa-new-6-weeks-beginner-course-and-regular-classes-18/
LOCATION:Tato Salsa Studio\, 2901 W. Busch Blvd\, Suite 1024\, Tampa\, FL\, 33618\, United States
ATTACH;FMTTYPE=image/png:https://www.tatosalsa.com/wp-content/uploads/2024/08/newclassflyersep2025.png
END:VEVENT
BEGIN:VEVENT
DTSTART;VALUE=DATE:20241015
DTEND;VALUE=DATE:20241016
DTSTAMP:20260421T201440
CREATED:20240916T145535Z
LAST-MODIFIED:20241012T195636Z
UID:6959-1728950400-1729036799@www.tatosalsa.com
SUMMARY:Studio is closed
DESCRIPTION:Due to power outages and safety\, we will be postponing all classes until the week of October 21st. \nWhile we want to have classes back ASAP – It is most important to us to make sure everyone is okay and getting back on their feet.
URL:https://www.tatosalsa.com/event/tatosalsa-new-6-weeks-beginner-salsa-on2-course-and-regular-classes-14/
LOCATION:Tato Salsa Studio\, 2901 W. Busch Blvd\, Suite 1024\, Tampa\, FL\, 33618\, United States
ATTACH;FMTTYPE=image/png:https://www.tatosalsa.com/wp-content/uploads/2024/08/newclassflyersep2025.png
END:VEVENT
BEGIN:VEVENT
DTSTART;VALUE=DATE:20241016
DTEND;VALUE=DATE:20241017
DTSTAMP:20260421T201440
CREATED:20240916T145945Z
LAST-MODIFIED:20241012T195718Z
UID:6963-1729036800-1729123199@www.tatosalsa.com
SUMMARY:Studio is closed
DESCRIPTION:Due to power outages and safety\, we will be postponing all classes until the week of October 21st. \nWhile we want to have classes back ASAP – It is most important to us to make sure everyone is okay and getting back on their feet.
URL:https://www.tatosalsa.com/event/tatosalsa-new-6-weeks-beginner-bachata-course-and-regular-classes-16/
LOCATION:Tato Salsa Studio\, 2901 W. Busch Blvd\, Suite 1024\, Tampa\, FL\, 33618\, United States
ATTACH;FMTTYPE=image/png:https://www.tatosalsa.com/wp-content/uploads/2024/08/newclassflyersep2025.png
END:VEVENT
BEGIN:VEVENT
DTSTART;TZID=America/New_York:20241017T210000
DTEND;TZID=America/New_York:20241018T010000
DTSTAMP:20260421T201440
CREATED:20241006T183424Z
LAST-MODIFIED:20241006T183424Z
UID:6994-1729198800-1729213200@www.tatosalsa.com
SUMMARY:Tumbao Thursday Dance Social
DESCRIPTION:Our Tumbao Thursday dance social has been moved to Thursday\, October 17th due to hurricane Milton. Stay posted for more detail information.
URL:https://www.tatosalsa.com/event/tumbao-thursday-dance-social-4/
LOCATION:Tato Salsa Studio\, 2901 W. Busch Blvd\, Suite 1024\, Tampa\, FL\, 33618\, United States
END:VEVENT
BEGIN:VEVENT
DTSTART;TZID=America/New_York:20241021T183000
DTEND;TZID=America/New_York:20241021T220000
DTSTAMP:20260421T201440
CREATED:20240916T150611Z
LAST-MODIFIED:20240916T150611Z
UID:6965-1729535400-1729548000@www.tatosalsa.com
SUMMARY:TaToSalsa - New 6 weeks beginner course and regular class schedule
DESCRIPTION:Our current beginner 6 weeks course is CLOSED. Join us for our upcoming new beginner 6 weeks course starting November 11th. Cost for this course is $60\, please register and reserve your spot today! \nFor all our other levels\, is class as usual! \nSchedule is as follows: \n*Salsa beginner course – 6:30pm to 7:30pm \n*Advance Salsa beginner class – 7:30pm to 8:30pm \n*Intermediate Salsa level 1 class – 8:30pm to 9:30pm \n*Intermediate Salsa level 2 class – 8:30pm to 9:30pm \n-SHOES- \nNEW STUDENTS: Tennis shoes/ Street shoes/flats/ comfortable indoor shoes (NO FLIP FLOPS OR SANDALS) \nINTERMEDIATE/ADVANCE STUDENTS: Dance Shoes \n*NOTE* \nADULT CLASS (18+) \nCOURSE vs CLASS: 6 weeks beginner course has a starting date and ending date | A CLASS – Ongoing and it doesn’t have a starting or ending date. A student can join a class at anytime and doesn’t have to wait for a starting date as it’s an ongoing class (a syllabus is used in a class and it recycles through the material for that level).
URL:https://www.tatosalsa.com/event/tatosalsa-new-6-weeks-beginner-course-and-regular-class-schedule/
LOCATION:Tato Salsa Studio\, 2901 W. Busch Blvd\, Suite 1024\, Tampa\, FL\, 33618\, United States
ATTACH;FMTTYPE=image/png:https://www.tatosalsa.com/wp-content/uploads/2024/08/newclassflyersep2025.png
END:VEVENT
BEGIN:VEVENT
DTSTART;TZID=America/New_York:20241022T193000
DTEND;TZID=America/New_York:20241022T220000
DTSTAMP:20260421T201440
CREATED:20240916T151153Z
LAST-MODIFIED:20240916T151153Z
UID:6971-1729625400-1729634400@www.tatosalsa.com
SUMMARY:TaToSalsa - New 6 weeks Salsa On2 beginner course and regular class schedule
DESCRIPTION:Our current beginner 6 weeks course is CLOSED. Join us for our upcoming new beginner 6 weeks course starting November 12th. Cost for this course is $60\, please register and reserve your spot today! \nFor all our other levels\, is class as usual! \nSchedule is as follows: \n*Salsa On2 beginner course – 7:30pm to 8:30pm \n*Advance beginner Salsa On2 class – 7:30pm to 8:30pm \n*Intermediate Salsa On2 class – 8:30pm to 9:30pm \n-SHOES- \nNEW STUDENTS: Tennis shoes/ Street shoes/flats/ comfortable indoor shoes (NO FLIP FLOPS OR SANDALS) \nINTERMEDIATE/ADVANCE STUDENTS: Dance Shoes \n*NOTE* \nADULT CLASS (18+) \nCOURSE vs CLASS: 6 weeks beginner course has a starting date and ending date | A CLASS – Ongoing and it doesn’t have a starting or ending date. A student can join a class at anytime and doesn’t have to wait for a starting date as it’s an ongoing class (a syllabus is used in a class and it recycles through the material for that level).
URL:https://www.tatosalsa.com/event/tatosalsa-new-6-weeks-salsa-on2-beginner-course-and-regular-class-schedule/
LOCATION:Tato Salsa Studio\, 2901 W. Busch Blvd\, Suite 1024\, Tampa\, FL\, 33618\, United States
ATTACH;FMTTYPE=image/png:https://www.tatosalsa.com/wp-content/uploads/2024/08/newclassflyersep2025.png
END:VEVENT
BEGIN:VEVENT
DTSTART;TZID=America/New_York:20241023T190000
DTEND;TZID=America/New_York:20241023T220000
DTSTAMP:20260421T201440
CREATED:20240916T151806Z
LAST-MODIFIED:20240916T151806Z
UID:6977-1729710000-1729720800@www.tatosalsa.com
SUMMARY:TaToSalsa - New 6 weeks beginner Bachata course and regular class schedule
DESCRIPTION:Our current beginner 6 weeks course is CLOSED. Join us for our upcoming new beginner 6 weeks course starting November 13th. Cost for this course is $60\, please register and reserve your spot today! \nFor all our other levels\, is class as usual! \nSchedule is as follows: \n*Bachata beginner course – 7pm to 8pm \n*Advance Bachata beginner class – 7pm to 8pm \n*Intermediate Level 1 and Level 2 Bachata class – 8:15pm to 9:15pm \n-SHOES- \nNEW STUDENTS: Tennis shoes/ Street shoes/flats/ comfortable indoor shoes (NO FLIP FLOPS OR SANDALS) \nINTERMEDIATE/ADVANCE STUDENTS: Dance Shoes \n*NOTE* \nADULT CLASS (18+) \nCOURSE vs CLASS: 6 weeks beginner course has a starting date and ending date | A CLASS – Ongoing and it doesn’t have a starting or ending date. A student can join a class at anytime and doesn’t have to wait for a starting date as it’s an ongoing class (a syllabus is used in a class and it recycles through the material for that level).
URL:https://www.tatosalsa.com/event/tatosalsa-new-6-weeks-beginner-bachata-course-and-regular-class-schedule/
LOCATION:Tato Salsa Studio\, 2901 W. Busch Blvd\, Suite 1024\, Tampa\, FL\, 33618\, United States
ATTACH;FMTTYPE=image/png:https://www.tatosalsa.com/wp-content/uploads/2024/08/newclassflyersep2025.png
END:VEVENT
BEGIN:VEVENT
DTSTART;TZID=America/New_York:20241027T150000
DTEND;TZID=America/New_York:20241027T200000
DTSTAMP:20260421T201440
CREATED:20241006T183228Z
LAST-MODIFIED:20241024T153632Z
UID:6991-1730041200-1730059200@www.tatosalsa.com
SUMMARY:SUNDAY DE SABROSURA - HALLOWEEN EDITION
DESCRIPTION:Tampa’s longest running\, original afternoon dance Sunday social. THANK YOU for keeping the passion for dance alive.\nJoin us for an afternoon of dancing at your favorite Sunday social in the heart of Ybor City\, this month’s dance class is with Robinson and Larissa. They were a Sabrosura favorite\, check out the hype! Come dance with us!\nPLEASE NOTE THE FOLLOWING:\n– No children will be allowed\, no exceptions– Must be 18 to enter event– If you are feeling under the weather and have COVID like symptoms\, please stay home.DISCLAIMER: ***Attend and dance at your own risk. TaToSalsa Inc\, its owners and staff\, La Herencia de Ybor\, its owner and staff will not be held liable for any sickness\, or injuries that may arise while attending this event. ***Sunday de Sabrosura social is normally held once a month typically every 4th Sunday of the month in the heart of Ybor city at La Herencia de Ybor. It has grown to be Tampa’s favorite afternoon social\, where you’ll find the best mojitos and sangrias here. Let’s not forget great music with an awesome afternoon vibe!\nTaTo Salsa Students $10 | General Admission $15Music By: Mambo TribeDance Lesson: Robinson and LarissaPhotos: Soreyrith Um\nParking is available in the lot behind the venue; HOWEVER\, YOU MUST PAY THE METER. We have noticed the rate has increased\, please consider parking across the street\, or in the lots on the adjacent sides of La Herencia\, they are cheaper. There is free street parking available in some areas\, please read the signs.\nThank you\,\nTaToSalsa\nATTENTION NEW ATTENDEES:\nADDRESS IS 1817 E 7TH AVE TAMPA\, FL\, 33605.
URL:https://www.tatosalsa.com/event/sunday-de-sabrosura-halloween-edition/
LOCATION:Herencia de Ybor\, 1817 E 7th ave. \, Tampa\, FL\, 33605\, United States
ATTACH;FMTTYPE=image/jpeg:https://www.tatosalsa.com/wp-content/uploads/2024/10/463225562_1258770315545653_4888822541370892424_n.jpg
END:VEVENT
BEGIN:VEVENT
DTSTART;TZID=America/New_York:20241028T183000
DTEND;TZID=America/New_York:20241028T220000
DTSTAMP:20260421T201440
CREATED:20240916T150746Z
LAST-MODIFIED:20240916T150746Z
UID:6967-1730140200-1730152800@www.tatosalsa.com
SUMMARY:TaToSalsa - New 6 weeks beginner course and regular class schedule
DESCRIPTION:Our current beginner 6 weeks course is CLOSED. Join us for our upcoming new beginner 6 weeks course starting November 11th. Cost for this course is $60\, please register and reserve your spot today! \nFor all our other levels\, is class as usual! \nSchedule is as follows: \n*Salsa beginner course – 6:30pm to 7:30pm \n*Advance Salsa beginner class – 7:30pm to 8:30pm \n*Intermediate Salsa level 1 class – 8:30pm to 9:30pm \n*Intermediate Salsa level 2 class – 8:30pm to 9:30pm \n-SHOES- \nNEW STUDENTS: Tennis shoes/ Street shoes/flats/ comfortable indoor shoes (NO FLIP FLOPS OR SANDALS) \nINTERMEDIATE/ADVANCE STUDENTS: Dance Shoes \n*NOTE* \nADULT CLASS (18+) \nCOURSE vs CLASS: 6 weeks beginner course has a starting date and ending date | A CLASS – Ongoing and it doesn’t have a starting or ending date. A student can join a class at anytime and doesn’t have to wait for a starting date as it’s an ongoing class (a syllabus is used in a class and it recycles through the material for that level).
URL:https://www.tatosalsa.com/event/tatosalsa-new-6-weeks-beginner-course-and-regular-class-schedule-2/
LOCATION:Tato Salsa Studio\, 2901 W. Busch Blvd\, Suite 1024\, Tampa\, FL\, 33618\, United States
ATTACH;FMTTYPE=image/png:https://www.tatosalsa.com/wp-content/uploads/2024/08/newclassflyersep2025.png
END:VEVENT
BEGIN:VEVENT
DTSTART;TZID=America/New_York:20241029T193000
DTEND;TZID=America/New_York:20241029T220000
DTSTAMP:20260421T201440
CREATED:20240916T151315Z
LAST-MODIFIED:20240916T151315Z
UID:6973-1730230200-1730239200@www.tatosalsa.com
SUMMARY:TaToSalsa - New 6 weeks beginner Salsa On2 course and regular class schedule
DESCRIPTION:Our current beginner 6 weeks course is CLOSED. Join us for our upcoming new beginner 6 weeks course starting November 12th. Cost for this course is $60\, please register and reserve your spot today! \nFor all our other levels\, is class as usual! \nSchedule is as follows: \n*Salsa On2 beginner course – 7:30pm to 8:30pm \n*Advance beginner Salsa On2 class – 7:30pm to 8:30pm \n*Intermediate Salsa On2 class – 8:30pm to 9:30pm \n-SHOES- \nNEW STUDENTS: Tennis shoes/ Street shoes/flats/ comfortable indoor shoes (NO FLIP FLOPS OR SANDALS) \nINTERMEDIATE/ADVANCE STUDENTS: Dance Shoes \n*NOTE* \nADULT CLASS (18+) \nCOURSE vs CLASS: 6 weeks beginner course has a starting date and ending date | A CLASS – Ongoing and it doesn’t have a starting or ending date. A student can join a class at anytime and doesn’t have to wait for a starting date as it’s an ongoing class (a syllabus is used in a class and it recycles through the material for that level).
URL:https://www.tatosalsa.com/event/tatosalsa-new-6-weeks-beginner-salsa-on2-course-and-regular-class-schedule/
LOCATION:Tato Salsa Studio\, 2901 W. Busch Blvd\, Suite 1024\, Tampa\, FL\, 33618\, United States
ATTACH;FMTTYPE=image/png:https://www.tatosalsa.com/wp-content/uploads/2024/08/newclassflyersep2025.png
END:VEVENT
BEGIN:VEVENT
DTSTART;TZID=America/New_York:20241030T190000
DTEND;TZID=America/New_York:20241030T220000
DTSTAMP:20260421T201440
CREATED:20240916T151928Z
LAST-MODIFIED:20240916T151928Z
UID:6979-1730314800-1730325600@www.tatosalsa.com
SUMMARY:TaToSalsa - New 6 weeks beginner Bachata course and regular class schedule
DESCRIPTION:Our current beginner 6 weeks course is CLOSED. Join us for our upcoming new beginner 6 weeks course starting November 13th. Cost for this course is $60\, please register and reserve your spot today! \nFor all our other levels\, is class as usual! \nSchedule is as follows: \n*Bachata beginner course – 7pm to 8pm \n*Advance Bachata beginner class – 7pm to 8pm \n*Intermediate Level 1 and Level 2 Bachata class – 8:15pm to 9:15pm \n-SHOES- \nNEW STUDENTS: Tennis shoes/ Street shoes/flats/ comfortable indoor shoes (NO FLIP FLOPS OR SANDALS) \nINTERMEDIATE/ADVANCE STUDENTS: Dance Shoes \n*NOTE* \nADULT CLASS (18+) \nCOURSE vs CLASS: 6 weeks beginner course has a starting date and ending date | A CLASS – Ongoing and it doesn’t have a starting or ending date. A student can join a class at anytime and doesn’t have to wait for a starting date as it’s an ongoing class (a syllabus is used in a class and it recycles through the material for that level).
URL:https://www.tatosalsa.com/event/tatosalsa-new-6-weeks-beginner-bachata-course-and-regular-class-schedule-2/
LOCATION:Tato Salsa Studio\, 2901 W. Busch Blvd\, Suite 1024\, Tampa\, FL\, 33618\, United States
ATTACH;FMTTYPE=image/png:https://www.tatosalsa.com/wp-content/uploads/2024/08/newclassflyersep2025.png
END:VEVENT
END:VCALENDAR