BEGIN:VCALENDAR
VERSION:2.0
PRODID:-//Tampa Salsa Lessons | Clases de Salsa - ECPv6.15.20//NONSGML v1.0//EN
CALSCALE:GREGORIAN
METHOD:PUBLISH
X-ORIGINAL-URL:https://www.tatosalsa.com
X-WR-CALDESC:Events for Tampa Salsa Lessons | Clases de Salsa
REFRESH-INTERVAL;VALUE=DURATION:PT1H
X-Robots-Tag:noindex
X-PUBLISHED-TTL:PT1H
BEGIN:VTIMEZONE
TZID:America/New_York
BEGIN:DAYLIGHT
TZOFFSETFROM:-0500
TZOFFSETTO:-0400
TZNAME:EDT
DTSTART:20230312T070000
END:DAYLIGHT
BEGIN:STANDARD
TZOFFSETFROM:-0400
TZOFFSETTO:-0500
TZNAME:EST
DTSTART:20231105T060000
END:STANDARD
BEGIN:DAYLIGHT
TZOFFSETFROM:-0500
TZOFFSETTO:-0400
TZNAME:EDT
DTSTART:20240310T070000
END:DAYLIGHT
BEGIN:STANDARD
TZOFFSETFROM:-0400
TZOFFSETTO:-0500
TZNAME:EST
DTSTART:20241103T060000
END:STANDARD
BEGIN:DAYLIGHT
TZOFFSETFROM:-0500
TZOFFSETTO:-0400
TZNAME:EDT
DTSTART:20250309T070000
END:DAYLIGHT
BEGIN:STANDARD
TZOFFSETFROM:-0400
TZOFFSETTO:-0500
TZNAME:EST
DTSTART:20251102T060000
END:STANDARD
END:VTIMEZONE
BEGIN:VEVENT
DTSTART;VALUE=DATE:20240701
DTEND;VALUE=DATE:20240704
DTSTAMP:20260421T065618
CREATED:20240613T011316Z
LAST-MODIFIED:20240613T011329Z
UID:6838-1719792000-1720051199@www.tatosalsa.com
SUMMARY:CLOSED FOR 4th OF JULY
DESCRIPTION:The studio will be close due to 4th of July week. See you all next week!
URL:https://www.tatosalsa.com/event/close-for-4th-of-july/
LOCATION:Tato Salsa Studio\, 2901 W. Busch Blvd\, Suite 1024\, Tampa\, FL\, 33618\, United States
END:VEVENT
BEGIN:VEVENT
DTSTART;TZID=America/New_York:20240708T180000
DTEND;TZID=America/New_York:20240708T220000
DTSTAMP:20260421T065618
CREATED:20240613T003128Z
LAST-MODIFIED:20240613T003128Z
UID:6803-1720461600-1720476000@www.tatosalsa.com
SUMMARY:TaToSalsa - New 6 weeks beginner course and regular classes
DESCRIPTION:If you happen to miss our first week of our 6 weeks beginner course\, it’s okay! You can join us tonight for the remaining 5 weeks. Cost for the 5 weeks is $60. \nFor all our other levels\, is class as usual! \nSchedule is as follows: \n*Salsa beginner course – 7pm to 7:55pm \n*Advance Salsa beginner class – 6pm to 6:55pm \n*Advance Salsa beginner class – 7pm to 7:55pm \n*Intermediate Salsa level 1 class – 8:15pm to 9:15pm \n*Intermediate Salsa level 2 class – 8:15pm to 9:15pm \n-SHOES- \nNEW STUDENTS: Tennis shoes/ Street shoes/flats/ comfortable indoor shoes (NO FLIP FLOPS OR SANDALS) \nINTERMEDIATE/ADVANCE STUDENTS: Dance Shoes \n*NOTE* \nCOURSE vs CLASS: 6 weeks beginner course has a starting date and ending date | A CLASS – Ongoing and it doesn’t have a starting or ending date. A student can join a class at anytime and doesn’t have to wait for a starting date as it’s an ongoing class (a syllabus is used in a class and it recycles through the material for that level).
URL:https://www.tatosalsa.com/event/tatosalsa-new-6-weeks-beginner-course-and-regular-classes/
LOCATION:Tato Salsa Studio\, 2901 W. Busch Blvd\, Suite 1024\, Tampa\, FL\, 33618\, United States
ATTACH;FMTTYPE=image/jpeg:https://www.tatosalsa.com/wp-content/uploads/2024/06/unnamed-3.jpg
END:VEVENT
BEGIN:VEVENT
DTSTART;TZID=America/New_York:20240709T193000
DTEND;TZID=America/New_York:20240709T220000
DTSTAMP:20260421T065618
CREATED:20240613T010244Z
LAST-MODIFIED:20240613T010244Z
UID:6827-1720553400-1720562400@www.tatosalsa.com
SUMMARY:TaToSalsa - New 6 weeks beginner Salsa On2 course and regular classes
DESCRIPTION:If you happen to miss our first week of our 6 weeks beginner course\, it’s okay! You can join us tonight for the remaining 5 weeks. Cost for the 5 weeks is $60. \nFor all our other levels\, is class as usual! \nSchedule is as follows: \n*Salsa On2 beginner course – 7:30pm to 8:30pm \n*Advance beginner Salsa On2 class – 7:30pm to 8:30pm \n*Intermediate level 1&2 Salsa On2 class – 8:30pm to 9:30pm \n-SHOES- \nNEW STUDENTS: Tennis shoes/ Street shoes/flats/ comfortable indoor shoes (NO FLIP FLOPS OR SANDALS) \nINTERMEDIATE/ADVANCE STUDENTS: Dance Shoes \n*NOTE* \nCOURSE vs CLASS: 6 weeks beginner course has a starting date and ending date | A CLASS – Ongoing and it doesn’t have a starting or ending date. A student can join a class at anytime and doesn’t have to wait for a starting date as it’s an ongoing class (a syllabus is used in a class and it recycles through the material for that level).
URL:https://www.tatosalsa.com/event/tatosalsa-new-6-weeks-beginner-salsa-on2-course-and-regular-classes-8/
LOCATION:Tato Salsa Studio\, 2901 W. Busch Blvd\, Suite 1024\, Tampa\, FL\, 33618\, United States
ATTACH;FMTTYPE=image/jpeg:https://www.tatosalsa.com/wp-content/uploads/2024/06/unnamed-3.jpg
END:VEVENT
BEGIN:VEVENT
DTSTART;TZID=America/New_York:20240710T190000
DTEND;TZID=America/New_York:20240710T220000
DTSTAMP:20260421T065618
CREATED:20240613T004945Z
LAST-MODIFIED:20240613T004945Z
UID:6813-1720638000-1720648800@www.tatosalsa.com
SUMMARY:TaToSalsa - New 6 weeks beginner bachata course and regular classes
DESCRIPTION:If you happen to miss our first week of our 6 weeks beginner course\, it’s okay! You can join us tonight for the remaining 5 weeks. Cost for the 5 weeks is $60. \nFor all our other levels\, is class as usual! \nSchedule is as follows: \n*Bachata beginner course – 7pm to 8pm \n*Advance Bachata beginner class – 7pm to 8pm \n*Intermediate Bachata class – 8:15pm to 9:15pm \n-SHOES- \nNEW STUDENTS: Tennis shoes/ Street shoes/flats/ comfortable indoor shoes (NO FLIP FLOPS OR SANDALS) \nINTERMEDIATE/ADVANCE STUDENTS: Dance Shoes \n*NOTE* \nCOURSE vs CLASS: 6 weeks beginner course has a starting date and ending date | A CLASS – Ongoing and it doesn’t have a starting or ending date. A student can join a class at anytime and doesn’t have to wait for a starting date as it’s an ongoing class (a syllabus is used in a class and it recycles through the material for that level).
URL:https://www.tatosalsa.com/event/tatosalsa-new-6-weeks-beginner-bachata-course-and-regular-classes-7/
LOCATION:Tato Salsa Studio\, 2901 W. Busch Blvd\, Suite 1024\, Tampa\, FL\, 33618\, United States
ATTACH;FMTTYPE=image/jpeg:https://www.tatosalsa.com/wp-content/uploads/2024/06/unnamed-3.jpg
END:VEVENT
BEGIN:VEVENT
DTSTART;TZID=America/New_York:20240711T210000
DTEND;TZID=America/New_York:20240712T010000
DTSTAMP:20260421T065618
CREATED:20240627T004506Z
LAST-MODIFIED:20240627T004506Z
UID:6849-1720731600-1720746000@www.tatosalsa.com
SUMMARY:TUMBAO THURSDAYS DANCE SOCIAL
DESCRIPTION:Join us for our once a month Thursday Tumbao Dance social hosted at Tatosalsa Dance Studio. More information coming soon!
URL:https://www.tatosalsa.com/event/tumbao-thursdays-dance-social/
LOCATION:Tato Salsa Studio\, 2901 W. Busch Blvd\, Suite 1024\, Tampa\, FL\, 33618\, United States
END:VEVENT
BEGIN:VEVENT
DTSTART;TZID=America/New_York:20240715T180000
DTEND;TZID=America/New_York:20240715T220000
DTSTAMP:20260421T065618
CREATED:20240613T003603Z
LAST-MODIFIED:20240613T003603Z
UID:6805-1721066400-1721080800@www.tatosalsa.com
SUMMARY:TaToSalsa - New 6 weeks beginner course and regular classes
DESCRIPTION:If you are a beginner student and would like to join our current beginner course\, tonight is the last day to join. Cost for the remaining 4 weeks is $60. \nFor all our other levels\, is class as usual! \nSchedule is as follows: \n*Salsa beginner course – 7pm to 7:55pm \n*Advance Salsa beginner class – 6pm to 6:55pm \n*Advance Salsa beginner class – 7pm to 7:55pm \n*Intermediate Salsa level 1 class – 8:15pm to 9:15pm \n*Intermediate Salsa level 2 class – 8:15pm to 9:15pm \n-SHOES- \nNEW STUDENTS: Tennis shoes/ Street shoes/flats/ comfortable indoor shoes (NO FLIP FLOPS OR SANDALS) \nINTERMEDIATE/ADVANCE STUDENTS: Dance Shoes \n*NOTE* \nCOURSE vs CLASS: 6 weeks beginner course has a starting date and ending date | A CLASS – Ongoing and it doesn’t have a starting or ending date. A student can join a class at anytime and doesn’t have to wait for a starting date as it’s an ongoing class (a syllabus is used in a class and it recycles through the material for that level).
URL:https://www.tatosalsa.com/event/tatosalsa-new-6-weeks-beginner-course-and-regular-classes-2/
LOCATION:Tato Salsa Studio\, 2901 W. Busch Blvd\, Suite 1024\, Tampa\, FL\, 33618\, United States
ATTACH;FMTTYPE=image/jpeg:https://www.tatosalsa.com/wp-content/uploads/2024/06/unnamed-3.jpg
END:VEVENT
BEGIN:VEVENT
DTSTART;TZID=America/New_York:20240716T193000
DTEND;TZID=America/New_York:20240716T220000
DTSTAMP:20260421T065618
CREATED:20240613T010443Z
LAST-MODIFIED:20240613T010443Z
UID:6830-1721158200-1721167200@www.tatosalsa.com
SUMMARY:TaToSalsa - New 6 weeks beginner Salsa On2 course and regular classes
DESCRIPTION:If you are a beginner student and would like to join our current beginner course\, tonight is the last day to join. Cost for the remaining 4 weeks is $60. \nFor all our other levels\, is class as usual! \nSchedule is as follows: \n*Bachata beginner course – 7:30pm to 8:30pm \n*Advance Bachata beginner class – 7:30pm to 8:30pm \n*Intermediate Salsa level 1 class – 8:30pm to 9:30pm \n-SHOES- \nNEW STUDENTS: Tennis shoes/ Street shoes/flats/ comfortable indoor shoes (NO FLIP FLOPS OR SANDALS) \nINTERMEDIATE/ADVANCE STUDENTS: Dance Shoes \n*NOTE* \nCOURSE vs CLASS: 6 weeks beginner course has a starting date and ending date | A CLASS – Ongoing and it doesn’t have a starting or ending date. A student can join a class at anytime and doesn’t have to wait for a starting date as it’s an ongoing class (a syllabus is used in a class and it recycles through the material for that level).
URL:https://www.tatosalsa.com/event/tatosalsa-new-6-weeks-beginner-salsa-on2-course-and-regular-classes-9/
LOCATION:Tato Salsa Studio\, 2901 W. Busch Blvd\, Suite 1024\, Tampa\, FL\, 33618\, United States
ATTACH;FMTTYPE=image/jpeg:https://www.tatosalsa.com/wp-content/uploads/2024/06/unnamed-3.jpg
END:VEVENT
BEGIN:VEVENT
DTSTART;TZID=America/New_York:20240717T190000
DTEND;TZID=America/New_York:20240717T220000
DTSTAMP:20260421T065618
CREATED:20240613T005052Z
LAST-MODIFIED:20240613T005148Z
UID:6815-1721242800-1721253600@www.tatosalsa.com
SUMMARY:TaToSalsa - New 6 weeks beginner Bachata course and regular classes
DESCRIPTION:If you are a beginner student and would like to join our current beginner course\, tonight is the last day to join. Cost for the remaining 4 weeks is $60. \nFor all our other levels\, is class as usual! \nSchedule is as follows: \n*Bachata beginner course – 7pm to 8pm \n*Advance Bachata beginner class – 7pm to 8pm \n*Intermediate Bachata class – 8:15pm to 9:15pm \n-SHOES- \nNEW STUDENTS: Tennis shoes/ Street shoes/flats/ comfortable indoor shoes (NO FLIP FLOPS OR SANDALS) \nINTERMEDIATE/ADVANCE STUDENTS: Dance Shoes \n*NOTE* \nCOURSE vs CLASS: 6 weeks beginner course has a starting date and ending date | A CLASS – Ongoing and it doesn’t have a starting or ending date. A student can join a class at anytime and doesn’t have to wait for a starting date as it’s an ongoing class (a syllabus is used in a class and it recycles through the material for that level).
URL:https://www.tatosalsa.com/event/tatosalsa-new-6-weeks-beginner-bachata-course-and-regular-classes-8/
LOCATION:Tato Salsa Studio\, 2901 W. Busch Blvd\, Suite 1024\, Tampa\, FL\, 33618\, United States
ATTACH;FMTTYPE=image/jpeg:https://www.tatosalsa.com/wp-content/uploads/2024/06/unnamed-3.jpg
END:VEVENT
BEGIN:VEVENT
DTSTART;TZID=America/New_York:20240722T060000
DTEND;TZID=America/New_York:20240722T220000
DTSTAMP:20260421T065618
CREATED:20240613T004258Z
LAST-MODIFIED:20240613T004258Z
UID:6807-1721628000-1721685600@www.tatosalsa.com
SUMMARY:TaToSalsa - New 6 weeks beginner course and regular classes
DESCRIPTION:Our current beginner 6 weeks course is CLOSED. Join us for our upcoming new beginner 6 weeks course starting August 12th. Cost for this course is $60\, please register and reserve your spot today! \nFor all our other levels\, is class as usual! \nSchedule is as follows: \n*Salsa beginner course – 7pm to 7:55pm \n*Advance Salsa beginner class – 6pm to 6:55pm \n*Advance Salsa beginner class – 7pm to 7:55pm \n*Intermediate Salsa level 1 class – 8:15pm to 9:15pm \n*Intermediate Salsa level 2 class – 8:15pm to 9:15pm \n-SHOES- \nNEW STUDENTS: Tennis shoes/ Street shoes/flats/ comfortable indoor shoes (NO FLIP FLOPS OR SANDALS) \nINTERMEDIATE/ADVANCE STUDENTS: Dance Shoes \n*NOTE* \nCOURSE vs CLASS: 6 weeks beginner course has a starting date and ending date | A CLASS – Ongoing and it doesn’t have a starting or ending date. A student can join a class at anytime and doesn’t have to wait for a starting date as it’s an ongoing class (a syllabus is used in a class and it recycles through the material for that level).
URL:https://www.tatosalsa.com/event/tatosalsa-new-6-weeks-beginner-course-and-regular-classes-6/
LOCATION:Tato Salsa Studio\, 2901 W. Busch Blvd\, Suite 1024\, Tampa\, FL\, 33618\, United States
ATTACH;FMTTYPE=image/jpeg:https://www.tatosalsa.com/wp-content/uploads/2024/06/unnamed-3.jpg
END:VEVENT
BEGIN:VEVENT
DTSTART;TZID=America/New_York:20240722T150000
DTEND;TZID=America/New_York:20240722T200000
DTSTAMP:20260421T065618
CREATED:20240627T004635Z
LAST-MODIFIED:20240627T004635Z
UID:6851-1721660400-1721678400@www.tatosalsa.com
SUMMARY:SUNDAY DE SABROSURA DANCE SOCIAL
DESCRIPTION:Join us for our once a month Sunday afternoon dance social hosted at La Herencia de Ybor. More detail information coming soon!
URL:https://www.tatosalsa.com/event/sunday-de-sabrosura-dance-social-15/
LOCATION:Tato Salsa Studio\, 2901 W. Busch Blvd\, Suite 1024\, Tampa\, FL\, 33618\, United States
END:VEVENT
BEGIN:VEVENT
DTSTART;TZID=America/New_York:20240723T193000
DTEND;TZID=America/New_York:20240723T220000
DTSTAMP:20260421T065618
CREATED:20240613T010751Z
LAST-MODIFIED:20240613T010751Z
UID:6832-1721763000-1721772000@www.tatosalsa.com
SUMMARY:TaToSalsa - New 6 weeks beginner Salsa On2 course and regular classes
DESCRIPTION:Our current beginner 6 weeks course is CLOSED. Join us for our upcoming new beginner 6 weeks course starting August 13th. Cost for this course is $60\, please register and reserve your spot today! \nFor all our other levels\, is class as usual! \nSchedule is as follows: \n*Salsa On2 beginner course – 7:30pm to 8:30pm \n*Advance beginner Salsa On2 class – 7:30pm to 8:30pm \n*Intermediate Salsa On2 class – 8:30pm to 9:30pm \n-SHOES- \nNEW STUDENTS: Tennis shoes/ Street shoes/flats/ comfortable indoor shoes (NO FLIP FLOPS OR SANDALS) \nINTERMEDIATE/ADVANCE STUDENTS: Dance Shoes \n*NOTE* \nCOURSE vs CLASS: 6 weeks beginner course has a starting date and ending date | A CLASS – Ongoing and it doesn’t have a starting or ending date. A student can join a class at anytime and doesn’t have to wait for a starting date as it’s an ongoing class (a syllabus is used in a class and it recycles through the material for that level).
URL:https://www.tatosalsa.com/event/tatosalsa-new-6-weeks-beginner-salsa-on2-course-and-regular-classes-10/
LOCATION:Tato Salsa Studio\, 2901 W. Busch Blvd\, Suite 1024\, Tampa\, FL\, 33618\, United States
ATTACH;FMTTYPE=image/jpeg:https://www.tatosalsa.com/wp-content/uploads/2024/06/unnamed-3.jpg
END:VEVENT
BEGIN:VEVENT
DTSTART;TZID=America/New_York:20240724T190000
DTEND;TZID=America/New_York:20240724T220000
DTSTAMP:20260421T065618
CREATED:20240613T005438Z
LAST-MODIFIED:20240613T005716Z
UID:6818-1721847600-1721858400@www.tatosalsa.com
SUMMARY:TaToSalsa - New 6 weeks beginner Bachata course and regular classes
DESCRIPTION:Our current beginner 6 weeks course is CLOSED. Join us for our upcoming new beginner 6 weeks course starting August 14th. Cost for this course is $60\, please register and reserve your spot today! \nFor all our other levels\, is class as usual! \nSchedule is as follows: \n*Bachata beginner course – 7pm to 8pm \n*Advance Bachata beginner class – 7pm to 8pm \n*Intermediate Bachata class – 8:15pm to 9:15pm \n-SHOES- \nNEW STUDENTS: Tennis shoes/ Street shoes/flats/ comfortable indoor shoes (NO FLIP FLOPS OR SANDALS) \nINTERMEDIATE/ADVANCE STUDENTS: Dance Shoes \n*NOTE* \nCOURSE vs CLASS: 6 weeks beginner course has a starting date and ending date | A CLASS – Ongoing and it doesn’t have a starting or ending date. A student can join a class at anytime and doesn’t have to wait for a starting date as it’s an ongoing class (a syllabus is used in a class and it recycles through the material for that level).
URL:https://www.tatosalsa.com/event/tatosalsa-new-6-weeks-beginner-bachata-course-and-regular-classes-9/
LOCATION:Tato Salsa Studio\, 2901 W. Busch Blvd\, Suite 1024\, Tampa\, FL\, 33618\, United States
ATTACH;FMTTYPE=image/jpeg:https://www.tatosalsa.com/wp-content/uploads/2024/06/unnamed-3.jpg
END:VEVENT
BEGIN:VEVENT
DTSTART;TZID=America/New_York:20240729T180000
DTEND;TZID=America/New_York:20240729T220000
DTSTAMP:20260421T065618
CREATED:20240613T004400Z
LAST-MODIFIED:20240613T004400Z
UID:6809-1722276000-1722290400@www.tatosalsa.com
SUMMARY:TaToSalsa - New 6 weeks beginner course and regular classes
DESCRIPTION:Our current beginner 6 weeks course is CLOSED. Join us for our upcoming new beginner 6 weeks course starting August 12th. Cost for this course is $60\, please register and reserve your spot today! \nFor all our other levels\, is class as usual! \nSchedule is as follows: \n*Salsa beginner course – 7pm to 7:55pm \n*Advance Salsa beginner class – 6pm to 6:55pm \n*Advance Salsa beginner class – 7pm to 7:55pm \n*Intermediate Salsa level 1 class – 8:15pm to 9:15pm \n*Intermediate Salsa level 2 class – 8:15pm to 9:15pm \n-SHOES- \nNEW STUDENTS: Tennis shoes/ Street shoes/flats/ comfortable indoor shoes (NO FLIP FLOPS OR SANDALS) \nINTERMEDIATE/ADVANCE STUDENTS: Dance Shoes \n*NOTE* \nCOURSE vs CLASS: 6 weeks beginner course has a starting date and ending date | A CLASS – Ongoing and it doesn’t have a starting or ending date. A student can join a class at anytime and doesn’t have to wait for a starting date as it’s an ongoing class (a syllabus is used in a class and it recycles through the material for that level).
URL:https://www.tatosalsa.com/event/tatosalsa-new-6-weeks-beginner-course-and-regular-classes-7/
LOCATION:Tato Salsa Studio\, 2901 W. Busch Blvd\, Suite 1024\, Tampa\, FL\, 33618\, United States
ATTACH;FMTTYPE=image/jpeg:https://www.tatosalsa.com/wp-content/uploads/2024/06/unnamed-3.jpg
END:VEVENT
BEGIN:VEVENT
DTSTART;TZID=America/New_York:20240730T193000
DTEND;TZID=America/New_York:20240730T220000
DTSTAMP:20260421T065618
CREATED:20240613T011132Z
LAST-MODIFIED:20240613T011132Z
UID:6836-1722367800-1722376800@www.tatosalsa.com
SUMMARY:TaToSalsa - New 6 weeks beginner Salsa On2 course and regular classes
DESCRIPTION:Our current beginner 6 weeks course is CLOSED. Join us for our upcoming new beginner 6 weeks course starting August 13th. Cost for this course is $60\, please register and reserve your spot today! \nFor all our other levels\, is class as usual! \nSchedule is as follows: \n*Salsa On2 beginner course – 7:30pm to 8:30pm \n*Advance beginner Salsa On2 class – 7:30pm to 8:30pm \n*Intermediate Salsa On2 class – 8:30pm to 9:30pm \n-SHOES- \nNEW STUDENTS: Tennis shoes/ Street shoes/flats/ comfortable indoor shoes (NO FLIP FLOPS OR SANDALS) \nINTERMEDIATE/ADVANCE STUDENTS: Dance Shoes \n*NOTE* \nCOURSE vs CLASS: 6 weeks beginner course has a starting date and ending date | A CLASS – Ongoing and it doesn’t have a starting or ending date. A student can join a class at anytime and doesn’t have to wait for a starting date as it’s an ongoing class (a syllabus is used in a class and it recycles through the material for that level).
URL:https://www.tatosalsa.com/event/tatosalsa-new-6-weeks-beginner-salsa-on2-course-and-regular-classes-12/
LOCATION:Tato Salsa Studio\, 2901 W. Busch Blvd\, Suite 1024\, Tampa\, FL\, 33618\, United States
ATTACH;FMTTYPE=image/jpeg:https://www.tatosalsa.com/wp-content/uploads/2024/06/unnamed-3.jpg
END:VEVENT
BEGIN:VEVENT
DTSTART;TZID=America/New_York:20240731T190000
DTEND;TZID=America/New_York:20240731T220000
DTSTAMP:20260421T065618
CREATED:20240613T005641Z
LAST-MODIFIED:20240613T005641Z
UID:6821-1722452400-1722463200@www.tatosalsa.com
SUMMARY:TaToSalsa - New 6 weeks beginner Bachata course and regular classes
DESCRIPTION:Our current beginner 6 weeks course is CLOSED. Join us for our upcoming new beginner 6 weeks course starting August 14th. Cost for this course is $60\, please register and reserve your spot today! \nFor all our other levels\, is class as usual! \nSchedule is as follows: \n*Bachata beginner course – 7pm to 8pm \n*Advance Bachata beginner class – 7pm to 8pm \n*Intermediate Bachata class – 8:15pm to 9:15pm \n-SHOES- \nNEW STUDENTS: Tennis shoes/ Street shoes/flats/ comfortable indoor shoes (NO FLIP FLOPS OR SANDALS) \nINTERMEDIATE/ADVANCE STUDENTS: Dance Shoes \n*NOTE* \nCOURSE vs CLASS: 6 weeks beginner course has a starting date and ending date | A CLASS – Ongoing and it doesn’t have a starting or ending date. A student can join a class at anytime and doesn’t have to wait for a starting date as it’s an ongoing class (a syllabus is used in a class and it recycles through the material for that level).
URL:https://www.tatosalsa.com/event/tatosalsa-new-6-weeks-beginner-bachata-course-and-regular-classes-10/
LOCATION:Tato Salsa Studio\, 2901 W. Busch Blvd\, Suite 1024\, Tampa\, FL\, 33618\, United States
ATTACH;FMTTYPE=image/jpeg:https://www.tatosalsa.com/wp-content/uploads/2024/06/unnamed-3.jpg
END:VEVENT
END:VCALENDAR