BEGIN:VCALENDAR
VERSION:2.0
PRODID:-//Tampa Salsa Lessons | Clases de Salsa - ECPv6.15.20//NONSGML v1.0//EN
CALSCALE:GREGORIAN
METHOD:PUBLISH
X-WR-CALNAME:Tampa Salsa Lessons | Clases de Salsa
X-ORIGINAL-URL:https://www.tatosalsa.com
X-WR-CALDESC:Events for Tampa Salsa Lessons | Clases de Salsa
REFRESH-INTERVAL;VALUE=DURATION:PT1H
X-Robots-Tag:noindex
X-PUBLISHED-TTL:PT1H
BEGIN:VTIMEZONE
TZID:America/New_York
BEGIN:DAYLIGHT
TZOFFSETFROM:-0500
TZOFFSETTO:-0400
TZNAME:EDT
DTSTART:20230312T070000
END:DAYLIGHT
BEGIN:STANDARD
TZOFFSETFROM:-0400
TZOFFSETTO:-0500
TZNAME:EST
DTSTART:20231105T060000
END:STANDARD
BEGIN:DAYLIGHT
TZOFFSETFROM:-0500
TZOFFSETTO:-0400
TZNAME:EDT
DTSTART:20240310T070000
END:DAYLIGHT
BEGIN:STANDARD
TZOFFSETFROM:-0400
TZOFFSETTO:-0500
TZNAME:EST
DTSTART:20241103T060000
END:STANDARD
BEGIN:DAYLIGHT
TZOFFSETFROM:-0500
TZOFFSETTO:-0400
TZNAME:EDT
DTSTART:20250309T070000
END:DAYLIGHT
BEGIN:STANDARD
TZOFFSETFROM:-0400
TZOFFSETTO:-0500
TZNAME:EST
DTSTART:20251102T060000
END:STANDARD
END:VTIMEZONE
BEGIN:VEVENT
DTSTART;TZID=America/New_York:20240501T190000
DTEND;TZID=America/New_York:20240501T220000
DTSTAMP:20260420T220617
CREATED:20240329T165420Z
LAST-MODIFIED:20240329T165420Z
UID:6707-1714590000-1714600800@www.tatosalsa.com
SUMMARY:TaToSalsa - New beginner Bachata course and regular classes
DESCRIPTION:Our current beginner 6 weeks course is CLOSED. Join us for our upcoming new beginner 6 weeks course starting May\, 15th. Cost for this course is $60\, please register and reserve your spot today! \nFor all our other levels\, is class as usual! \nSchedule is as follows: \n*Bachata beginner course – 7pm to 8pm \n*Advance Bachata beginner class – 7pm to 8pm \n*Intermediate Bachata class – 8:15pm to 9:15pm \n-SHOES- \nNEW STUDENTS: Tennis shoes/ Street shoes/flats/ comfortable indoor shoes (NO FLIP FLOPS OR SANDALS) \nINTERMEDIATE/ADVANCE STUDENTS: Dance Shoes \n*NOTE* \nCOURSE vs CLASS: 6 weeks beginner course has a starting date and ending date | A CLASS – Ongoing and it doesn’t have a starting or ending date. A student can join a class at anytime and doesn’t have to wait for a starting date as it’s an ongoing class (a syllabus is used in a class and it recycles through the material for that level).
URL:https://www.tatosalsa.com/event/tatosalsa-new-beginner-bachata-course-and-regular-classes-8/
LOCATION:Tato Salsa Studio\, 2901 W. Busch Blvd\, Suite 1024\, Tampa\, FL\, 33618\, United States
ATTACH;FMTTYPE=image/png:https://www.tatosalsa.com/wp-content/uploads/2024/03/newclassflyer.png
END:VEVENT
BEGIN:VEVENT
DTSTART;VALUE=DATE:20240502
DTEND;VALUE=DATE:20240506
DTSTAMP:20260420T220617
CREATED:20240424T111548Z
LAST-MODIFIED:20240424T111548Z
UID:6738-1714608000-1714953599@www.tatosalsa.com
SUMMARY:BAILATAMPA DANCE FESTIVAL 2024
DESCRIPTION:Welcome to the 3rd annual Baila Tampa Latin Dance Fest.Come enjoy over 40 dance workshops\, dance challenges and masterclasses from top of the line instructors\, nightly showcases\, insane pool parties\, top Dj’s\, all the Latin dancing your body can handle.Prices will increase accordingly: On the 1st of each month leading up to the event. Tickets are non-refundable. They may be transferable. Prices at the door will differ from online. All online sale end May 1st\, 2024.\nHotel:Hilton Carillon Park St. Pete.\nHotel link for reservations:https://tinyurl.com/4pj3a9kvNo resort fee\, Public parking available\, $179 room block discount\nTicket:https://www.tickettailor.com/…/bailatampalatind…/1035592#
URL:https://www.tatosalsa.com/event/bailatampa-dance-festival-2024/
LOCATION:Hilton St. Petersburg Carillon Park\, 950 Lake Carillon Dr.\, St. Petersburg\, FL\, 33716\, United States
ATTACH;FMTTYPE=image/jpeg:https://www.tatosalsa.com/wp-content/uploads/2024/04/unnamed-2.jpg
END:VEVENT
BEGIN:VEVENT
DTSTART;TZID=America/New_York:20240506T180000
DTEND;TZID=America/New_York:20240506T220000
DTSTAMP:20260420T220617
CREATED:20240329T163437Z
LAST-MODIFIED:20240329T163437Z
UID:6698-1715018400-1715032800@www.tatosalsa.com
SUMMARY:TaToSalsa - New beginner Salsa course and regular classes
DESCRIPTION:Our current beginner 6 weeks course is CLOSED. Join us for our upcoming new beginner 6 weeks course starting MAY\, 13th. Cost for this course is $60\, please register and reserve your spot today! \nFor all our other levels\, is class as usual! \nSchedule is as follows: \n*Salsa beginner course – 6pm to 6:55pm \n*Salsa beginner course – 7pm to 7:55pm \n*Advance Salsa beginner class – 6pm to 6:55pm \n*Advance Salsa beginner class – 7pm to 7:55pm \n*Intermediate Salsa level 1 class – 8:15pm to 9:15pm \n*Intermediate Salsa level 2 class – 8:15pm to 9:15pm \n-SHOES- \nNEW STUDENTS: Tennis shoes/ Street shoes/flats/ comfortable indoor shoes (NO FLIP FLOPS OR SANDALS) \nINTERMEDIATE/ADVANCE STUDENTS: Dance Shoes \n*NOTE* \nCOURSE vs CLASS: 6 weeks beginner course has a starting date and ending date | A CLASS – Ongoing and it doesn’t have a starting or ending date. A student can join a class at anytime and doesn’t have to wait for a starting date as it’s an ongoing class (a syllabus is used in a class and it recycles through the material for that level).
URL:https://www.tatosalsa.com/event/tatosalsa-new-beginner-salsa-course-and-regular-classes-7/
LOCATION:Tato Salsa Studio\, 2901 W. Busch Blvd\, Suite 1024\, Tampa\, FL\, 33618\, United States
ATTACH;FMTTYPE=image/png:https://www.tatosalsa.com/wp-content/uploads/2024/03/newclassflyer.png
END:VEVENT
BEGIN:VEVENT
DTSTART;TZID=America/New_York:20240507T193000
DTEND;TZID=America/New_York:20240507T220000
DTSTAMP:20260420T220617
CREATED:20240329T170844Z
LAST-MODIFIED:20240329T170844Z
UID:6720-1715110200-1715119200@www.tatosalsa.com
SUMMARY:TaToSalsa - New beginner Salsa On2 course and regular classes
DESCRIPTION:Our current beginner 6 weeks course is CLOSED. Join us for our upcoming new beginner 6 weeks course starting MAY\, 14th. Cost for this course is $60\, please register and reserve your spot today! \nFor all our other levels\, is class as usual! \nSchedule is as follows: \n*Salsa On2 beginner course – 7:30pm to 8:30pm \n*Advance beginner Salsa On2 class – 7:30pm to 8:30pm \n*Intermediate Salsa On2 class – 8:30pm to 9:30pm \n-SHOES- \nNEW STUDENTS: Tennis shoes/ Street shoes/flats/ comfortable indoor shoes (NO FLIP FLOPS OR SANDALS) \nINTERMEDIATE/ADVANCE STUDENTS: Dance Shoes \n*NOTE* \nCOURSE vs CLASS: 6 weeks beginner course has a starting date and ending date | A CLASS – Ongoing and it doesn’t have a starting or ending date. A student can join a class at anytime and doesn’t have to wait for a starting date as it’s an ongoing class (a syllabus is used in a class and it recycles through the material for that level).
URL:https://www.tatosalsa.com/event/tatosalsa-new-beginner-salsa-on2-course-and-regular-classes-9/
LOCATION:Tato Salsa Studio\, 2901 W. Busch Blvd\, Suite 1024\, Tampa\, FL\, 33618\, United States
ATTACH;FMTTYPE=image/png:https://www.tatosalsa.com/wp-content/uploads/2024/03/newclassflyer.png
END:VEVENT
BEGIN:VEVENT
DTSTART;TZID=America/New_York:20240508T190000
DTEND;TZID=America/New_York:20240508T220000
DTSTAMP:20260420T220617
CREATED:20240329T165702Z
LAST-MODIFIED:20240329T165702Z
UID:6709-1715194800-1715205600@www.tatosalsa.com
SUMMARY:TaToSalsa - New beginner Bachata course and regular classes
DESCRIPTION:Our current beginner 6 weeks course is CLOSED. Join us for our upcoming new beginner 6 weeks course starting May\, 15th. Cost for this course is $60\, please register and reserve your spot today! \nFor all our other levels\, is class as usual! \nSchedule is as follows: \n*Bachata beginner course – 7pm to 8pm \n*Advance Bachata beginner class – 7pm to 8pm \n*Intermediate Bachata class – 8:15pm to 9:15pm \n-SHOES- \nNEW STUDENTS: Tennis shoes/ Street shoes/flats/ comfortable indoor shoes (NO FLIP FLOPS OR SANDALS) \nINTERMEDIATE/ADVANCE STUDENTS: Dance Shoes \n*NOTE* \nCOURSE vs CLASS: 6 weeks beginner course has a starting date and ending date | A CLASS – Ongoing and it doesn’t have a starting or ending date. A student can join a class at anytime and doesn’t have to wait for a starting date as it’s an ongoing class (a syllabus is used in a class and it recycles through the material for that level).
URL:https://www.tatosalsa.com/event/tatosalsa-new-beginner-bachata-course-and-regular-classes-9/
LOCATION:Tato Salsa Studio\, 2901 W. Busch Blvd\, Suite 1024\, Tampa\, FL\, 33618\, United States
ATTACH;FMTTYPE=image/png:https://www.tatosalsa.com/wp-content/uploads/2024/03/newclassflyer.png
END:VEVENT
BEGIN:VEVENT
DTSTART;TZID=America/New_York:20240513T180000
DTEND;TZID=America/New_York:20240513T220000
DTSTAMP:20260420T220617
CREATED:20240424T104754Z
LAST-MODIFIED:20240424T104754Z
UID:6727-1715623200-1715637600@www.tatosalsa.com
SUMMARY:TaToSalsa - NEW 6 WEEKS BEGINNER SALSA COURSE STARTS TODAY!
DESCRIPTION:Today is the starting day of our new 6 weeks beginner course at 7pm. Register today to reserve your spot. Cost for the beginner course is $60 a person. \nREGISTER TODAY! \nIf you’re a formal student or a new student who’s taken formal classes in the past\, you can join the classes at any point. \nFor all our other levels\, is class as usual! \nSchedule is as follows: \n*6 weeks beginner course – 7pm-7:55pm \n*Advance beginner first hour class – 6pm to 6:55pm | Second hour class – 7pm to 7:55pm \n*Intermediate class – 8:15pm to 9:15pm | Advance Intermediate class – 8:15pm to 9:15pm \n-SHOES- \nNEW STUDENTS: Tennis shoes/ Street shoes/flats/ comfortable indoor shoes (NO FLIP FLOPS OR SANDALS) \nINTERMEDIATE/ADVANCE STUDENTS: Dance Shoes \n*NOTE* \nCOURSE vs CLASS: 4 weeks beginner course has a starting date and ending date | A CLASS – Ongoing and it doesn’t have a starting or ending date. A student can join a class at anytime and doesn’t have to wait for a starting date as it’s an ongoing class (a syllabus is used in a class and it recycles through the material for that level).
URL:https://www.tatosalsa.com/event/tatosalsa-new-6-weeks-beginner-salsa-course-starts-today-2/
LOCATION:Tato Salsa Studio\, 2901 W. Busch Blvd\, Suite 1024\, Tampa\, FL\, 33618\, United States
END:VEVENT
BEGIN:VEVENT
DTSTART;TZID=America/New_York:20240514T193000
DTEND;TZID=America/New_York:20240514T220000
DTSTAMP:20260420T220617
CREATED:20240424T104927Z
LAST-MODIFIED:20240424T104927Z
UID:6729-1715715000-1715724000@www.tatosalsa.com
SUMMARY:TaToSalsa - NEW 6 WEEKS BEGINNER SALSA ON2 COURSE STARTS TODAY!
DESCRIPTION:Today is the starting day of our new 6 weeks Salsa On2 (Mambo) beginner course. If you’re a formal student\, make sure to purchase your class package for the advance beginner Salsa On2 classes (check out the class package page on the site). Cost for the beginner course is $60 (New students). \nREGISTER TODAY! \nIf you’re a formal student or a new student who’s taken formal classes in the past\, you can join the classes at any point. \nFor all our other levels\, is class as usual! \nSchedule is as follows: \n*6 weeks beginner course – 7:30pm–8:30pm \n*Advance beginner class – 7:30pm to 8:30pm \n*Intermediate class – 8:45pm to 9:45pm \n-SHOES- \nNEW STUDENTS: Tennis shoes/ Street shoes/flats/ comfortable indoor shoes (NO FLIP FLOPS OR SANDALS) \nINTERMEDIATE/ADVANCE STUDENTS: Dance Shoes \n*NOTE* \nCOURSE vs CLASS: 4 weeks beginner course has a starting date and ending date | A CLASS – Ongoing and it doesn’t have a starting or ending date. A student can join a class at anytime and doesn’t have to wait for a starting date as it’s an ongoing class (a syllabus is used in a class and it recycles through the material for that level).
URL:https://www.tatosalsa.com/event/tatosalsa-new-6-weeks-beginner-salsa-on2-course-starts-today-3/
LOCATION:Tato Salsa Studio\, 2901 W. Busch Blvd\, Suite 1024\, Tampa\, FL\, 33618\, United States
END:VEVENT
BEGIN:VEVENT
DTSTART;TZID=America/New_York:20240515T190000
DTEND;TZID=America/New_York:20240515T220000
DTSTAMP:20260420T220617
CREATED:20240424T105058Z
LAST-MODIFIED:20240424T105058Z
UID:6731-1715799600-1715810400@www.tatosalsa.com
SUMMARY:TaToSalsa - NEW 6 WEEKS BEGINNER BACHATA COURSE STARTS TODAY!
DESCRIPTION:Today is the starting day of our new 6 weeks Bachata beginner course. If you’re a formal student\, make sure to purchase your class package for the advance beginner Bachata classes (check out the class package page on the site). Cost for the beginner course is $60 (New students). \nREGISTER TODAY! \nIf you’re a formal student or a new student who’s taken formal classes in the past\, you can join the classes at any point. \nFor all our other levels\, is class as usual! \nSchedule is as follows: \n*6 weeks beginner course – 7pm–8pm \n*Advance beginner class – 7pm to 8pm \n*Intermediate class – 8:15pm to 9:15pm \n-SHOES- \nNEW STUDENTS: Tennis shoes/ Street shoes/flats/ comfortable indoor shoes (NO FLIP FLOPS OR SANDALS) \nINTERMEDIATE/ADVANCE STUDENTS: Dance Shoes \n*NOTE* \nCOURSE vs CLASS: 4 weeks beginner course has a starting date and ending date | A CLASS – Ongoing and it doesn’t have a starting or ending date. A student can join a class at anytime and doesn’t have to wait for a starting date as it’s an ongoing class (a syllabus is used in a class and it recycles through the material for that level).
URL:https://www.tatosalsa.com/event/tatosalsa-new-6-weeks-beginner-bachata-course-starts-today-4/
LOCATION:Tato Salsa Studio\, 2901 W. Busch Blvd\, Suite 1024\, Tampa\, FL\, 33618\, United States
END:VEVENT
BEGIN:VEVENT
DTSTART;TZID=America/New_York:20240520T180000
DTEND;TZID=America/New_York:20240520T220000
DTSTAMP:20260420T220617
CREATED:20240508T152138Z
LAST-MODIFIED:20240508T152138Z
UID:6744-1716228000-1716242400@www.tatosalsa.com
SUMMARY:TaToSalsa - New 6 weeks beginner Salsa course and regular classes
DESCRIPTION:If you happen to miss our first week of our 6 weeks beginner course\, it’s okay! You can join us tonight for the remaining 5 weeks. Cost for the 5 weeks is $60. \nFor all our other levels\, is class as usual! \nSchedule is as follows: \n*Salsa beginner course – 7pm to 7:55pm \n*Advance Salsa beginner class – 6pm to 6:55pm \n*Advance Salsa beginner class – 7pm to 7:55pm \n*Intermediate Salsa level 1 class – 8:15pm to 9:15pm \n*Intermediate Salsa level 2 class – 8:15pm to 9:15pm \n-SHOES- \nNEW STUDENTS: Tennis shoes/ Street shoes/flats/ comfortable indoor shoes (NO FLIP FLOPS OR SANDALS) \nINTERMEDIATE/ADVANCE STUDENTS: Dance Shoes \n*NOTE* \nCOURSE vs CLASS: 6 weeks beginner course has a starting date and ending date | A CLASS – Ongoing and it doesn’t have a starting or ending date. A student can join a class at anytime and doesn’t have to wait for a starting date as it’s an ongoing class (a syllabus is used in a class and it recycles through the material for that level).
URL:https://www.tatosalsa.com/event/tatosalsa-new-6-weeks-beginner-salsa-course-and-regular-classes/
LOCATION:Tato Salsa Studio\, 2901 W. Busch Blvd\, Suite 1024\, Tampa\, FL\, 33618\, United States
ATTACH;FMTTYPE=image/png:https://www.tatosalsa.com/wp-content/uploads/2024/04/healthy-food-Flyer.png
END:VEVENT
BEGIN:VEVENT
DTSTART;TZID=America/New_York:20240521T193000
DTEND;TZID=America/New_York:20240521T220000
DTSTAMP:20260420T220617
CREATED:20240508T155030Z
LAST-MODIFIED:20240508T155030Z
UID:6755-1716319800-1716328800@www.tatosalsa.com
SUMMARY:TaToSalsa - New 6 weeks beginner Salsa On2 course and regular classes
DESCRIPTION:If you happen to miss our first week of our 6 weeks beginner course\, it’s okay! You can join us tonight for the remaining 5 weeks. Cost for the 5 weeks is $60. \nFor all our other levels\, is class as usual! \nSchedule is as follows: \n*Salsa On2 beginner course – 7:30pm to 8:30pm \n*Advance beginner Salsa On2 class – 7:30pm to 8:30pm \n*Intermediate level 1&2 Salsa On2 class – 8:30pm to 9:30pm \n-SHOES- \nNEW STUDENTS: Tennis shoes/ Street shoes/flats/ comfortable indoor shoes (NO FLIP FLOPS OR SANDALS) \nINTERMEDIATE/ADVANCE STUDENTS: Dance Shoes \n*NOTE* \nCOURSE vs CLASS: 6 weeks beginner course has a starting date and ending date | A CLASS – Ongoing and it doesn’t have a starting or ending date. A student can join a class at anytime and doesn’t have to wait for a starting date as it’s an ongoing class (a syllabus is used in a class and it recycles through the material for that level).
URL:https://www.tatosalsa.com/event/tatosalsa-new-6-weeks-beginner-salsa-on2-course-and-regular-classes/
LOCATION:Tato Salsa Studio\, 2901 W. Busch Blvd\, Suite 1024\, Tampa\, FL\, 33618\, United States
ATTACH;FMTTYPE=image/png:https://www.tatosalsa.com/wp-content/uploads/2024/04/healthy-food-Flyer.png
END:VEVENT
BEGIN:VEVENT
DTSTART;TZID=America/New_York:20240522T190000
DTEND;TZID=America/New_York:20240522T220000
DTSTAMP:20260420T220617
CREATED:20240508T160302Z
LAST-MODIFIED:20240508T160302Z
UID:6765-1716404400-1716415200@www.tatosalsa.com
SUMMARY:TaToSalsa - New 6 weeks beginner Bachata course and regular classes
DESCRIPTION:If you happen to miss our first week of our 6 weeks beginner course\, it’s okay! You can join us tonight for the remaining 5 weeks. Cost for the 5 weeks is $60. \nFor all our other levels\, is class as usual! \nSchedule is as follows: \n*Bachata beginner course – 7pm to 8pm \n*Advance Bachata beginner class – 7pm to 8pm \n*Intermediate Bachata class – 8:15pm to 9:15pm \n-SHOES- \nNEW STUDENTS: Tennis shoes/ Street shoes/flats/ comfortable indoor shoes (NO FLIP FLOPS OR SANDALS) \nINTERMEDIATE/ADVANCE STUDENTS: Dance Shoes \n*NOTE* \nCOURSE vs CLASS: 6 weeks beginner course has a starting date and ending date | A CLASS – Ongoing and it doesn’t have a starting or ending date. A student can join a class at anytime and doesn’t have to wait for a starting date as it’s an ongoing class (a syllabus is used in a class and it recycles through the material for that level).
URL:https://www.tatosalsa.com/event/tatosalsa-new-6-weeks-beginner-bachata-course-and-regular-classes/
LOCATION:Tato Salsa Studio\, 2901 W. Busch Blvd\, Suite 1024\, Tampa\, FL\, 33618\, United States
ATTACH;FMTTYPE=image/png:https://www.tatosalsa.com/wp-content/uploads/2024/04/healthy-food-Flyer.png
END:VEVENT
BEGIN:VEVENT
DTSTART;TZID=America/New_York:20240526T150000
DTEND;TZID=America/New_York:20240526T200000
DTSTAMP:20260420T220617
CREATED:20240521T205633Z
LAST-MODIFIED:20240521T205633Z
UID:6776-1716735600-1716753600@www.tatosalsa.com
SUMMARY:Sunday de Sabrosura Dance Social - "Beach Party"
DESCRIPTION:Join us for Tampa’s longest running\, and original afternoon Sunday dance social.\nMeet us for an afternoon of dancing at your favorite Sunday social in the heart of Ybor City\, this month’s theme is beach party\, so come ready with your beach gear (PG please) and don’t forget to bring a friend. Class will be taught by non other than our world Bachata super star Jonathan Troncoso.\nPLEASE NOTE THE FOLLOWING:\n– No children will be allowed\, no exceptions– If you are feeling under the weather and have COVID like symptoms\, please stay home.DISCLAIMER: ***Attend and dance at your own risk. TaToSalsa Inc\, its owners and staff\, La Herencia de Ybor\, its owner and staff will not be held liable for any sickness\, or injuries that may arise while attending this event. ***Sunday de Sabrosura social is normally held once a month typically every 4th Sunday of the month in the heart of Ybor city at La Herencia de Ybor. It has grown to be Tampa’s favorite afternoon social\, where you’ll find the best mojitos and sangrias here. Let’s not forget great music with an awesome afternoon vibe!\nTaTo Salsa Students $10 | General Admission $15Music By: Mambo TribeDance Lesson: Jonathan TroncosoPhotos: Soreyrith Um\nParking is available in the lot behind the venue; HOWEVER\, YOU MUST PAY THE METER. We have noticed the rate has increased\, please consider parking across the street\, or in the lots on the adjacent sides of La Herencia\, they are cheaper. There is free street parking available in some areas\, please read the signs.\nThank you\,\nTaToSalsa\nATTENTION NEW ATTENDEES:\nADDRESS IS 1817 E 7TH AVE TAMPA\, FL\, 33605.
URL:https://www.tatosalsa.com/event/sunday-de-sabrosura-dance-social-beach-party/
LOCATION:La Herencia de Ybor\, 1817 E. 7th ave.\, Tampa\, FL\, 33605\, United States
ATTACH;FMTTYPE=image/jpeg:https://www.tatosalsa.com/wp-content/uploads/2024/05/441675679_1021442969546765_4850119435040220185_n.jpg
END:VEVENT
BEGIN:VEVENT
DTSTART;TZID=America/New_York:20240527T180000
DTEND;TZID=America/New_York:20240527T220000
DTSTAMP:20260420T220617
CREATED:20240508T152405Z
LAST-MODIFIED:20240508T152405Z
UID:6747-1716832800-1716847200@www.tatosalsa.com
SUMMARY:TaToSalsa - New 6 weeks beginner Salsa course and regular classes
DESCRIPTION:If you are a beginner student and would like to join our current beginner course\, tonight is the last day to join. Cost for the remaining 4 weeks is $60. \nFor all our other levels\, is class as usual! \nSchedule is as follows: \n*Salsa beginner course – 7pm to 7:55pm \n*Advance Salsa beginner class – 6pm to 6:55pm \n*Advance Salsa beginner class – 7pm to 7:55pm \n*Intermediate Salsa level 1 class – 8:15pm to 9:15pm \n*Intermediate Salsa level 2 class – 8:15pm to 9:15pm \n-SHOES- \nNEW STUDENTS: Tennis shoes/ Street shoes/flats/ comfortable indoor shoes (NO FLIP FLOPS OR SANDALS) \nINTERMEDIATE/ADVANCE STUDENTS: Dance Shoes \n*NOTE* \nCOURSE vs CLASS: 6 weeks beginner course has a starting date and ending date | A CLASS – Ongoing and it doesn’t have a starting or ending date. A student can join a class at anytime and doesn’t have to wait for a starting date as it’s an ongoing class (a syllabus is used in a class and it recycles through the material for that level).
URL:https://www.tatosalsa.com/event/tatosalsa-new-6-weeks-beginner-salsa-course-and-regular-classes-2/
LOCATION:Tato Salsa Studio\, 2901 W. Busch Blvd\, Suite 1024\, Tampa\, FL\, 33618\, United States
ATTACH;FMTTYPE=image/png:https://www.tatosalsa.com/wp-content/uploads/2024/04/healthy-food-Flyer.png
END:VEVENT
BEGIN:VEVENT
DTSTART;TZID=America/New_York:20240528T193000
DTEND;TZID=America/New_York:20240528T220000
DTSTAMP:20260420T220617
CREATED:20240508T155155Z
LAST-MODIFIED:20240508T155155Z
UID:6757-1716924600-1716933600@www.tatosalsa.com
SUMMARY:TaToSalsa - New 6 weeks beginner Salsa On2 course and regular classes
DESCRIPTION:If you are a beginner student and would like to join our current beginner course\, tonight is the last day to join. Cost for the remaining 4 weeks is $60. \nFor all our other levels\, is class as usual! \nSchedule is as follows: \n*Bachata beginner course – 7:30pm to 8:30pm \n*Advance Bachata beginner class – 7:30pm to 8:30pm \n*Intermediate Salsa level 1 class – 8:30pm to 9:30pm \n-SHOES- \nNEW STUDENTS: Tennis shoes/ Street shoes/flats/ comfortable indoor shoes (NO FLIP FLOPS OR SANDALS) \nINTERMEDIATE/ADVANCE STUDENTS: Dance Shoes \n*NOTE* \nCOURSE vs CLASS: 6 weeks beginner course has a starting date and ending date | A CLASS – Ongoing and it doesn’t have a starting or ending date. A student can join a class at anytime and doesn’t have to wait for a starting date as it’s an ongoing class (a syllabus is used in a class and it recycles through the material for that level).
URL:https://www.tatosalsa.com/event/tatosalsa-new-6-weeks-beginner-salsa-on2-course-and-regular-classes-4/
LOCATION:Tato Salsa Studio\, 2901 W. Busch Blvd\, Suite 1024\, Tampa\, FL\, 33618\, United States
ATTACH;FMTTYPE=image/png:https://www.tatosalsa.com/wp-content/uploads/2024/04/healthy-food-Flyer.png
END:VEVENT
BEGIN:VEVENT
DTSTART;TZID=America/New_York:20240529T190000
DTEND;TZID=America/New_York:20240529T220000
DTSTAMP:20260420T220617
CREATED:20240508T160427Z
LAST-MODIFIED:20240508T160427Z
UID:6767-1717009200-1717020000@www.tatosalsa.com
SUMMARY:TaToSalsa - New 6 weeks beginner Bachata course and regular classes
DESCRIPTION:If you are a beginner student and would like to join our current beginner course\, tonight is the last day to join. Cost for the remaining 4 weeks is $60. \nFor all our other levels\, is class as usual! \nSchedule is as follows: \n*Bachata beginner course – 7pm to 8pm \n*Advance Bachata beginner class – 7pm to 8pm \n*Intermediate Bachata class – 8:15pm to 9:15pm \n-SHOES- \nNEW STUDENTS: Tennis shoes/ Street shoes/flats/ comfortable indoor shoes (NO FLIP FLOPS OR SANDALS) \nINTERMEDIATE/ADVANCE STUDENTS: Dance Shoes \n*NOTE* \nCOURSE vs CLASS: 6 weeks beginner course has a starting date and ending date | A CLASS – Ongoing and it doesn’t have a starting or ending date. A student can join a class at anytime and doesn’t have to wait for a starting date as it’s an ongoing class (a syllabus is used in a class and it recycles through the material for that level).
URL:https://www.tatosalsa.com/event/tatosalsa-new-6-weeks-beginner-bachata-course-and-regular-classes-2/
LOCATION:Tato Salsa Studio\, 2901 W. Busch Blvd\, Suite 1024\, Tampa\, FL\, 33618\, United States
ATTACH;FMTTYPE=image/png:https://www.tatosalsa.com/wp-content/uploads/2024/04/healthy-food-Flyer.png
END:VEVENT
END:VCALENDAR