BEGIN:VCALENDAR
VERSION:2.0
PRODID:-//Tampa Salsa Lessons | Clases de Salsa - ECPv6.15.20//NONSGML v1.0//EN
CALSCALE:GREGORIAN
METHOD:PUBLISH
X-WR-CALNAME:Tampa Salsa Lessons | Clases de Salsa
X-ORIGINAL-URL:https://www.tatosalsa.com
X-WR-CALDESC:Events for Tampa Salsa Lessons | Clases de Salsa
REFRESH-INTERVAL;VALUE=DURATION:PT1H
X-Robots-Tag:noindex
X-PUBLISHED-TTL:PT1H
BEGIN:VTIMEZONE
TZID:America/New_York
BEGIN:DAYLIGHT
TZOFFSETFROM:-0500
TZOFFSETTO:-0400
TZNAME:EDT
DTSTART:20230312T070000
END:DAYLIGHT
BEGIN:STANDARD
TZOFFSETFROM:-0400
TZOFFSETTO:-0500
TZNAME:EST
DTSTART:20231105T060000
END:STANDARD
BEGIN:DAYLIGHT
TZOFFSETFROM:-0500
TZOFFSETTO:-0400
TZNAME:EDT
DTSTART:20240310T070000
END:DAYLIGHT
BEGIN:STANDARD
TZOFFSETFROM:-0400
TZOFFSETTO:-0500
TZNAME:EST
DTSTART:20241103T060000
END:STANDARD
BEGIN:DAYLIGHT
TZOFFSETFROM:-0500
TZOFFSETTO:-0400
TZNAME:EDT
DTSTART:20250309T070000
END:DAYLIGHT
BEGIN:STANDARD
TZOFFSETFROM:-0400
TZOFFSETTO:-0500
TZNAME:EST
DTSTART:20251102T060000
END:STANDARD
END:VTIMEZONE
BEGIN:VEVENT
DTSTART;TZID=America/New_York:20240401T180000
DTEND;TZID=America/New_York:20240401T220000
DTSTAMP:20260420T180235
CREATED:20240220T164439Z
LAST-MODIFIED:20240308T105338Z
UID:6659-1711994400-1712008800@www.tatosalsa.com
SUMMARY:TaToSalsa - NEW SALSA 6 WEEKS BEGINNER COURSE STARTS TODAY!
DESCRIPTION:Today is the starting day of our new 6 weeks beginner courses. We are offering the beginner course in two separate hours. First hour is 6-6:55pm and the second hour 7-7:55pm. Please select the hour that’s the best option for you (that will be your course and hour of class for the 6 weeks). Cost for the beginner course is $60 \nREGISTER TODAY! \nIf you’re a formal student or a new student who’s taken formal classes in the past\, you can join the classes at any point. \nFor all our other levels\, is class as usual! \nSchedule is as follows: \n*6 weeks beginner course – 6pm–6:55pm \n*6 weeks beginner course – 7pm-7:55pm \n*Advance beginner first hour class – 6pm to 6:55pm | Second hour class – 7pm to 7:55pm \n*Intermediate class – 8:15pm to 9:15pm | Advance Intermediate class – 8:15pm to 9:15pm \n-SHOES- \nNEW STUDENTS: Tennis shoes/ Street shoes/flats/ comfortable indoor shoes (NO FLIP FLOPS OR SANDALS) \nINTERMEDIATE/ADVANCE STUDENTS: Dance Shoes \n*NOTE* \nCOURSE vs CLASS: 4 weeks beginner course has a starting date and ending date | A CLASS – Ongoing and it doesn’t have a starting or ending date. A student can join a class at anytime and doesn’t have to wait for a starting date as it’s an ongoing class (a syllabus is used in a class and it recycles through the material for that level).
URL:https://www.tatosalsa.com/event/tatosalsa-new-salsa-6-weeks-beginner-course-starts-today/
LOCATION:Tato Salsa Studio\, 2901 W. Busch Blvd\, Suite 1024\, Tampa\, FL\, 33618\, United States
ATTACH;FMTTYPE=image/png:https://www.tatosalsa.com/wp-content/uploads/2024/03/Yellow-Orange-Modern-Restaurant-Menu-Flyer.png
END:VEVENT
BEGIN:VEVENT
DTSTART;TZID=America/New_York:20240402T193000
DTEND;TZID=America/New_York:20240402T220000
DTSTAMP:20260420T180235
CREATED:20240220T164626Z
LAST-MODIFIED:20240308T105318Z
UID:6661-1712086200-1712095200@www.tatosalsa.com
SUMMARY:TaToSalsa - NEW SALSA ON2 (MAMBO) 6 WEEKS BEGINNER COURSE STARTS TODAY!
DESCRIPTION:Today is the starting day of our new 6 weeks Salsa On2 (Mambo) beginner course. If you’re a formal student\, make sure to purchase your class package for the advance beginner Salsa On2 classes (check out the class package page on the site). Cost for the beginner course is $60 (New students). \nREGISTER TODAY! \nIf you’re a formal student or a new student who’s taken formal classes in the past\, you can join the classes at any point. \nFor all our other levels\, is class as usual! \nSchedule is as follows: \n*6 weeks beginner course – 7:30pm–8:30pm \n*Advance beginner class – 7:30pm to 8:30pm \n*Intermediate class – 8:45pm to 9:45pm \n-SHOES- \nNEW STUDENTS: Tennis shoes/ Street shoes/flats/ comfortable indoor shoes (NO FLIP FLOPS OR SANDALS) \nINTERMEDIATE/ADVANCE STUDENTS: Dance Shoes \n*NOTE* \nCOURSE vs CLASS: 4 weeks beginner course has a starting date and ending date | A CLASS – Ongoing and it doesn’t have a starting or ending date. A student can join a class at anytime and doesn’t have to wait for a starting date as it’s an ongoing class (a syllabus is used in a class and it recycles through the material for that level).
URL:https://www.tatosalsa.com/event/tatosalsa-new-salsa-on2-mambo-6-weeks-beginner-course-starts-today/
LOCATION:Tato Salsa Studio\, 2901 W. Busch Blvd\, Suite 1024\, Tampa\, FL\, 33618\, United States
ATTACH;FMTTYPE=image/png:https://www.tatosalsa.com/wp-content/uploads/2024/03/Yellow-Orange-Modern-Restaurant-Menu-Flyer.png
END:VEVENT
BEGIN:VEVENT
DTSTART;TZID=America/New_York:20240403T190000
DTEND;TZID=America/New_York:20240403T220000
DTSTAMP:20260420T180235
CREATED:20240220T164838Z
LAST-MODIFIED:20240308T105256Z
UID:6664-1712170800-1712181600@www.tatosalsa.com
SUMMARY:TaToSalsa - BACHATA NEW 6 WEEKS BEGINNER COURSE STARTS TODAY!!
DESCRIPTION:Today is the starting day of our new 6 weeks Bachata beginner course. If you’re a formal student\, make sure to purchase your class package for the advance beginner Bachata classes (check out the class package page on the site). Cost for the beginner course is $60 (New students). \nREGISTER TODAY! \nIf you’re a formal student or a new student who’s taken formal classes in the past\, you can join the classes at any point. \nFor all our other levels\, is class as usual! \nSchedule is as follows: \n*6 weeks beginner course – 7pm–8pm \n*Advance beginner class – 7pm to 8pm \n*Intermediate class – 8:15pm to 9:15pm \n-SHOES- \nNEW STUDENTS: Tennis shoes/ Street shoes/flats/ comfortable indoor shoes (NO FLIP FLOPS OR SANDALS) \nINTERMEDIATE/ADVANCE STUDENTS: Dance Shoes \n*NOTE* \nCOURSE vs CLASS: 4 weeks beginner course has a starting date and ending date | A CLASS – Ongoing and it doesn’t have a starting or ending date. A student can join a class at anytime and doesn’t have to wait for a starting date as it’s an ongoing class (a syllabus is used in a class and it recycles through the material for that level).
URL:https://www.tatosalsa.com/event/tatosalsa-bachata-new-6-weeks-beginner-course-starts-today/
LOCATION:Tato Salsa Studio\, 2901 W. Busch Blvd\, Suite 1024\, Tampa\, FL\, 33618\, United States
ATTACH;FMTTYPE=image/png:https://www.tatosalsa.com/wp-content/uploads/2024/03/Yellow-Orange-Modern-Restaurant-Menu-Flyer.png
END:VEVENT
BEGIN:VEVENT
DTSTART;TZID=America/New_York:20240406T100000
DTEND;TZID=America/New_York:20240406T133000
DTSTAMP:20260420T180235
CREATED:20240313T144947Z
LAST-MODIFIED:20240313T144947Z
UID:6678-1712397600-1712410200@www.tatosalsa.com
SUMMARY:WORKSHOPS WITH ROBINSON AND LARISSA
DESCRIPTION:Join us Saturday\, April 6th for some high energy Salsa and Bachata workshops with World Bachata and Zouk Champions\, Robinson & Larissa from Sao Paulo\, Brazil. They taught at our last Sunday de Sabrosura and we just had to have them back!\n\nSchedule:\n10:00 a.m. On1 Ladies Styling\n11:15 a.m. Bachata Fusion\n12:20 p.m Bachata Tricks & Styling\n\nOnline Price:\n1 workshop = $25\n2 workshops = $45\n3 workshops = $60\n\nPLEASE NOTE: $30 per workshop at the door\n\n1 workshop                   2 workshops                 3 workshops\n\n\n\n\n\n\n\n\nMore information on Robinson and Larissa:\nhttps://linktr.ee/robinsonelarissa…\nSee you there!
URL:https://www.tatosalsa.com/event/workshops-with-robinson-and-larissa/
LOCATION:Tato Salsa Studio\, 2901 W. Busch Blvd\, Suite 1024\, Tampa\, FL\, 33618\, United States
ATTACH;FMTTYPE=image/png:https://www.tatosalsa.com/wp-content/uploads/2024/03/workshop-flyer.png
END:VEVENT
BEGIN:VEVENT
DTSTART;TZID=America/New_York:20240408T180000
DTEND;TZID=America/New_York:20240408T220000
DTSTAMP:20260420T180235
CREATED:20240329T155708Z
LAST-MODIFIED:20240329T155708Z
UID:6689-1712599200-1712613600@www.tatosalsa.com
SUMMARY:TaToSalsa - New Salsa beginner course and regular classes
DESCRIPTION:If you happen to miss our first week of our 6 weeks beginner course\, it’s okay! You can join us tonight for the remaining 5 weeks. Cost for the 5 weeks is $60. \nFor all our other levels\, is class as usual! \nSchedule is as follows: \n*Salsa beginner course – 6pm to 6:55pm \n*Salsa beginner course – 7pm to 7:55pm \n*Advance Salsa beginner class – 6pm to 6:55pm \n*Advance Salsa beginner class – 7pm to 7:55pm \n*Intermediate Salsa level 1 class – 8:15pm to 9:15pm \n*Intermediate Salsa level 2 class – 8:15pm to 9:15pm \n-SHOES- \nNEW STUDENTS: Tennis shoes/ Street shoes/flats/ comfortable indoor shoes (NO FLIP FLOPS OR SANDALS) \nINTERMEDIATE/ADVANCE STUDENTS: Dance Shoes \n*NOTE* \nCOURSE vs CLASS: 6 weeks beginner course has a starting date and ending date | A CLASS – Ongoing and it doesn’t have a starting or ending date. A student can join a class at anytime and doesn’t have to wait for a starting date as it’s an ongoing class (a syllabus is used in a class and it recycles through the material for that level).
URL:https://www.tatosalsa.com/event/tatosalsa-new-salsa-beginner-course-and-regular-classes-2/
LOCATION:Tato Salsa Studio\, 2901 W. Busch Blvd\, Suite 1024\, Tampa\, FL\, 33618\, United States
ATTACH;FMTTYPE=image/png:https://www.tatosalsa.com/wp-content/uploads/2024/03/newclassflyer.png
END:VEVENT
BEGIN:VEVENT
DTSTART;TZID=America/New_York:20240409T193000
DTEND;TZID=America/New_York:20240409T220000
DTSTAMP:20260420T180235
CREATED:20240329T170006Z
LAST-MODIFIED:20240329T170006Z
UID:6711-1712691000-1712700000@www.tatosalsa.com
SUMMARY:TaToSalsa - New beginner Salsa On2 course and regular classes
DESCRIPTION:If you happen to miss our first week of our 6 weeks beginner course\, it’s okay! You can join us tonight for the remaining 5 weeks. Cost for the 5 weeks is $60. \nFor all our other levels\, is class as usual! \nSchedule is as follows: \n*Salsa On2 beginner course – 7:30pm to 8:30pm \n*Advance beginner Salsa On2 class – 7:30pm to 8:30pm \n*Intermediate level 1&2 Salsa On2 class – 8:30pm to 9:30pm \n-SHOES- \nNEW STUDENTS: Tennis shoes/ Street shoes/flats/ comfortable indoor shoes (NO FLIP FLOPS OR SANDALS) \nINTERMEDIATE/ADVANCE STUDENTS: Dance Shoes \n*NOTE* \nCOURSE vs CLASS: 6 weeks beginner course has a starting date and ending date | A CLASS – Ongoing and it doesn’t have a starting or ending date. A student can join a class at anytime and doesn’t have to wait for a starting date as it’s an ongoing class (a syllabus is used in a class and it recycles through the material for that level).
URL:https://www.tatosalsa.com/event/tatosalsa-new-beginner-salsa-on2-course-and-regular-classes-5/
LOCATION:Tato Salsa Studio\, 2901 W. Busch Blvd\, Suite 1024\, Tampa\, FL\, 33618\, United States
ATTACH;FMTTYPE=image/png:https://www.tatosalsa.com/wp-content/uploads/2024/03/newclassflyer.png
END:VEVENT
BEGIN:VEVENT
DTSTART;TZID=America/New_York:20240410T190000
DTEND;TZID=America/New_York:20240410T220000
DTSTAMP:20260420T180235
CREATED:20240329T164501Z
LAST-MODIFIED:20240329T164501Z
UID:6700-1712775600-1712786400@www.tatosalsa.com
SUMMARY:TaToSalsa - New beginner Bachata course and regular classes
DESCRIPTION:If you happen to miss our first week of our 6 weeks beginner course\, it’s okay! You can join us tonight for the remaining 5 weeks. Cost for the 5 weeks is $60. \nFor all our other levels\, is class as usual! \nSchedule is as follows: \n*Bachata beginner course – 7pm to 8pm \n*Advance Bachata beginner class – 7pm to 8pm \n*Intermediate Bachata class – 8:15pm to 9:15pm \n-SHOES- \nNEW STUDENTS: Tennis shoes/ Street shoes/flats/ comfortable indoor shoes (NO FLIP FLOPS OR SANDALS) \nINTERMEDIATE/ADVANCE STUDENTS: Dance Shoes \n*NOTE* \nCOURSE vs CLASS: 6 weeks beginner course has a starting date and ending date | A CLASS – Ongoing and it doesn’t have a starting or ending date. A student can join a class at anytime and doesn’t have to wait for a starting date as it’s an ongoing class (a syllabus is used in a class and it recycles through the material for that level).
URL:https://www.tatosalsa.com/event/tatosalsa-new-beginner-bachata-course-and-regular-classes-5/
LOCATION:Tato Salsa Studio\, 2901 W. Busch Blvd\, Suite 1024\, Tampa\, FL\, 33618\, United States
ATTACH;FMTTYPE=image/png:https://www.tatosalsa.com/wp-content/uploads/2024/03/newclassflyer.png
END:VEVENT
BEGIN:VEVENT
DTSTART;TZID=America/New_York:20240415T180000
DTEND;TZID=America/New_York:20240415T220000
DTSTAMP:20260420T180235
CREATED:20240329T161808Z
LAST-MODIFIED:20240329T161808Z
UID:6691-1713204000-1713218400@www.tatosalsa.com
SUMMARY:TaToSalsa - New beginner Salsa course and regular classes
DESCRIPTION:If you are a beginner student and would like to join our current beginner course\, tonight is the last day to join. Cost for the remaining 4 weeks is $60. \nFor all our other levels\, is class as usual! \nSchedule is as follows: \n*Salsa beginner course – 6pm to 6:55pm \n*Salsa beginner course – 7pm to 7:55pm \n*Advance Salsa beginner class – 6pm to 6:55pm \n*Advance Salsa beginner class – 7pm to 7:55pm \n*Intermediate Salsa level 1 class – 8:15pm to 9:15pm \n*Intermediate Salsa level 2 class – 8:15pm to 9:15pm \n-SHOES- \nNEW STUDENTS: Tennis shoes/ Street shoes/flats/ comfortable indoor shoes (NO FLIP FLOPS OR SANDALS) \nINTERMEDIATE/ADVANCE STUDENTS: Dance Shoes \n*NOTE* \nCOURSE vs CLASS: 6 weeks beginner course has a starting date and ending date | A CLASS – Ongoing and it doesn’t have a starting or ending date. A student can join a class at anytime and doesn’t have to wait for a starting date as it’s an ongoing class (a syllabus is used in a class and it recycles through the material for that level).
URL:https://www.tatosalsa.com/event/tatosalsa-new-beginner-salsa-course-and-regular-classes-5/
LOCATION:Tato Salsa Studio\, 2901 W. Busch Blvd\, Suite 1024\, Tampa\, FL\, 33618\, United States
ATTACH;FMTTYPE=image/png:https://www.tatosalsa.com/wp-content/uploads/2024/03/newclassflyer.png
END:VEVENT
BEGIN:VEVENT
DTSTART;TZID=America/New_York:20240416T193000
DTEND;TZID=America/New_York:20240416T220000
DTSTAMP:20260420T180235
CREATED:20240329T170207Z
LAST-MODIFIED:20240329T170207Z
UID:6713-1713295800-1713304800@www.tatosalsa.com
SUMMARY:TaToSalsa - New beginner Salsa On2 course and regular classes
DESCRIPTION:If you are a beginner student and would like to join our current beginner course\, tonight is the last day to join. Cost for the remaining 4 weeks is $60. \nFor all our other levels\, is class as usual! \nSchedule is as follows: \n*Bachata beginner course – 7:30pm to 8:30pm \n*Advance Bachata beginner class – 7:30pm to 8:30pm \n*Intermediate Salsa level 1 class – 8:30pm to 9:30pm \n-SHOES- \nNEW STUDENTS: Tennis shoes/ Street shoes/flats/ comfortable indoor shoes (NO FLIP FLOPS OR SANDALS) \nINTERMEDIATE/ADVANCE STUDENTS: Dance Shoes \n*NOTE* \nCOURSE vs CLASS: 6 weeks beginner course has a starting date and ending date | A CLASS – Ongoing and it doesn’t have a starting or ending date. A student can join a class at anytime and doesn’t have to wait for a starting date as it’s an ongoing class (a syllabus is used in a class and it recycles through the material for that level).
URL:https://www.tatosalsa.com/event/tatosalsa-new-beginner-salsa-on2-course-and-regular-classes-6/
LOCATION:Tato Salsa Studio\, 2901 W. Busch Blvd\, Suite 1024\, Tampa\, FL\, 33618\, United States
ATTACH;FMTTYPE=image/png:https://www.tatosalsa.com/wp-content/uploads/2024/03/newclassflyer.png
END:VEVENT
BEGIN:VEVENT
DTSTART;TZID=America/New_York:20240417T190000
DTEND;TZID=America/New_York:20240417T220000
DTSTAMP:20260420T180235
CREATED:20240329T164757Z
LAST-MODIFIED:20240329T164757Z
UID:6703-1713380400-1713391200@www.tatosalsa.com
SUMMARY:TaToSalsa - New beginner Bachata course and regular classes
DESCRIPTION:If you are a beginner student and would like to join our current beginner course\, tonight is the last day to join. Cost for the remaining 4 weeks is $60. \nFor all our other levels\, is class as usual! \nSchedule is as follows: \n*Bachata beginner course – 7pm to 8pm \n*Advance Bachata beginner class – 7pm to 8pm \n*Intermediate Bachata class – 8:15pm to 9:15pm \n-SHOES- \nNEW STUDENTS: Tennis shoes/ Street shoes/flats/ comfortable indoor shoes (NO FLIP FLOPS OR SANDALS) \nINTERMEDIATE/ADVANCE STUDENTS: Dance Shoes \n*NOTE* \nCOURSE vs CLASS: 6 weeks beginner course has a starting date and ending date | A CLASS – Ongoing and it doesn’t have a starting or ending date. A student can join a class at anytime and doesn’t have to wait for a starting date as it’s an ongoing class (a syllabus is used in a class and it recycles through the material for that level).
URL:https://www.tatosalsa.com/event/tatosalsa-new-beginner-bachata-course-and-regular-classes-6/
LOCATION:Tato Salsa Studio\, 2901 W. Busch Blvd\, Suite 1024\, Tampa\, FL\, 33618\, United States
ATTACH;FMTTYPE=image/png:https://www.tatosalsa.com/wp-content/uploads/2024/03/newclassflyer.png
END:VEVENT
BEGIN:VEVENT
DTSTART;TZID=America/New_York:20240422T180000
DTEND;TZID=America/New_York:20240422T220000
DTSTAMP:20260420T180235
CREATED:20240329T162938Z
LAST-MODIFIED:20240329T162938Z
UID:6693-1713808800-1713823200@www.tatosalsa.com
SUMMARY:TaToSalsa - Beginner Salsa course and regular classes
DESCRIPTION:Our current beginner 6 weeks course is CLOSED. Join us for our upcoming new beginner 6 weeks course starting MAY 13th. Cost for this course is $60\, please register and reserve your spot today! \nFor all our other levels\, is class as usual! \nSchedule is as follows: \n*Salsa beginner course – 6pm to 6:55pm \n*Salsa beginner course – 7pm to 7:55pm \n*Advance Salsa beginner class – 6pm to 6:55pm \n*Advance Salsa beginner class – 7pm to 7:55pm \n*Intermediate Salsa level 1 class – 8:15pm to 9:15pm \n*Intermediate Salsa level 2 class – 8:15pm to 9:15pm \n-SHOES- \nNEW STUDENTS: Tennis shoes/ Street shoes/flats/ comfortable indoor shoes (NO FLIP FLOPS OR SANDALS) \nINTERMEDIATE/ADVANCE STUDENTS: Dance Shoes \n*NOTE* \nCOURSE vs CLASS: 6 weeks beginner course has a starting date and ending date | A CLASS – Ongoing and it doesn’t have a starting or ending date. A student can join a class at anytime and doesn’t have to wait for a starting date as it’s an ongoing class (a syllabus is used in a class and it recycles through the material for that level).
URL:https://www.tatosalsa.com/event/tatosalsa-beginner-salsa-course-and-regular-classes-14/
LOCATION:Tato Salsa Studio\, 2901 W. Busch Blvd\, Suite 1024\, Tampa\, FL\, 33618\, United States
ATTACH;FMTTYPE=image/png:https://www.tatosalsa.com/wp-content/uploads/2024/03/newclassflyer.png
END:VEVENT
BEGIN:VEVENT
DTSTART;TZID=America/New_York:20240423T193000
DTEND;TZID=America/New_York:20240423T220000
DTSTAMP:20260420T180235
CREATED:20240329T170421Z
LAST-MODIFIED:20240329T170421Z
UID:6715-1713900600-1713909600@www.tatosalsa.com
SUMMARY:TaToSalsa - New beginner Salsa On2 course and regular classes
DESCRIPTION:Our current beginner 6 weeks course is CLOSED. Join us for our upcoming new beginner 6 weeks course starting MAY\, 14th. Cost for this course is $60\, please register and reserve your spot today! \nFor all our other levels\, is class as usual! \nSchedule is as follows: \n*Salsa On2 beginner course – 7:30pm to 8:30pm \n*Advance beginner Salsa On2 class – 7:30pm to 8:30pm \n*Intermediate Salsa On2 class – 8:30pm to 9:30pm \n-SHOES- \nNEW STUDENTS: Tennis shoes/ Street shoes/flats/ comfortable indoor shoes (NO FLIP FLOPS OR SANDALS) \nINTERMEDIATE/ADVANCE STUDENTS: Dance Shoes \n*NOTE* \nCOURSE vs CLASS: 6 weeks beginner course has a starting date and ending date | A CLASS – Ongoing and it doesn’t have a starting or ending date. A student can join a class at anytime and doesn’t have to wait for a starting date as it’s an ongoing class (a syllabus is used in a class and it recycles through the material for that level).
URL:https://www.tatosalsa.com/event/tatosalsa-new-beginner-salsa-on2-course-and-regular-classes-7/
LOCATION:Tato Salsa Studio\, 2901 W. Busch Blvd\, Suite 1024\, Tampa\, FL\, 33618\, United States
ATTACH;FMTTYPE=image/png:https://www.tatosalsa.com/wp-content/uploads/2024/03/newclassflyer.png
END:VEVENT
BEGIN:VEVENT
DTSTART;TZID=America/New_York:20240424T190000
DTEND;TZID=America/New_York:20240424T220000
DTSTAMP:20260420T180235
CREATED:20240329T165245Z
LAST-MODIFIED:20240329T165245Z
UID:6705-1713985200-1713996000@www.tatosalsa.com
SUMMARY:TaToSalsa - New beginner Bachata course and regular classes
DESCRIPTION:Our current beginner 6 weeks course is CLOSED. Join us for our upcoming new beginner 6 weeks course starting May\, 15th. Cost for this course is $60\, please register and reserve your spot today! \nFor all our other levels\, is class as usual! \nSchedule is as follows: \n*Bachata beginner course – 7pm to 8pm \n*Advance Bachata beginner class – 7pm to 8pm \n*Intermediate Bachata class – 8:15pm to 9:15pm \n-SHOES- \nNEW STUDENTS: Tennis shoes/ Street shoes/flats/ comfortable indoor shoes (NO FLIP FLOPS OR SANDALS) \nINTERMEDIATE/ADVANCE STUDENTS: Dance Shoes \n*NOTE* \nCOURSE vs CLASS: 6 weeks beginner course has a starting date and ending date | A CLASS – Ongoing and it doesn’t have a starting or ending date. A student can join a class at anytime and doesn’t have to wait for a starting date as it’s an ongoing class (a syllabus is used in a class and it recycles through the material for that level).
URL:https://www.tatosalsa.com/event/tatosalsa-new-beginner-bachata-course-and-regular-classes-7/
LOCATION:Tato Salsa Studio\, 2901 W. Busch Blvd\, Suite 1024\, Tampa\, FL\, 33618\, United States
ATTACH;FMTTYPE=image/png:https://www.tatosalsa.com/wp-content/uploads/2024/03/newclassflyer.png
END:VEVENT
BEGIN:VEVENT
DTSTART;TZID=America/New_York:20240426T200000
DTEND;TZID=America/New_York:20240427T010000
DTSTAMP:20260420T180235
CREATED:20240424T105747Z
LAST-MODIFIED:20240424T105747Z
UID:6735-1714161600-1714179600@www.tatosalsa.com
SUMMARY:BAILATAMPA PRE-PARTY DANCE SOCIAL
DESCRIPTION:Come and enjoy from great food\, drinks\, music and lots of dancing at our Official Pre-Party at La Pasadita Restaurant. A bit of fun before out 2024 Baila Tampa Festival to warm up.\nMusic by: DJ Mambo TribeClass by: Jorge Alberto of Ritmo UrbanoCover $15 pp\nNo outside food/drinks please. Bags will be check. Drink/Food specials for this glamorous event and some special surprises. Share with one and all and lets pack the house!!!
URL:https://www.tatosalsa.com/event/bailatampa-pre-party-dance-social/
LOCATION:la pasadita\, 14100 US Highway 19 N\,\, Clearwater\, FL\, 33764\, United States
ATTACH;FMTTYPE=image/jpeg:https://www.tatosalsa.com/wp-content/uploads/2024/04/unnamed.jpg
END:VEVENT
BEGIN:VEVENT
DTSTART;TZID=America/New_York:20240428T150000
DTEND;TZID=America/New_York:20240428T200000
DTSTAMP:20260420T180235
CREATED:20240424T105306Z
LAST-MODIFIED:20240424T105306Z
UID:6733-1714316400-1714334400@www.tatosalsa.com
SUMMARY:SUNDAY DE SABROSURA DANCE SOCIAL
DESCRIPTION:Tampa’s longest running\, original afternoon dance Sunday social. THANK YOU for keeping the passion for dance alive.\nJoin us for an afternoon of dancing at your favorite Sunday social in the heart of Ybor City\, this month’s class will be with Kery and Dario f DK Dance from Sarasota.\nPLEASE NOTE THE FOLLOWING:\n– No children will be allowed\, no exceptions– If you are feeling under the weather and have COVID like symptoms\, please stay home.DISCLAIMER: ***Attend and dance at your own risk. TaToSalsa Inc\, its owners and staff\, La Herencia de Ybor\, its owner and staff will not be held liable for any sickness\, or injuries that may arise while attending this event. ***Sunday de Sabrosura social is normally held once a month typically every 4th Sunday of the month in the heart of Ybor city at La Herencia de Ybor. It has grown to be Tampa’s favorite afternoon social\, where you’ll find the best mojitos and sangrias here. Let’s not forget great music with an awesome afternoon vibe!\nTaTo Salsa Students $10 | General Admission $15Music By: Mambo TribeDance Lesson: Darío & KeryPhotos: Soreyrith Um\nParking is available in the lot behind the venue; HOWEVER\, YOU MUST PAY THE METER. We have noticed the rate has increased\, please consider parking across the street\, or in the lots on the adjacent sides of La Herencia\, they are cheaper. There is free street parking available in some areas\, please read the signs.\nThank you\,\nTaToSalsa\nATTENTION NEW ATTENDEES:\nADDRESS IS 1817 E 7TH AVE TAMPA\, FL\, 33605.
URL:https://www.tatosalsa.com/event/sunday-de-sabrosura-dance-social-13/
LOCATION:Herencia de Ybor\, 1817 E 7th ave. \, Tampa\, FL\, 33605\, United States
ATTACH;FMTTYPE=image/jpeg:https://www.tatosalsa.com/wp-content/uploads/2024/04/unnamed-1.jpg
END:VEVENT
BEGIN:VEVENT
DTSTART;TZID=America/New_York:20240429T180000
DTEND;TZID=America/New_York:20240429T220000
DTSTAMP:20260420T180235
CREATED:20240329T163216Z
LAST-MODIFIED:20240329T163216Z
UID:6696-1714413600-1714428000@www.tatosalsa.com
SUMMARY:TaToSalsa - New beginner Salsa course and regular classes
DESCRIPTION:Our current beginner 6 weeks course is CLOSED. Join us for our upcoming new beginner 6 weeks course starting MAY 13th. Cost for this course is $60\, please register and reserve your spot today! \nFor all our other levels\, is class as usual! \nSchedule is as follows: \n*Salsa beginner course – 6pm to 6:55pm \n*Salsa beginner course – 7pm to 7:55pm \n*Advance Salsa beginner class – 6pm to 6:55pm \n*Advance Salsa beginner class – 7pm to 7:55pm \n*Intermediate Salsa level 1 class – 8:15pm to 9:15pm \n*Intermediate Salsa level 2 class – 8:15pm to 9:15pm \n-SHOES- \nNEW STUDENTS: Tennis shoes/ Street shoes/flats/ comfortable indoor shoes (NO FLIP FLOPS OR SANDALS) \nINTERMEDIATE/ADVANCE STUDENTS: Dance Shoes \n*NOTE* \nCOURSE vs CLASS: 6 weeks beginner course has a starting date and ending date | A CLASS – Ongoing and it doesn’t have a starting or ending date. A student can join a class at anytime and doesn’t have to wait for a starting date as it’s an ongoing class (a syllabus is used in a class and it recycles through the material for that level).
URL:https://www.tatosalsa.com/event/tatosalsa-new-beginner-salsa-course-and-regular-classes-6/
LOCATION:Tato Salsa Studio\, 2901 W. Busch Blvd\, Suite 1024\, Tampa\, FL\, 33618\, United States
ATTACH;FMTTYPE=image/png:https://www.tatosalsa.com/wp-content/uploads/2024/03/newclassflyer.png
END:VEVENT
BEGIN:VEVENT
DTSTART;TZID=America/New_York:20240430T193000
DTEND;TZID=America/New_York:20240430T220000
DTSTAMP:20260420T180235
CREATED:20240329T170707Z
LAST-MODIFIED:20240329T170707Z
UID:6718-1714505400-1714514400@www.tatosalsa.com
SUMMARY:TaToSalsa - New beginner Salsa On2 course and regular classes
DESCRIPTION:Our current beginner 6 weeks course is CLOSED. Join us for our upcoming new beginner 6 weeks course starting MAY\, 14th. Cost for this course is $60\, please register and reserve your spot today! \nFor all our other levels\, is class as usual! \nSchedule is as follows: \n*Salsa On2 beginner course – 7:30pm to 8:30pm \n*Advance beginner Salsa On2 class – 7:30pm to 8:30pm \n*Intermediate Salsa On2 class – 8:30pm to 9:30pm \n-SHOES- \nNEW STUDENTS: Tennis shoes/ Street shoes/flats/ comfortable indoor shoes (NO FLIP FLOPS OR SANDALS) \nINTERMEDIATE/ADVANCE STUDENTS: Dance Shoes \n*NOTE* \nCOURSE vs CLASS: 6 weeks beginner course has a starting date and ending date | A CLASS – Ongoing and it doesn’t have a starting or ending date. A student can join a class at anytime and doesn’t have to wait for a starting date as it’s an ongoing class (a syllabus is used in a class and it recycles through the material for that level).
URL:https://www.tatosalsa.com/event/tatosalsa-new-beginner-salsa-on2-course-and-regular-classes-8/
LOCATION:Tato Salsa Studio\, 2901 W. Busch Blvd\, Suite 1024\, Tampa\, FL\, 33618\, United States
ATTACH;FMTTYPE=image/png:https://www.tatosalsa.com/wp-content/uploads/2024/03/newclassflyer.png
END:VEVENT
END:VCALENDAR