BEGIN:VCALENDAR
VERSION:2.0
PRODID:-//Tampa Salsa Lessons | Clases de Salsa - ECPv6.15.20//NONSGML v1.0//EN
CALSCALE:GREGORIAN
METHOD:PUBLISH
X-WR-CALNAME:Tampa Salsa Lessons | Clases de Salsa
X-ORIGINAL-URL:https://www.tatosalsa.com
X-WR-CALDESC:Events for Tampa Salsa Lessons | Clases de Salsa
REFRESH-INTERVAL;VALUE=DURATION:PT1H
X-Robots-Tag:noindex
X-PUBLISHED-TTL:PT1H
BEGIN:VTIMEZONE
TZID:America/New_York
BEGIN:DAYLIGHT
TZOFFSETFROM:-0500
TZOFFSETTO:-0400
TZNAME:EDT
DTSTART:20230312T070000
END:DAYLIGHT
BEGIN:STANDARD
TZOFFSETFROM:-0400
TZOFFSETTO:-0500
TZNAME:EST
DTSTART:20231105T060000
END:STANDARD
BEGIN:DAYLIGHT
TZOFFSETFROM:-0500
TZOFFSETTO:-0400
TZNAME:EDT
DTSTART:20240310T070000
END:DAYLIGHT
BEGIN:STANDARD
TZOFFSETFROM:-0400
TZOFFSETTO:-0500
TZNAME:EST
DTSTART:20241103T060000
END:STANDARD
BEGIN:DAYLIGHT
TZOFFSETFROM:-0500
TZOFFSETTO:-0400
TZNAME:EDT
DTSTART:20250309T070000
END:DAYLIGHT
BEGIN:STANDARD
TZOFFSETFROM:-0400
TZOFFSETTO:-0500
TZNAME:EST
DTSTART:20251102T060000
END:STANDARD
END:VTIMEZONE
BEGIN:VEVENT
DTSTART;TZID=America/New_York:20240205T180000
DTEND;TZID=America/New_York:20240205T220000
DTSTAMP:20260420T094632
CREATED:20240104T200715Z
LAST-MODIFIED:20240104T200715Z
UID:6562-1707156000-1707170400@www.tatosalsa.com
SUMMARY:TaToSalsa - Salsa 6 weeks beginner course and regular classes
DESCRIPTION:Our current beginner 6 weeks course is CLOSED. Join us for our upcoming new beginner 6 weeks course starting FEBRUARY 19th. Cost for this course is $60\, please register and reserve your spot today! \nFor all our other levels\, is class as usual! \nSchedule is as follows: \n*Salsa beginner course – 6pm to 6:55pm \n*Salsa beginner course – 7pm to 7:55pm \n*Advance Salsa beginner class – 6pm to 6:55pm \n*Advance Salsa beginner class – 7pm to 7:55pm \n*Intermediate Salsa level 1 class – 8:15pm to 9:15pm \n*Intermediate Salsa level 2 class – 8:15pm to 9:15pm \n-SHOES- \nNEW STUDENTS: Tennis shoes/ Street shoes/flats/ comfortable indoor shoes (NO FLIP FLOPS OR SANDALS) \nINTERMEDIATE/ADVANCE STUDENTS: Dance Shoes \n*NOTE* \nCOURSE vs CLASS: 6 weeks beginner course has a starting date and ending date | A CLASS – Ongoing and it doesn’t have a starting or ending date. A student can join a class at anytime and doesn’t have to wait for a starting date as it’s an ongoing class (a syllabus is used in a class and it recycles through the material for that level).
URL:https://www.tatosalsa.com/event/tatosalsa-salsa-6-weeks-beginner-course-and-regular-classes-5/
LOCATION:Tato Salsa Studio\, 2901 W. Busch Blvd\, Suite 1024\, Tampa\, FL\, 33618\, United States
ATTACH;FMTTYPE=image/jpeg:https://www.tatosalsa.com/wp-content/uploads/2023/12/New-class-flyer-2024.jpg
END:VEVENT
BEGIN:VEVENT
DTSTART;TZID=America/New_York:20240206T193000
DTEND;TZID=America/New_York:20240206T220000
DTSTAMP:20260420T094632
CREATED:20240104T204624Z
LAST-MODIFIED:20240104T204624Z
UID:6590-1707247800-1707256800@www.tatosalsa.com
SUMMARY:TaToSalsa - 6 weeks beginner Salsa On2 course and regular classes
DESCRIPTION:Our current beginner 6 weeks course is CLOSED. Join us for our upcoming new beginner 6 weeks course starting FEBRUARY 20th. Cost for this course is $60\, please register and reserve your spot today! \nFor all our other levels\, is class as usual! \nSchedule is as follows: \n*Salsa On2 beginner course – 7:30pm to 8:30pm \n*Advance beginner Salsa On2 class – 7:30pm to 8:30pm \n*Intermediate Salsa On2 class – 8:30pm to 9:30pm \n-SHOES- \nNEW STUDENTS: Tennis shoes/ Street shoes/flats/ comfortable indoor shoes (NO FLIP FLOPS OR SANDALS) \nINTERMEDIATE/ADVANCE STUDENTS: Dance Shoes \n*NOTE* \nCOURSE vs CLASS: 6 weeks beginner course has a starting date and ending date | A CLASS – Ongoing and it doesn’t have a starting or ending date. A student can join a class at anytime and doesn’t have to wait for a starting date as it’s an ongoing class (a syllabus is used in a class and it recycles through the material for that level).
URL:https://www.tatosalsa.com/event/tatosalsa-6-weeks-beginner-salsa-on2-course-and-regular-classes-4/
LOCATION:Tato Salsa Studio\, 2901 W. Busch Blvd\, Suite 1024\, Tampa\, FL\, 33618\, United States
ATTACH;FMTTYPE=image/jpeg:https://www.tatosalsa.com/wp-content/uploads/2023/12/New-class-flyer-2024.jpg
END:VEVENT
BEGIN:VEVENT
DTSTART;TZID=America/New_York:20240207T190000
DTEND;TZID=America/New_York:20240207T220000
DTSTAMP:20260420T094632
CREATED:20240104T202438Z
LAST-MODIFIED:20240104T202438Z
UID:6575-1707332400-1707343200@www.tatosalsa.com
SUMMARY:TaToSalsa - Bachata 6 weeks beginner course and regular classes
DESCRIPTION:Our current beginner 6 weeks course is CLOSED. Join us for our upcoming new beginner 6 weeks course starting FEBRUARY 21st. Cost for this course is $60\, please register and reserve your spot today! \nFor all our other levels\, is class as usual! \nSchedule is as follows: \n*Bachata beginner course – 7pm to 8pm \n*Advance Bachata beginner class – 7pm to 8pm \n*Intermediate Bachata class – 8:15pm to 9:15pm \n-SHOES- \nNEW STUDENTS: Tennis shoes/ Street shoes/flats/ comfortable indoor shoes (NO FLIP FLOPS OR SANDALS) \nINTERMEDIATE/ADVANCE STUDENTS: Dance Shoes \n*NOTE* \nCOURSE vs CLASS: 6 weeks beginner course has a starting date and ending date | A CLASS – Ongoing and it doesn’t have a starting or ending date. A student can join a class at anytime and doesn’t have to wait for a starting date as it’s an ongoing class (a syllabus is used in a class and it recycles through the material for that level).
URL:https://www.tatosalsa.com/event/tatosalsa-bachata-6-weeks-beginner-course-and-regular-classes-4/
LOCATION:Tato Salsa Studio\, 2901 W. Busch Blvd\, Suite 1024\, Tampa\, FL\, 33618\, United States
ATTACH;FMTTYPE=image/jpeg:https://www.tatosalsa.com/wp-content/uploads/2023/12/New-class-flyer-2024.jpg
END:VEVENT
BEGIN:VEVENT
DTSTART;TZID=America/New_York:20240208T210000
DTEND;TZID=America/New_York:20240209T010000
DTSTAMP:20260420T094632
CREATED:20240204T144137Z
LAST-MODIFIED:20240204T144137Z
UID:6609-1707426000-1707440400@www.tatosalsa.com
SUMMARY:TUMBAO DANCE SOCIAL
DESCRIPTION:Join us for our monthly Thursday social at our TaToSalsa Studio in Tampa. Get your pre-weekend dance fix on with your favorite Salsa\, Mambo\, and Bachata music.\nDJ: Mambo Tribe\nPrice: $10 Current TaTo Salsa Students | $15 General Admission\nLesson by: Javi Pagan of TaToSalsa / Class starts at 9:10pm\nParking Available.\nStart Time: Doors open 9:00 pm – 1am\nHosted by: Tato Salsa\nFree Parking\nSee you there!!!!
URL:https://www.tatosalsa.com/event/tumbao-dance-social-6/
LOCATION:Tato Salsa Studio\, 2901 W. Busch Blvd\, Suite 1024\, Tampa\, FL\, 33618\, United States
ATTACH;FMTTYPE=image/jpeg:https://www.tatosalsa.com/wp-content/uploads/2024/02/tumbaojan24.jpg
END:VEVENT
BEGIN:VEVENT
DTSTART;TZID=America/New_York:20240212T180000
DTEND;TZID=America/New_York:20240212T220000
DTSTAMP:20260420T094632
CREATED:20240104T200847Z
LAST-MODIFIED:20240104T200847Z
UID:6564-1707760800-1707775200@www.tatosalsa.com
SUMMARY:TaToSalsa - Salsa 6 weeks beginner course and regular classes
DESCRIPTION:Our current beginner 6 weeks course is CLOSED. Join us for our upcoming new beginner 6 weeks course starting FEBRUARY 19th. Cost for this course is $60\, please register and reserve your spot today! \nFor all our other levels\, is class as usual! \nSchedule is as follows: \n*Salsa beginner course – 6pm to 6:55pm \n*Salsa beginner course – 7pm to 7:55pm \n*Advance Salsa beginner class – 6pm to 6:55pm \n*Advance Salsa beginner class – 7pm to 7:55pm \n*Intermediate Salsa level 1 class – 8:15pm to 9:15pm \n*Intermediate Salsa level 2 class – 8:15pm to 9:15pm \n-SHOES- \nNEW STUDENTS: Tennis shoes/ Street shoes/flats/ comfortable indoor shoes (NO FLIP FLOPS OR SANDALS) \nINTERMEDIATE/ADVANCE STUDENTS: Dance Shoes \n*NOTE* \nCOURSE vs CLASS: 6 weeks beginner course has a starting date and ending date | A CLASS – Ongoing and it doesn’t have a starting or ending date. A student can join a class at anytime and doesn’t have to wait for a starting date as it’s an ongoing class (a syllabus is used in a class and it recycles through the material for that level).
URL:https://www.tatosalsa.com/event/tatosalsa-salsa-6-weeks-beginner-course-and-regular-classes-6/
LOCATION:Tato Salsa Studio\, 2901 W. Busch Blvd\, Suite 1024\, Tampa\, FL\, 33618\, United States
ATTACH;FMTTYPE=image/jpeg:https://www.tatosalsa.com/wp-content/uploads/2023/12/New-class-flyer-2024.jpg
END:VEVENT
BEGIN:VEVENT
DTSTART;TZID=America/New_York:20240213T193000
DTEND;TZID=America/New_York:20240213T220000
DTSTAMP:20260420T094632
CREATED:20240104T204832Z
LAST-MODIFIED:20240104T204832Z
UID:6593-1707852600-1707861600@www.tatosalsa.com
SUMMARY:TaToSalsa - 6 weeks beginner Salsa On2 course and regular classes
DESCRIPTION:Our current beginner 6 weeks course is CLOSED. Join us for our upcoming new beginner 6 weeks course starting FEBRUARY 20th. Cost for this course is $60\, please register and reserve your spot today! \nFor all our other levels\, is class as usual! \nSchedule is as follows: \n*Bachata beginner course – 7:30pm to 8:30pm \n*Advance Bachata beginner class – 7:30pm to 8:30pm \n*Intermediate Bachata class – 8:30pm to 9:30pm \n-SHOES- \nNEW STUDENTS: Tennis shoes/ Street shoes/flats/ comfortable indoor shoes (NO FLIP FLOPS OR SANDALS) \nINTERMEDIATE/ADVANCE STUDENTS: Dance Shoes \n*NOTE* \nCOURSE vs CLASS: 6 weeks beginner course has a starting date and ending date | A CLASS – Ongoing and it doesn’t have a starting or ending date. A student can join a class at anytime and doesn’t have to wait for a starting date as it’s an ongoing class (a syllabus is used in a class and it recycles through the material for that level).
URL:https://www.tatosalsa.com/event/tatosalsa-6-weeks-beginner-salsa-on2-course-and-regular-classes-5/
LOCATION:Tato Salsa Studio\, 2901 W. Busch Blvd\, Suite 1024\, Tampa\, FL\, 33618\, United States
ATTACH;FMTTYPE=image/jpeg:https://www.tatosalsa.com/wp-content/uploads/2023/12/New-class-flyer-2024.jpg
END:VEVENT
BEGIN:VEVENT
DTSTART;TZID=America/New_York:20240214T190000
DTEND;TZID=America/New_York:20240214T220000
DTSTAMP:20260420T094632
CREATED:20240104T202746Z
LAST-MODIFIED:20240104T202746Z
UID:6579-1707937200-1707948000@www.tatosalsa.com
SUMMARY:TaToSalsa - Bachata 6 weeks beginner course and regular classes
DESCRIPTION:Our current beginner 6 weeks course is CLOSED. Join us for our upcoming new beginner 6 weeks course starting FEBRUARY 21st. Cost for this course is $60\, please register and reserve your spot today! \nFor all our other levels\, is class as usual! \nSchedule is as follows: \n*Bachata beginner course – 7pm to 8pm \n*Advance Bachata beginner class – 7pm to 8pm \n*Intermediate Bachata class – 8:15pm to 9:15pm \n-SHOES- \nNEW STUDENTS: Tennis shoes/ Street shoes/flats/ comfortable indoor shoes (NO FLIP FLOPS OR SANDALS) \nINTERMEDIATE/ADVANCE STUDENTS: Dance Shoes \n*NOTE* \nCOURSE vs CLASS: 6 weeks beginner course has a starting date and ending date | A CLASS – Ongoing and it doesn’t have a starting or ending date. A student can join a class at anytime and doesn’t have to wait for a starting date as it’s an ongoing class (a syllabus is used in a class and it recycles through the material for that level).
URL:https://www.tatosalsa.com/event/tatosalsa-bachata-6-weeks-beginner-course-and-regular-classes-5/
LOCATION:Tato Salsa Studio\, 2901 W. Busch Blvd\, Suite 1024\, Tampa\, FL\, 33618\, United States
ATTACH;FMTTYPE=image/jpeg:https://www.tatosalsa.com/wp-content/uploads/2023/12/New-class-flyer-2024.jpg
END:VEVENT
BEGIN:VEVENT
DTSTART;TZID=America/New_York:20240219T180000
DTEND;TZID=America/New_York:20240219T220000
DTSTAMP:20260420T094632
CREATED:20240104T201100Z
LAST-MODIFIED:20240130T015105Z
UID:6566-1708365600-1708380000@www.tatosalsa.com
SUMMARY:TaToSalsa - NEW 6 WEEKS BEGINNER SALSA COURSE STARTING TODAY!
DESCRIPTION:Today is the starting day of our new 6 weeks beginner courses. We are offering the beginner course in two separate hours. First hour is 6-6:55pm and the second hour 7-7:55pm. Please select the hour that’s the best option for you (that will be your course and hour of class for the 6 weeks). Cost for the beginner course is $60 \nREGISTER TODAY! \nIf you’re a formal student or a new student who’s taken formal classes in the past\, you can join the classes at any point. \nFor all our other levels\, is class as usual! \nSchedule is as follows: \n*6 weeks beginner course – 6pm–6:55pm \n*6 weeks beginner course – 7pm-7:55pm \n*Advance beginner first hour class – 6pm to 6:55pm | Second hour class – 7pm to 7:55pm \n*Intermediate class – 8:15pm to 9:15pm | Advance Intermediate class – 8:15pm to 9:15pm \n-SHOES- \nNEW STUDENTS: Tennis shoes/ Street shoes/flats/ comfortable indoor shoes (NO FLIP FLOPS OR SANDALS) \nINTERMEDIATE/ADVANCE STUDENTS: Dance Shoes \n*NOTE* \nCOURSE vs CLASS: 4 weeks beginner course has a starting date and ending date | A CLASS – Ongoing and it doesn’t have a starting or ending date. A student can join a class at anytime and doesn’t have to wait for a starting date as it’s an ongoing class (a syllabus is used in a class and it recycles through the material for that level).
URL:https://www.tatosalsa.com/event/tatosalsa-new-6-weeks-beginner-salsa-course-starting-today-2/
LOCATION:Tato Salsa Studio\, 2901 W. Busch Blvd\, Suite 1024\, Tampa\, FL\, 33618\, United States
ATTACH;FMTTYPE=image/jpeg:https://www.tatosalsa.com/wp-content/uploads/2024/01/class-flyer.jpg
END:VEVENT
BEGIN:VEVENT
DTSTART;TZID=America/New_York:20240220T193000
DTEND;TZID=America/New_York:20240220T220000
DTSTAMP:20260420T094632
CREATED:20240104T205000Z
LAST-MODIFIED:20240130T015159Z
UID:6595-1708457400-1708466400@www.tatosalsa.com
SUMMARY:TaToSalsa - NEW 6 WEEKS BEGINNER SALSA ON2 COURSE STARTS TODAY!
DESCRIPTION:Today is the starting day of our new 6 weeks Salsa On2 (Mambo) beginner course. If you’re a formal student\, make sure to purchase your class package for the advance beginner Salsa On2 classes (check out the class package page on the site). Cost for the beginner course is $60 (New students). \nREGISTER TODAY! \nIf you’re a formal student or a new student who’s taken formal classes in the past\, you can join the classes at any point. \nFor all our other levels\, is class as usual! \nSchedule is as follows: \n*6 weeks beginner course – 7:30pm–8:30pm \n*Advance beginner class – 7:30pm to 8:30pm \n*Intermediate class – 8:45pm to 9:45pm \n-SHOES- \nNEW STUDENTS: Tennis shoes/ Street shoes/flats/ comfortable indoor shoes (NO FLIP FLOPS OR SANDALS) \nINTERMEDIATE/ADVANCE STUDENTS: Dance Shoes \n*NOTE* \nCOURSE vs CLASS: 4 weeks beginner course has a starting date and ending date | A CLASS – Ongoing and it doesn’t have a starting or ending date. A student can join a class at anytime and doesn’t have to wait for a starting date as it’s an ongoing class (a syllabus is used in a class and it recycles through the material for that level).
URL:https://www.tatosalsa.com/event/6595/
LOCATION:Tato Salsa Studio\, 2901 W. Busch Blvd\, Suite 1024\, Tampa\, FL\, 33618\, United States
ATTACH;FMTTYPE=image/jpeg:https://www.tatosalsa.com/wp-content/uploads/2024/01/class-flyer.jpg
END:VEVENT
BEGIN:VEVENT
DTSTART;TZID=America/New_York:20240221T190000
DTEND;TZID=America/New_York:20240221T220000
DTSTAMP:20260420T094632
CREATED:20240104T203208Z
LAST-MODIFIED:20240204T144917Z
UID:6581-1708542000-1708552800@www.tatosalsa.com
SUMMARY:TaToSalsa - NEW BACHATA 6 WEEKS BEGINNER COURSE STARTS TODAY!
DESCRIPTION:Today is the starting day of our new 6 weeks Bachata beginner course. If you’re a formal student\, make sure to purchase your class package for the advance beginner Bachata classes (check out the class package page on the site). Cost for the beginner course is $60 (New students). \nREGISTER TODAY! \nIf you’re a formal student or a new student who’s taken formal classes in the past\, you can join the classes at any point. \nFor all our other levels\, is class as usual! \nSchedule is as follows: \n*6 weeks beginner course – 7pm–8pm \n*Advance beginner class – 7pm to 8pm \n*Intermediate class – 8:15pm to 9:15pm \n-SHOES- \nNEW STUDENTS: Tennis shoes/ Street shoes/flats/ comfortable indoor shoes (NO FLIP FLOPS OR SANDALS) \nINTERMEDIATE/ADVANCE STUDENTS: Dance Shoes \n*NOTE* \nCOURSE vs CLASS: 4 weeks beginner course has a starting date and ending date | A CLASS – Ongoing and it doesn’t have a starting or ending date. A student can join a class at anytime and doesn’t have to wait for a starting date as it’s an ongoing class (a syllabus is used in a class and it recycles through the material for that level).
URL:https://www.tatosalsa.com/event/tatosalsa-new-bachata-6-weeks-beginner-course-starts-today/
LOCATION:Tato Salsa Studio\, 2901 W. Busch Blvd\, Suite 1024\, Tampa\, FL\, 33618\, United States
ATTACH;FMTTYPE=image/jpeg:https://www.tatosalsa.com/wp-content/uploads/2024/01/class-flyer.jpg
END:VEVENT
BEGIN:VEVENT
DTSTART;TZID=America/New_York:20240225T150000
DTEND;TZID=America/New_York:20240225T200000
DTSTAMP:20260420T094632
CREATED:20240220T145203Z
LAST-MODIFIED:20240220T145203Z
UID:6628-1708873200-1708891200@www.tatosalsa.com
SUMMARY:SUNDAY DE SABROSURA DANCE SOCIAL
DESCRIPTION:Join us for an afternoon of dancing at your favorite Sunday social in the heart of Ybor City at La Herencia de Ybor. A dance staple in the community.\nWe would like to welcome first time instructors at Sabrosura\, Robinson and Larissa\, World Bachata and Zouk Champions! We are stoked to have them in the house. Check them out!\nDJ: Mambo Tribe\nEntrance: $15 General Public | $10 TS Students\nClass by: Robinson and Larissa (Bachata Fusion)\nPhotography: Soreyrith Um\nCome\, dance with us!\nPLEASE NOTE THE FOLLOWING:\n– No children will be allowed\, no exceptions\n– If you are feeling under the weather and have COVID like symptoms\, please stay home.\nDISCLAIMER: ***Attend and dance at your own risk. TaToSalsa Inc\, its owners and staff\, La Herencia de Ybor\, its owner and staff will not be held liable for any sickness\, or injuries that may arise while attending this event. ***\nSunday de Sabrosura social is normally held once a month typically every 4th Sunday of the month in the heart of Ybor city at La Herencia de Ybor. It has grown to be Tampa’s favorite afternoon Sunday social\, where you’ll find the best mojitos and sangrias in town. Let’s not forget great music with an awesome afternoon vibe!\nParking is available in the lot behind the venue; HOWEVER\, YOU MUST PAY THE METER. We have noticed the rate has increased\, please consider parking across the street\, or in the lots on the adjacent sides of La Herencia\, they are cheaper. There is free street parking available in some areas\, please read the signs.\nThank you\,\nTaToSalsa\nATTENTION NEW ATTENDEES:\nADDRESS IS 1817 E 7TH AVE TAMPA\, FL\, 33605.
URL:https://www.tatosalsa.com/event/sunday-de-sabrosura-dance-social-11/
LOCATION:La Herencia de Ybor\, 1817 E. 7th ave.\, Tampa\, FL\, 33605\, United States
ATTACH;FMTTYPE=image/png:https://www.tatosalsa.com/wp-content/uploads/2024/02/sabrosurafeb2024.png
END:VEVENT
BEGIN:VEVENT
DTSTART;TZID=America/New_York:20240226T180000
DTEND;TZID=America/New_York:20240226T220000
DTSTAMP:20260420T094632
CREATED:20240220T143924Z
LAST-MODIFIED:20240220T144118Z
UID:6618-1708970400-1708984800@www.tatosalsa.com
SUMMARY:TaToSalsa - Salsa 6 weeks beginner course and regular classes
DESCRIPTION:If you happen to miss our first week of our 6 weeks beginner course\, it’s okay! You can join us tonight for the remaining 5 weeks. Cost for the 5 weeks is $60. \nFor all our other levels\, is class as usual! \nSchedule is as follows: \n*Salsa beginner course – 6pm to 6:55pm \n*Salsa beginner course – 7pm to 7:55pm \n*Advance Salsa beginner class – 6pm to 6:55pm \n*Advance Salsa beginner class – 7pm to 7:55pm \n*Intermediate Salsa level 1 class – 8:15pm to 9:15pm \n*Intermediate Salsa level 2 class – 8:15pm to 9:15pm \n-SHOES- \nNEW STUDENTS: Tennis shoes/ Street shoes/flats/ comfortable indoor shoes (NO FLIP FLOPS OR SANDALS) \nINTERMEDIATE/ADVANCE STUDENTS: Dance Shoes \n*NOTE* \nCOURSE vs CLASS: 6 weeks beginner course has a starting date and ending date | A CLASS – Ongoing and it doesn’t have a starting or ending date. A student can join a class at anytime and doesn’t have to wait for a starting date as it’s an ongoing class (a syllabus is used in a class and it recycles through the material for that level).
URL:https://www.tatosalsa.com/event/tatosalsa-salsa-6-weeks-beginner-course-and-regular-classes-7/
LOCATION:Tato Salsa Studio\, 2901 W. Busch Blvd\, Suite 1024\, Tampa\, FL\, 33618\, United States
ATTACH;FMTTYPE=image/jpeg:https://www.tatosalsa.com/wp-content/uploads/2024/01/class-flyer.jpg
END:VEVENT
BEGIN:VEVENT
DTSTART;TZID=America/New_York:20240227T193000
DTEND;TZID=America/New_York:20240227T220000
DTSTAMP:20260420T094632
CREATED:20240220T150006Z
LAST-MODIFIED:20240220T150210Z
UID:6630-1709062200-1709071200@www.tatosalsa.com
SUMMARY:TaToSalsa - Salsa On2 (Mambo) 6 weeks beginner course and regular classes
DESCRIPTION:If you happen to miss our first week of our 6 weeks beginner course\, it’s okay! You can join us tonight for the remaining 5 weeks. Cost for the 5 weeks is $60. \nFor all our other levels\, is class as usual! \nSchedule is as follows: \n*Salsa On2 beginner course – 7:30pm to 8:30pm \n*Advance beginner Salsa On2 class – 7:30pm to 8:30pm \n*Intermediate level 1&2 Salsa On2 class – 8:30pm to 9:30pm \n-SHOES- \nNEW STUDENTS: Tennis shoes/ Street shoes/flats/ comfortable indoor shoes (NO FLIP FLOPS OR SANDALS) \nINTERMEDIATE/ADVANCE STUDENTS: Dance Shoes \n*NOTE* \nCOURSE vs CLASS: 6 weeks beginner course has a starting date and ending date | A CLASS – Ongoing and it doesn’t have a starting or ending date. A student can join a class at anytime and doesn’t have to wait for a starting date as it’s an ongoing class (a syllabus is used in a class and it recycles through the material for that level).
URL:https://www.tatosalsa.com/event/tatosalsa-salsa-on2-mambo-6-weeks-course-and-regular-classes/
LOCATION:Tato Salsa Studio\, 2901 W. Busch Blvd\, Suite 1024\, Tampa\, FL\, 33618\, United States
ATTACH;FMTTYPE=image/jpeg:https://www.tatosalsa.com/wp-content/uploads/2024/01/class-flyer.jpg
END:VEVENT
BEGIN:VEVENT
DTSTART;TZID=America/New_York:20240228T190000
DTEND;TZID=America/New_York:20240228T220000
DTSTAMP:20260420T094632
CREATED:20240220T163057Z
LAST-MODIFIED:20240220T163057Z
UID:6641-1709146800-1709157600@www.tatosalsa.com
SUMMARY:TaToSalsa - Bachata 6 weeks beginner course and regular classes
DESCRIPTION:If you happen to miss our first week of our 6 weeks beginner course\, it’s okay! You can join us tonight for the remaining 5 weeks. Cost for the 5 weeks is $60. \nFor all our other levels\, is class as usual! \nSchedule is as follows: \n*Bachata beginner course – 7pm to 8pm \n*Advance Bachata class – 7pm to 8pm \n*Intermediate Bachata class – 8:15pm to 9:15pm \n-SHOES- \nNEW STUDENTS: Tennis shoes/ Street shoes/flats/ comfortable indoor shoes (NO FLIP FLOPS OR SANDALS) \nINTERMEDIATE/ADVANCE STUDENTS: Dance Shoes \n*NOTE* \nCOURSE vs CLASS: 6 weeks beginner course has a starting date and ending date | A CLASS – Ongoing and it doesn’t have a starting or ending date. A student can join a class at anytime and doesn’t have to wait for a starting date as it’s an ongoing class (a syllabus is used in a class and it recycles through the material for that level).
URL:https://www.tatosalsa.com/event/tatosalsa-bachata-6-weeks-beginner-course-and-regular-classes-6/
LOCATION:Tato Salsa Studio\, 2901 W. Busch Blvd\, Suite 1024\, Tampa\, FL\, 33618\, United States
ATTACH;FMTTYPE=image/jpeg:https://www.tatosalsa.com/wp-content/uploads/2024/01/class-flyer.jpg
END:VEVENT
END:VCALENDAR