BEGIN:VCALENDAR
VERSION:2.0
PRODID:-//Tampa Salsa Lessons | Clases de Salsa - ECPv6.15.20//NONSGML v1.0//EN
CALSCALE:GREGORIAN
METHOD:PUBLISH
X-WR-CALNAME:Tampa Salsa Lessons | Clases de Salsa
X-ORIGINAL-URL:https://www.tatosalsa.com
X-WR-CALDESC:Events for Tampa Salsa Lessons | Clases de Salsa
REFRESH-INTERVAL;VALUE=DURATION:PT1H
X-Robots-Tag:noindex
X-PUBLISHED-TTL:PT1H
BEGIN:VTIMEZONE
TZID:America/New_York
BEGIN:DAYLIGHT
TZOFFSETFROM:-0500
TZOFFSETTO:-0400
TZNAME:EDT
DTSTART:20220313T070000
END:DAYLIGHT
BEGIN:STANDARD
TZOFFSETFROM:-0400
TZOFFSETTO:-0500
TZNAME:EST
DTSTART:20221106T060000
END:STANDARD
BEGIN:DAYLIGHT
TZOFFSETFROM:-0500
TZOFFSETTO:-0400
TZNAME:EDT
DTSTART:20230312T070000
END:DAYLIGHT
BEGIN:STANDARD
TZOFFSETFROM:-0400
TZOFFSETTO:-0500
TZNAME:EST
DTSTART:20231105T060000
END:STANDARD
BEGIN:DAYLIGHT
TZOFFSETFROM:-0500
TZOFFSETTO:-0400
TZNAME:EDT
DTSTART:20240310T070000
END:DAYLIGHT
BEGIN:STANDARD
TZOFFSETFROM:-0400
TZOFFSETTO:-0500
TZNAME:EST
DTSTART:20241103T060000
END:STANDARD
END:VTIMEZONE
BEGIN:VEVENT
DTSTART;TZID=America/New_York:20231204T180000
DTEND;TZID=America/New_York:20231204T220000
DTSTAMP:20260420T010444
CREATED:20231124T113901Z
LAST-MODIFIED:20231124T113901Z
UID:6448-1701712800-1701727200@www.tatosalsa.com
SUMMARY:TaToSalsa - Salsa beginner course and regular classes
DESCRIPTION:If you happen to miss our first week of our 4th week beginner course\, it’s okay! You can join us tonight for the remaining 3 weeks. If you’re a new student and you rather wait till NEW YEAR\, then you can join the new 6 weeks beginner course starting JANUARY 8th. Register and reserve your spot today! \nFor all our other levels\, is class as usual! \nSchedule is as follows: \n*Salsa beginner course – 6pm to 6:55pm \n*Salsa beginner course – 7pm to 7:55pm \n*Advance Salsa beginner class – 6pm to 6:55pm \n*Advance Salsa beginner class – 7pm to 7:55pm \n*Intermediate Salsa level 1 class – 8:15pm to 9:15pm \n*Intermediate Salsa level 2 class – 8:15pm to 9:15pm \n-SHOES- \nNEW STUDENTS: Tennis shoes/ Street shoes/flats/ comfortable indoor shoes (NO FLIP FLOPS OR SANDALS) \nINTERMEDIATE/ADVANCE STUDENTS: Dance Shoes \n*NOTE* \nCOURSE vs CLASS: 6 weeks beginner course has a starting date and ending date | A CLASS – Ongoing and it doesn’t have a starting or ending date. A student can join a class at anytime and doesn’t have to wait for a starting date as it’s an ongoing class (a syllabus is used in a class and it recycles through the material for that level).
URL:https://www.tatosalsa.com/event/tatosalsa-salsa-beginner-course-and-regular-classes-18/
LOCATION:Tato Salsa Studio\, 2901 W. Busch Blvd\, Suite 1024\, Tampa\, FL\, 33618\, United States
ATTACH;FMTTYPE=image/jpeg:https://www.tatosalsa.com/wp-content/uploads/2023/11/classflyerNov2023.jpg
END:VEVENT
BEGIN:VEVENT
DTSTART;TZID=America/New_York:20231205T193000
DTEND;TZID=America/New_York:20231205T220000
DTSTAMP:20260420T010444
CREATED:20231124T114555Z
LAST-MODIFIED:20231124T114555Z
UID:6452-1701804600-1701813600@www.tatosalsa.com
SUMMARY:TaToSalsa - Salsa On2 beginner course and regular classes
DESCRIPTION:If you happen to miss the first week of our 4th weeks beginner course\, it’s okay! Join us tonight for the remaining 3 weeks\, cost $35. If you rather wait until the NEW YEAR to get started\, that’s not a problem! our new 6 weeks beginner course starts JANUARY 9th. \nFor all our other levels\, is class as usual! \nSchedule is as follows: \n*4 weeks beginner course – 7:30pm to 8:30pm \n*Advance beginner class – 7:30pm to 8:30pm \n*Intermediate class – 8:45pm to 9:45pm \n-SHOES- \nNEW STUDENTS: Tennis shoes/ Street shoes/flats/ comfortable indoor shoes (NO FLIP FLOPS OR SANDALS) \nINTERMEDIATE/ADVANCE STUDENTS: Dance Shoes \n*NOTE* \nCOURSE vs CLASS: 4 weeks beginner course has a starting date and ending date | A CLASS – Ongoing and it doesn’t have a starting or ending date. A student can join a class at anytime and doesn’t have to wait for a starting date as its an ongoing class (a syllabus is used in a class and it recycles through the material for that level).
URL:https://www.tatosalsa.com/event/tatosalsa-salsa-on2-beginner-course-and-regular-classes-24/
LOCATION:Tato Salsa Studio\, 2901 W. Busch Blvd\, Suite 1024\, Tampa\, FL\, 33618\, United States
ATTACH;FMTTYPE=image/jpeg:https://www.tatosalsa.com/wp-content/uploads/2023/11/classflyerNov2023.jpg
END:VEVENT
BEGIN:VEVENT
DTSTART;TZID=America/New_York:20231206T190000
DTEND;TZID=America/New_York:20231206T220000
DTSTAMP:20260420T010444
CREATED:20231124T115124Z
LAST-MODIFIED:20231124T121127Z
UID:6456-1701889200-1701900000@www.tatosalsa.com
SUMMARY:TaToSalsa - Bachata beginner course and regular classes
DESCRIPTION:If you happen to miss the first week of our 4th weeks beginner course\, it’s okay! Join us tonight for the remaining 3 weeks\, cost $35. If you rather wait until the NEW YEAR to get started\, that’s not a problem! our new 6 weeks beginner course starts JANUARY 10th. Register today and reserve your spot. \nFor all our other levels\, is class as usual! \nSchedule is as follows: \n*4 weeks beginner course – 7pm to 7:55pm \n*Advance beginner class – 7pm to 7:55pm \n*Intermediate class – 8:15pm to 9:15pm \n  \n-SHOES- \nNEW STUDENTS: Tennis shoes/ Street shoes/flats/ comfortable indoor shoes (NO FLIP FLOPS OR SANDALS) \nINTERMEDIATE/ADVANCE STUDENTS: Dance Shoes \n  \n*NOTE* \nCOURSE vs CLASS: 4 weeks beginner course has a starting date and ending date | A CLASS – Ongoing and it doesn’t have a starting or ending date. A student can join a class at anytime and doesn’t have to wait for a starting date as it’s an ongoing class (a syllabus is used in a class and it recycles through the material for that level).
URL:https://www.tatosalsa.com/event/tatosalsa-bachata-beginner-course-and-regular-classes-23/
LOCATION:Tato Salsa Studio\, 2901 W. Busch Blvd\, Suite 1024\, Tampa\, FL\, 33618\, United States
ATTACH;FMTTYPE=image/jpeg:https://www.tatosalsa.com/wp-content/uploads/2023/11/classflyerNov2023.jpg
END:VEVENT
BEGIN:VEVENT
DTSTART;TZID=America/New_York:20231207T210000
DTEND;TZID=America/New_York:20231208T210000
DTSTAMP:20260420T010444
CREATED:20231124T121343Z
LAST-MODIFIED:20231124T121343Z
UID:6481-1701982800-1702069200@www.tatosalsa.com
SUMMARY:TUMBAO DANCE SOCIAL
DESCRIPTION:Join us for our once a month Thursday Tumbao Dance social. More detail information coming soon!
URL:https://www.tatosalsa.com/event/tumbao-dance-social-5/
LOCATION:Tato Salsa Studio\, 2901 W. Busch Blvd\, Suite 1024\, Tampa\, FL\, 33618\, United States
END:VEVENT
BEGIN:VEVENT
DTSTART;TZID=America/New_York:20231211T180000
DTEND;TZID=America/New_York:20231211T220000
DTSTAMP:20260420T010444
CREATED:20231124T113042Z
LAST-MODIFIED:20231124T121038Z
UID:6439-1702317600-1702332000@www.tatosalsa.com
SUMMARY:TaToSalsa - Salsa beginner course and regular classes
DESCRIPTION:Our current beginner course is CLOSED for enrollment. If you’re a new student and would like to get started then join us for our upcoming new 6 weeks beginner course starting JANUARY 8th. Register and reserve your spot today! \nFor all our other levels\, is class as usual! \nSchedule is as follows: \n*Salsa beginner course – 7pm to 7:55pm \n*Advance Salsa beginner class – 6pm to 6:55pm \n*Advance Salsa beginner class – 7pm to 7:55pm \n*Intermediate Salsa level 1 class – 8:15pm to 9:15pm \n*Intermediate Salsa level 2 class – 8:15pm to 9:15pm \n  \n-SHOES- \nNEW STUDENTS: Tennis shoes/ Street shoes/flats/ comfortable indoor shoes (NO FLIP FLOPS OR SANDALS) \nINTERMEDIATE/ADVANCE STUDENTS: Dance Shoes \n  \n*NOTE* \nCOURSE vs CLASS: 6 weeks beginner course has a starting date and ending date | A CLASS – Ongoing and it doesn’t have a starting or ending date. A student can join a class at anytime and doesn’t have to wait for a starting date as it’s an ongoing class (a syllabus is used in a class and it recycles through the material for that level).
URL:https://www.tatosalsa.com/event/tatosalsa-salsa-beginner-course-and-regular-classes-16/
LOCATION:Tato Salsa Studio\, 2901 W. Busch Blvd\, Suite 1024\, Tampa\, FL\, 33618\, United States
ATTACH;FMTTYPE=image/jpeg:https://www.tatosalsa.com/wp-content/uploads/2023/11/classflyerNov2023.jpg
END:VEVENT
BEGIN:VEVENT
DTSTART;TZID=America/New_York:20231212T193000
DTEND;TZID=America/New_York:20231212T220000
DTSTAMP:20260420T010444
CREATED:20231124T115552Z
LAST-MODIFIED:20231124T115552Z
UID:6460-1702409400-1702418400@www.tatosalsa.com
SUMMARY:TaToSalsa - Salsa On2 beginner course and regular classes
DESCRIPTION:Our current beginner course is CLOSED for enrollment. If you’re a new student and would like to get started then join us for our upcoming new 6 weeks beginner course starting JANUARY 9th. Register and reserve your spot today! \nFor all our other levels\, is class as usual! \nSchedule is as follows: \n*Salsa On2 beginner course – 7:30pm to 8:30pm \n*Advance Salsa beginner class – 7:30pm to 8:30pm \n*Advance Salsa beginner class – 8:30pm to 9:30pm \n  \n-SHOES- \nNEW STUDENTS: Tennis shoes/ Street shoes/flats/ comfortable indoor shoes (NO FLIP FLOPS OR SANDALS) \nINTERMEDIATE/ADVANCE STUDENTS: Dance Shoes \n*NOTE* \nCOURSE vs CLASS: 6 weeks beginner course has a starting date and ending date | A CLASS – Ongoing and it doesn’t have a starting or ending date. A student can join a class at anytime and doesn’t have to wait for a starting date as it’s an ongoing class (a syllabus is used in a class and it recycles through the material for that level).
URL:https://www.tatosalsa.com/event/tatosalsa-salsa-on2-beginner-course-and-regular-classes-25/
LOCATION:Tato Salsa Studio\, 2901 W. Busch Blvd\, Suite 1024\, Tampa\, FL\, 33618\, United States
ATTACH;FMTTYPE=image/jpeg:https://www.tatosalsa.com/wp-content/uploads/2023/11/classflyerNov2023.jpg
END:VEVENT
BEGIN:VEVENT
DTSTART;TZID=America/New_York:20231213T190000
DTEND;TZID=America/New_York:20231213T220000
DTSTAMP:20260420T010444
CREATED:20231124T120409Z
LAST-MODIFIED:20231124T120851Z
UID:6468-1702494000-1702504800@www.tatosalsa.com
SUMMARY:TaToSalsa - Bachata beginner course and regular classes
DESCRIPTION:Our current beginner course is CLOSED for enrollment. If you’re a new student and would like to get started then join us for our upcoming new 6 weeks beginner course starting JANUARY 10th. Register and reserve your spot today! \nFor all our other levels\, is class as usual! \nSchedule is as follows: \n*Bachata beginner course – 7pm to 8pm \n*Bachata advance beginner class – 7pm to 8pm \n*Bachata Intermediate class – 8:30pm to 9:30pm \n  \n-SHOES- \nNEW STUDENTS: Tennis shoes/ Street shoes/flats/ comfortable indoor shoes (NO FLIP FLOPS OR SANDALS) \nINTERMEDIATE/ADVANCE STUDENTS: Dance Shoes \n*NOTE* \nCOURSE vs CLASS: 6 weeks beginner course has a starting date and ending date | A CLASS – Ongoing and it doesn’t have a starting or ending date. A student can join a class at anytime and doesn’t have to wait for a starting date as it’s an ongoing class (a syllabus is used in a class and it recycles through the material for that level).
URL:https://www.tatosalsa.com/event/tatosalsa-bachata-beginner-course-and-regular-classes-24/
LOCATION:Tato Salsa Studio\, 2901 W. Busch Blvd\, Suite 1024\, Tampa\, FL\, 33618\, United States
CATEGORIES:Bachata
ATTACH;FMTTYPE=image/jpeg:https://www.tatosalsa.com/wp-content/uploads/2023/11/classflyerNov2023.jpg
END:VEVENT
BEGIN:VEVENT
DTSTART;TZID=America/New_York:20231217T150000
DTEND;TZID=America/New_York:20231217T200000
DTSTAMP:20260420T010444
CREATED:20231209T170646Z
LAST-MODIFIED:20231209T170646Z
UID:6498-1702825200-1702843200@www.tatosalsa.com
SUMMARY:SUNDAY DE SABROSURA - 9yrs ANNIVERSARY DANCE SOCIAL
DESCRIPTION:Can you believe it!? 9 YEARS STRONG IN TAMPA!\nJoin us for an afternoon of dancing at your favorite Sunday social in the heart of Ybor City\, this month we are celebrating our 9th anniversary of this Sunday social. This month’s class will be with former world champion Jessica Quiles.\nDJ: Mambo Tribe\nPerformance by: Joselyn and Los Monstro\nEntrance: $15General Public | $10 TS Students\nClass by: Jessica Quiles\nCome celebrate with us!\n\nPLEASE NOTE THE FOLLOWING:\n– No children will be allowed\, no exceptions\n– If you are feeling under the weather and have COVID like symptoms\, please stay home.\nDISCLAIMER: ***Attend and dance at your own risk. TaToSalsa Inc\, its owners and staff\, La Herencia de Ybor\, its owner and staff will not be held liable for any sickness\, or injuries that may arise while attending this event. ***\n\nSunday de Sabrosura social is normally held once a month typically every 4th Sunday of the month in the heart of Ybor city at La Herencia de Ybor. It has grown to be Tampa’s favorite afternoon Sunday social\, where you’ll find the best mojitos and sangrias in town. Let’s not forget great music with an awesome afternoon vibe!\nParking is available in the lot behind the venue; HOWEVER\, YOU MUST PAY THE METER. We have noticed the rate has increased\, please consider parking across the street\, or in the lots on the adjacent sides of La Herencia\, they are cheaper. There is free street parking available in some areas\, please read the signs.\nThank you\,\nTaToSalsa\nATTENTION NEW ATTENDEES:\nADDRESS IS 1817 E 7TH AVE TAMPA\, FL\, 33605.
URL:https://www.tatosalsa.com/event/sunday-de-sabrosura-9yrs-anniversary-dance-social/
LOCATION:Herencia de Ybor\, 1817 E 7th ave. \, Tampa\, FL\, 33605\, United States
ATTACH;FMTTYPE=image/jpeg:https://www.tatosalsa.com/wp-content/uploads/2023/12/Chritsmas-social-2023.jpg
END:VEVENT
BEGIN:VEVENT
DTSTART;TZID=America/New_York:20231218T180000
DTEND;TZID=America/New_York:20231218T220000
DTSTAMP:20260420T010444
CREATED:20231124T113157Z
LAST-MODIFIED:20231124T120820Z
UID:6444-1702922400-1702936800@www.tatosalsa.com
SUMMARY:TaToSalsa - Salsa beginner course and regular classes
DESCRIPTION:Our current beginner course is CLOSED for enrollment. If you’re a new student and would like to get started then join us for our upcoming new 6 weeks beginner course starting JANUARY 8th. Register and reserve your spot today! \nFor all our other levels\, is class as usual! \nSchedule is as follows: \n*Salsa beginner course – 7pm to 7:55pm \n*Advance Salsa beginner class – 6pm to 6:55pm \n*Advance Salsa beginner class – 7pm to 7:55pm \n*Intermediate Salsa level 1 class – 8:15pm to 9:15pm \n*Intermediate Salsa level 2 class – 8:15pm to 9:15pm \n-SHOES- \nNEW STUDENTS: Tennis shoes/ Street shoes/flats/ comfortable indoor shoes (NO FLIP FLOPS OR SANDALS) \nINTERMEDIATE/ADVANCE STUDENTS: Dance Shoes \n*NOTE* \nCOURSE vs CLASS: 6 weeks beginner course has a starting date and ending date | A CLASS – Ongoing and it doesn’t have a starting or ending date. A student can join a class at anytime and doesn’t have to wait for a starting date as it’s an ongoing class (a syllabus is used in a class and it recycles through the material for that level).
URL:https://www.tatosalsa.com/event/tatosalsa-salsa-beginner-course-and-regular-classes-17/
LOCATION:Tato Salsa Studio\, 2901 W. Busch Blvd\, Suite 1024\, Tampa\, FL\, 33618\, United States
ATTACH;FMTTYPE=image/jpeg:https://www.tatosalsa.com/wp-content/uploads/2023/11/classflyerNov2023.jpg
END:VEVENT
BEGIN:VEVENT
DTSTART;TZID=America/New_York:20231219T193000
DTEND;TZID=America/New_York:20231219T220000
DTSTAMP:20260420T010444
CREATED:20231124T120045Z
LAST-MODIFIED:20231124T120045Z
UID:6464-1703014200-1703023200@www.tatosalsa.com
SUMMARY:TaToSalsa - Salsa On2 beginner course and regular classes
DESCRIPTION:Our current beginner course is CLOSED for enrollment. If you’re a new student and would like to get started then join us for our upcoming new 6 weeks beginner course starting JANUARY 9th. Register and reserve your spot today! \nFor all our other levels\, is class as usual! \nSchedule is as follows: \n*Salsa On2 beginner course – 7:30pm to 8:30pm \n*Advance Salsa beginner class – 7:30pm to 8:30pm \n*Advance Salsa beginner class – 8:30pm to 9:30pm \n  \n-SHOES- \nNEW STUDENTS: Tennis shoes/ Street shoes/flats/ comfortable indoor shoes (NO FLIP FLOPS OR SANDALS) \nINTERMEDIATE/ADVANCE STUDENTS: Dance Shoes \n*NOTE* \nCOURSE vs CLASS: 6 weeks beginner course has a starting date and ending date | A CLASS – Ongoing and it doesn’t have a starting or ending date. A student can join a class at anytime and doesn’t have to wait for a starting date as it’s an ongoing class (a syllabus is used in a class and it recycles through the material for that level).
URL:https://www.tatosalsa.com/event/tatosalsa-salsa-on2-beginner-course-and-regular-classes-26/
LOCATION:Tato Salsa Studio\, 2901 W. Busch Blvd\, Suite 1024\, Tampa\, FL\, 33618\, United States
ATTACH;FMTTYPE=image/jpeg:https://www.tatosalsa.com/wp-content/uploads/2023/11/classflyerNov2023.jpg
END:VEVENT
BEGIN:VEVENT
DTSTART;TZID=America/New_York:20231220T190000
DTEND;TZID=America/New_York:20231220T220000
DTSTAMP:20260420T010444
CREATED:20231124T120623Z
LAST-MODIFIED:20231124T120623Z
UID:6472-1703098800-1703109600@www.tatosalsa.com
SUMMARY:TaToSalsa - Bachata beginner course and regular classes
DESCRIPTION:Our current beginner course is CLOSED for enrollment. If you’re a new student and would like to get started then join us for our upcoming new 6 weeks beginner course starting JANUARY 10th. Register and reserve your spot today! \nFor all our other levels\, is class as usual! \nSchedule is as follows: \n*Bachata beginner course – 7pm to 8pm \n*Bachata advance beginner class – 7pm to 8pm \n*Bachata Intermediate class – 8:15pm to 9:15pm \n  \n-SHOES- \nNEW STUDENTS: Tennis shoes/ Street shoes/flats/ comfortable indoor shoes (NO FLIP FLOPS OR SANDALS) \nINTERMEDIATE/ADVANCE STUDENTS: Dance Shoes \n*NOTE* \nCOURSE vs CLASS: 6 weeks beginner course has a starting date and ending date | A CLASS – Ongoing and it doesn’t have a starting or ending date. A student can join a class at anytime and doesn’t have to wait for a starting date as it’s an ongoing class (a syllabus is used in a class and it recycles through the material for that level).
URL:https://www.tatosalsa.com/event/tatosalsa-bachata-beginner-course-and-regular-classes-25/
LOCATION:Tato Salsa Studio\, 2901 W. Busch Blvd\, Suite 1024\, Tampa\, FL\, 33618\, United States
ATTACH;FMTTYPE=image/jpeg:https://www.tatosalsa.com/wp-content/uploads/2023/11/classflyerNov2023.jpg
END:VEVENT
BEGIN:VEVENT
DTSTART;TZID=America/New_York:20231222T210000
DTEND;TZID=America/New_York:20231223T020000
DTSTAMP:20260420T010444
CREATED:20231124T121908Z
LAST-MODIFIED:20231209T170317Z
UID:6485-1703278800-1703296800@www.tatosalsa.com
SUMMARY:TATOSALSA CHRISTMAS SOCIAL
DESCRIPTION:It’s TaToSalsa’s last social of 2023! Join us Friday\, December 22rd for a holiday social. Dance and listen to your favorite Salsa\, Mambo\, and Bachata music.\nDJ: Mambo Tribe and Phat Tony\nLesson by: Jonathan Troncoso from Orlando\nPerformance by: Los Monstros\, Jonathan Troncoso\, and Q Project\nPrice: $20 General Admission\nSponsors: Sangria Mi Viejo and The Law Office of Ricardeau Lucceus\, PLLC\nFree Parking\nStart Time: Doors open 8:45pm – 2am\nJuan TaTo\, Cristina\, and the entire TaToSalsa staff appreciate your continued support.\nHoliday blessings to all!\nTaToSalsa Staff
URL:https://www.tatosalsa.com/event/tatosalsa-christmas-social/
LOCATION:Tato Salsa Studio\, 2901 W. Busch Blvd\, Suite 1024\, Tampa\, FL\, 33618\, United States
ATTACH;FMTTYPE=image/jpeg:https://www.tatosalsa.com/wp-content/uploads/2023/12/Christmas-2023.jpg
END:VEVENT
BEGIN:VEVENT
DTSTART;VALUE=DATE:20231225
DTEND;VALUE=DATE:20231226
DTSTAMP:20260420T010444
CREATED:20231209T171343Z
LAST-MODIFIED:20231209T171343Z
UID:6502-1703462400-1703548799@www.tatosalsa.com
SUMMARY:STUDIO CLOSED FOR THE HOLIDAYS
DESCRIPTION:We would like to wish all of you a Merry Christmas and a Happy New Year! \nThe studio will be close for the Christmas holidays and back to the 2024 season starting January 8th. \nIf you’re a new student be sure to register for our upcoming new beginner 6 weeks courses.
URL:https://www.tatosalsa.com/event/studio-closed-for-the-holidays/
LOCATION:Tato Salsa Studio\, 2901 W. Busch Blvd\, Suite 1024\, Tampa\, FL\, 33618\, United States
END:VEVENT
BEGIN:VEVENT
DTSTART;VALUE=DATE:20231226
DTEND;VALUE=DATE:20231227
DTSTAMP:20260420T010444
CREATED:20231209T171504Z
LAST-MODIFIED:20231209T171504Z
UID:6506-1703548800-1703635199@www.tatosalsa.com
SUMMARY:STUDIO IS CLOSED FOR THE HOLIDAYS
DESCRIPTION:We would like to wish all of you a Merry Christmas and a Happy New Year! \nThe studio will be close for the Christmas holidays and back to the 2024 season starting January 8th. \nIf you’re a new student be sure to register for our upcoming new beginner 6 weeks courses.
URL:https://www.tatosalsa.com/event/studio-is-closed-for-the-holidays/
LOCATION:Tato Salsa Studio\, 2901 W. Busch Blvd\, Suite 1024\, Tampa\, FL\, 33618\, United States
END:VEVENT
BEGIN:VEVENT
DTSTART;VALUE=DATE:20231227
DTEND;VALUE=DATE:20231228
DTSTAMP:20260420T010444
CREATED:20231209T171541Z
LAST-MODIFIED:20231209T171541Z
UID:6510-1703635200-1703721599@www.tatosalsa.com
SUMMARY:STUDIO IS CLOSED FOR THE HOLIDAYS
DESCRIPTION:We would like to wish all of you a Merry Christmas and a Happy New Year! \nThe studio will be close for the Christmas holidays and back to the 2024 season starting January 8th. \nIf you’re a new student be sure to register for our upcoming new beginner 6 weeks courses.
URL:https://www.tatosalsa.com/event/studio-is-closed-for-the-holidays-2/
LOCATION:Tato Salsa Studio\, 2901 W. Busch Blvd\, Suite 1024\, Tampa\, FL\, 33618\, United States
END:VEVENT
BEGIN:VEVENT
DTSTART;TZID=America/New_York:20231230T100000
DTEND;TZID=America/New_York:20231230T143000
DTSTAMP:20260420T010444
CREATED:20231213T001009Z
LAST-MODIFIED:20231213T001009Z
UID:6547-1703930400-1703946600@www.tatosalsa.com
SUMMARY:Christmas Challenge with Jessica Quiles
DESCRIPTION:Join world champion Jessica Quiles for a 4 hour training on Saturday\, December 30th. This dance challenge will be performed locally or at events attended by Jessica. \nChallenge yourself and learn this amazing choreography which will be performed locally. \nTime: 10am – 2:30pm \nLocation: TaToSalsa Dance Studio \nCost: $75 \nPAY NOW!
URL:https://www.tatosalsa.com/event/christmas-challenge-with-jessica-quiles/
LOCATION:Tato Salsa Studio\, 2901 W. Busch Blvd\, Suite 1024\, Tampa\, FL\, 33618\, United States
ATTACH;FMTTYPE=image/png:https://www.tatosalsa.com/wp-content/uploads/2023/12/Jessica-anual-challenge-2023.png
END:VEVENT
END:VCALENDAR