BEGIN:VCALENDAR
VERSION:2.0
PRODID:-//Tampa Salsa Lessons | Clases de Salsa - ECPv6.15.20//NONSGML v1.0//EN
CALSCALE:GREGORIAN
METHOD:PUBLISH
X-WR-CALNAME:Tampa Salsa Lessons | Clases de Salsa
X-ORIGINAL-URL:https://www.tatosalsa.com
X-WR-CALDESC:Events for Tampa Salsa Lessons | Clases de Salsa
REFRESH-INTERVAL;VALUE=DURATION:PT1H
X-Robots-Tag:noindex
X-PUBLISHED-TTL:PT1H
BEGIN:VTIMEZONE
TZID:America/New_York
BEGIN:DAYLIGHT
TZOFFSETFROM:-0500
TZOFFSETTO:-0400
TZNAME:EDT
DTSTART:20220313T070000
END:DAYLIGHT
BEGIN:STANDARD
TZOFFSETFROM:-0400
TZOFFSETTO:-0500
TZNAME:EST
DTSTART:20221106T060000
END:STANDARD
BEGIN:DAYLIGHT
TZOFFSETFROM:-0500
TZOFFSETTO:-0400
TZNAME:EDT
DTSTART:20230312T070000
END:DAYLIGHT
BEGIN:STANDARD
TZOFFSETFROM:-0400
TZOFFSETTO:-0500
TZNAME:EST
DTSTART:20231105T060000
END:STANDARD
BEGIN:DAYLIGHT
TZOFFSETFROM:-0500
TZOFFSETTO:-0400
TZNAME:EDT
DTSTART:20240310T070000
END:DAYLIGHT
BEGIN:STANDARD
TZOFFSETFROM:-0400
TZOFFSETTO:-0500
TZNAME:EST
DTSTART:20241103T060000
END:STANDARD
END:VTIMEZONE
BEGIN:VEVENT
DTSTART;TZID=America/New_York:20231101T190000
DTEND;TZID=America/New_York:20231101T220000
DTSTAMP:20260419T210813
CREATED:20230930T132311Z
LAST-MODIFIED:20230930T132311Z
UID:6356-1698865200-1698876000@www.tatosalsa.com
SUMMARY:TaToSalsa - New beginner Bachata course and regular classes
DESCRIPTION:Our current beginner course is CLOSED for enrollment. If you’re a new student and would like to get started then join us for our upcoming new 6 weeks beginner course starting NOVEMBER 29th. Register today and reserve your spot. \nFor all our other levels\, is class as usual! \nSchedule is as follows: \n*Current beginner course – 7pm to 7:55pm – CLOSE \n*Advance beginner class – 7pm to 7:55pm \n*Intermediate level 1 class – 8:15pm to 9:15pm \n-SHOES- \nNEW STUDENTS: Tennis shoes/ Street shoes/flats/ comfortable indoor shoes (NO FLIP FLOPS OR SANDALS) \nINTERMEDIATE/ADVANCE STUDENTS: Dance Shoes \n*NOTE* \nCOURSE vs CLASS: 6 weeks beginner course has a starting date and ending date | A CLASS – Ongoing and it doesn’t have a starting or ending date. A student can join a class at anytime and doesn’t have to wait for a starting date as it’s an ongoing class (a syllabus is used in a class and it recycles through the material for that level).
URL:https://www.tatosalsa.com/event/tatosalsa-new-beginner-bachata-course-and-regular-classes-4/
LOCATION:Tato Salsa Studio\, 2901 W. Busch Blvd\, Suite 1024\, Tampa\, FL\, 33618\, United States
ATTACH;FMTTYPE=image/jpeg:https://www.tatosalsa.com/wp-content/uploads/2023/09/385023043_10232848590384082_2953815915608168304_n.jpg
END:VEVENT
BEGIN:VEVENT
DTSTART;TZID=America/New_York:20231106T180000
DTEND;TZID=America/New_York:20231106T220000
DTSTAMP:20260419T210813
CREATED:20231107T130049Z
LAST-MODIFIED:20231107T130049Z
UID:6376-1699293600-1699308000@www.tatosalsa.com
SUMMARY:TaToSalsa - Salsa beginner course and regular classes
DESCRIPTION:Our current beginner course is CLOSED for enrollment. If you’re a new student and would like to get started then join us for our upcoming new 6 weeks beginner course starting NOVEMBER 27th. Register and reserve your spot today! \nFor all our other levels\, is class as usual \nSchedule is as follows: \n*Current beginner course – 6pm to 6:55pm \n*Current beginner course – 7pm to 7:55pm \n*Advance beginner class – 6pm to 6:55pm \n*Advance beginner class – 7pm to 7:55pm \n*Intermediate level 1 class – 8:15pm to 9:15pm \n*Intermediate level 2 class – 8:15pm to 9:15pm \n-SHOES- \nNEW STUDENTS: Tennis shoes/ Street shoes/flats/ comfortable indoor shoes (NO FLIP FLOPS OR SANDALS) \nINTERMEDIATE/ADVANCE STUDENTS: Dance Shoes \n*NOTE* \nCOURSE vs CLASS: 6 weeks beginner course has a starting date and ending date | A CLASS – Ongoing and it doesn’t have a starting or ending date. A student can join a class at anytime and doesn’t have to wait for a starting date as it’s an ongoing class (a syllabus is used in a class and it recycles through the material for that level).
URL:https://www.tatosalsa.com/event/tatosalsa-salsa-beginner-course-and-regular-classes-14/
LOCATION:Tato Salsa Studio\, 2901 W. Busch Blvd\, Suite 1024\, Tampa\, FL\, 33618\, United States
END:VEVENT
BEGIN:VEVENT
DTSTART;TZID=America/New_York:20231107T193000
DTEND;TZID=America/New_York:20231107T220000
DTSTAMP:20260419T210813
CREATED:20231107T130328Z
LAST-MODIFIED:20231107T130328Z
UID:6384-1699385400-1699394400@www.tatosalsa.com
SUMMARY:TaToSalsa - Salsa On2 beginner course and regular classes
DESCRIPTION:Our current new beginner 6 weeks course is CLOSED. Join us and sign up for our following new 6 weeks starting NOVEMBER 28th. Register today and reserve your spot. \nFor all our other levels\, is class as usual! \nSchedule is as follows: \n*6 weeks beginner course – 7:30pm to 8:30pm – CLOSED \n*Advance beginner class – 7:30pm to 8:30pm \n*Intermediate level 1 class – 8:35pm to 9:35pm \n-SHOES- \nNEW STUDENTS: Tennis shoes/ Street shoes/flats/ comfortable indoor shoes (NO FLIP FLOPS OR SANDALS) \nINTERMEDIATE/ADVANCE STUDENTS: Dance Shoes \n*NOTE* \nCOURSE vs CLASS: 6 weeks beginner course has a starting date and ending date | A CLASS – Ongoing and it doesn’t have a starting or ending date. A student can join a class at anytime and doesn’t have to wait for a starting date as it’s an ongoing class (a syllabus is used in a class and it recycles through the material for that level).
URL:https://www.tatosalsa.com/event/tatosalsa-salsa-on2-beginner-course-and-regular-classes-15/
LOCATION:Tato Salsa Studio\, 2901 W. Busch Blvd\, Suite 1024\, Tampa\, FL\, 33618\, United States
END:VEVENT
BEGIN:VEVENT
DTSTART;TZID=America/New_York:20231108T190000
DTEND;TZID=America/New_York:20231108T220000
DTSTAMP:20260419T210813
CREATED:20231107T130752Z
LAST-MODIFIED:20231107T130752Z
UID:6392-1699470000-1699480800@www.tatosalsa.com
SUMMARY:TaToSalsa - Bachata beginner course and regular classes
DESCRIPTION:Our current beginner course is CLOSED for enrollment. If you’re a new student and would like to get started then join us for our upcoming new 6 weeks beginner course starting NOVEMBER 29th. Register today and reserve your spot. \nFor all our other levels\, is class as usual! \nSchedule is as follows: \n*Current beginner course – 7pm to 7:55pm – CLOSE \n*Advance beginner class – 7pm to 7:55pm \n*Intermediate level 1 class – 8:15pm to 9:15pm \n-SHOES- \nNEW STUDENTS: Tennis shoes/ Street shoes/flats/ comfortable indoor shoes (NO FLIP FLOPS OR SANDALS) \nINTERMEDIATE/ADVANCE STUDENTS: Dance Shoes \n*NOTE* \nCOURSE vs CLASS: 6 weeks beginner course has a starting date and ending date | A CLASS – Ongoing and it doesn’t have a starting or ending date. A student can join a class at anytime and doesn’t have to wait for a starting date as it’s an ongoing class (a syllabus is used in a class and it recycles through the material for that level).
URL:https://www.tatosalsa.com/event/tatosalsa-bachata-beginner-course-and-regular-classes-21/
LOCATION:Tato Salsa Studio\, 2901 W. Busch Blvd\, Suite 1024\, Tampa\, FL\, 33618\, United States
END:VEVENT
BEGIN:VEVENT
DTSTART;TZID=America/New_York:20231109T210000
DTEND;TZID=America/New_York:20231110T010000
DTSTAMP:20260419T210813
CREATED:20231107T131927Z
LAST-MODIFIED:20231107T131955Z
UID:6412-1699563600-1699578000@www.tatosalsa.com
SUMMARY:TUMBAO DANCE SOCIAL
DESCRIPTION:Join us for our monthly Thursday social at our TaToSalsa Studio in Tampa. Get your pre-weekend dance fix on with your favorite Salsa\, Mambo\, and Bachata music.\nDJ: Mambo Tribe\nPrice: $10 Current TaTo Salsa Students | $15 General Admission\nLesson by: Javier Pagan\nParking Available.\nStart Time: Doors open 9:00 pm – 1am\nHosted by: Tato Salsa\nSee you there!!!!
URL:https://www.tatosalsa.com/event/tumbao-dance-social-4/
LOCATION:Tato Salsa Studio\, 2901 W. Busch Blvd\, Suite 1024\, Tampa\, FL\, 33618\, United States
ATTACH;FMTTYPE=image/jpeg:https://www.tatosalsa.com/wp-content/uploads/2023/11/398953884_906211714403225_357249310670264876_n.jpg
END:VEVENT
BEGIN:VEVENT
DTSTART;TZID=America/New_York:20231113T180000
DTEND;TZID=America/New_York:20231113T220000
DTSTAMP:20260419T210813
CREATED:20231107T130146Z
LAST-MODIFIED:20231107T130146Z
UID:6380-1699898400-1699912800@www.tatosalsa.com
SUMMARY:TaToSalsa - Salsa beginner course and regular classes
DESCRIPTION:Our current beginner course is CLOSED for enrollment. If you’re a new student and would like to get started then join us for our upcoming new 6 weeks beginner course starting NOVEMBER 27th. Register and reserve your spot today! \nFor all our other levels\, is class as usual \nSchedule is as follows: \n*Current beginner course – 6pm to 6:55pm \n*Current beginner course – 7pm to 7:55pm \n*Advance beginner class – 6pm to 6:55pm \n*Advance beginner class – 7pm to 7:55pm \n*Intermediate level 1 class – 8:15pm to 9:15pm \n*Intermediate level 2 class – 8:15pm to 9:15pm \n-SHOES- \nNEW STUDENTS: Tennis shoes/ Street shoes/flats/ comfortable indoor shoes (NO FLIP FLOPS OR SANDALS) \nINTERMEDIATE/ADVANCE STUDENTS: Dance Shoes \n*NOTE* \nCOURSE vs CLASS: 6 weeks beginner course has a starting date and ending date | A CLASS – Ongoing and it doesn’t have a starting or ending date. A student can join a class at anytime and doesn’t have to wait for a starting date as it’s an ongoing class (a syllabus is used in a class and it recycles through the material for that level).
URL:https://www.tatosalsa.com/event/tatosalsa-salsa-beginner-course-and-regular-classes-15/
LOCATION:Tato Salsa Studio\, 2901 W. Busch Blvd\, Suite 1024\, Tampa\, FL\, 33618\, United States
END:VEVENT
BEGIN:VEVENT
DTSTART;TZID=America/New_York:20231114T193000
DTEND;TZID=America/New_York:20231114T220000
DTSTAMP:20260419T210813
CREATED:20231107T130615Z
LAST-MODIFIED:20231107T130615Z
UID:6388-1699990200-1699999200@www.tatosalsa.com
SUMMARY:TaToSalsa - Salsa On2 beginner course and regular classes
DESCRIPTION:Our current new beginner 6 weeks course is CLOSED. Join us and sign up for our following new 6 weeks starting NOVEMBER 28th. Register today and reserve your spot. \nFor all our other levels\, is class as usual! \nSchedule is as follows: \n*6 weeks beginner course – 7:30pm to 8:30pm – CLOSED \n*Advance beginner class – 7:30pm to 8:30pm \n*Intermediate level 1 class – 8:35pm to 9:35pm \n-SHOES- \nNEW STUDENTS: Tennis shoes/ Street shoes/flats/ comfortable indoor shoes (NO FLIP FLOPS OR SANDALS) \nINTERMEDIATE/ADVANCE STUDENTS: Dance Shoes \n*NOTE* \nCOURSE vs CLASS: 6 weeks beginner course has a starting date and ending date | A CLASS – Ongoing and it doesn’t have a starting or ending date. A student can join a class at anytime and doesn’t have to wait for a starting date as it’s an ongoing class (a syllabus is used in a class and it recycles through the material for that level).
URL:https://www.tatosalsa.com/event/tatosalsa-salsa-on2-beginner-course-and-regular-classes-16/
LOCATION:Tato Salsa Studio\, 2901 W. Busch Blvd\, Suite 1024\, Tampa\, FL\, 33618\, United States
END:VEVENT
BEGIN:VEVENT
DTSTART;TZID=America/New_York:20231115T190000
DTEND;TZID=America/New_York:20231115T220000
DTSTAMP:20260419T210813
CREATED:20231107T130919Z
LAST-MODIFIED:20231107T130919Z
UID:6396-1700074800-1700085600@www.tatosalsa.com
SUMMARY:TaToSalsa - Bachata beginner course and regular classes
DESCRIPTION:Our current beginner course is CLOSED for enrollment. If you’re a new student and would like to get started then join us for our upcoming new 6 weeks beginner course starting NOVEMBER 29th. Register today and reserve your spot. \nFor all our other levels\, is class as usual! \nSchedule is as follows: \n*Current beginner course – 7pm to 7:55pm – CLOSE \n*Advance beginner class – 7pm to 7:55pm \n*Intermediate level 1 class – 8:15pm to 9:15pm \n-SHOES- \nNEW STUDENTS: Tennis shoes/ Street shoes/flats/ comfortable indoor shoes (NO FLIP FLOPS OR SANDALS) \nINTERMEDIATE/ADVANCE STUDENTS: Dance Shoes \n*NOTE* \nCOURSE vs CLASS: 6 weeks beginner course has a starting date and ending date | A CLASS – Ongoing and it doesn’t have a starting or ending date. A student can join a class at anytime and doesn’t have to wait for a starting date as it’s an ongoing class (a syllabus is used in a class and it recycles through the material for that level).
URL:https://www.tatosalsa.com/event/tatosalsa-bachata-beginner-course-and-regular-classes-22/
LOCATION:Tato Salsa Studio\, 2901 W. Busch Blvd\, Suite 1024\, Tampa\, FL\, 33618\, United States
END:VEVENT
BEGIN:VEVENT
DTSTART;VALUE=DATE:20231120
DTEND;VALUE=DATE:20231121
DTSTAMP:20260419T210813
CREATED:20231107T131453Z
LAST-MODIFIED:20231107T131453Z
UID:6400-1700438400-1700524799@www.tatosalsa.com
SUMMARY:STUDIO IS CLOSED
DESCRIPTION:Due to the Thanksgiving holidays the studio is closed today. We are back on Monday\, November 27th for our NEW BEGINNER COURSES AND REGULAR CLASSES. \nThank you for making TaToSalsa your place of dance and have a happy thanksgiving.
URL:https://www.tatosalsa.com/event/studio-is-closed-4/
LOCATION:Tato Salsa Studio\, 2901 W. Busch Blvd\, Suite 1024\, Tampa\, FL\, 33618\, United States
END:VEVENT
BEGIN:VEVENT
DTSTART;VALUE=DATE:20231121
DTEND;VALUE=DATE:20231122
DTSTAMP:20260419T210813
CREATED:20231107T131548Z
LAST-MODIFIED:20231107T131548Z
UID:6404-1700524800-1700611199@www.tatosalsa.com
SUMMARY:STUDIO IS CLOSED
DESCRIPTION:Due to the Thanksgiving holidays the studio is closed today. We are back on Monday\, November 27th for our NEW BEGINNER COURSES AND REGULAR CLASSES. \nThank you for making TaToSalsa your place of dance and have a happy thanksgiving.
URL:https://www.tatosalsa.com/event/studio-is-closed-5/
LOCATION:Tato Salsa Studio\, 2901 W. Busch Blvd\, Suite 1024\, Tampa\, FL\, 33618\, United States
END:VEVENT
BEGIN:VEVENT
DTSTART;VALUE=DATE:20231122
DTEND;VALUE=DATE:20231123
DTSTAMP:20260419T210813
CREATED:20231107T131640Z
LAST-MODIFIED:20231107T131640Z
UID:6408-1700611200-1700697599@www.tatosalsa.com
SUMMARY:STUDIO IS CLOSED
DESCRIPTION:Due to the Thanksgiving holidays the studio is closed today. We are back on Monday\, November 27th for our NEW BEGINNER COURSES AND REGULAR CLASSES. \nThank you for making TaToSalsa your place of dance and have a happy thanksgiving.
URL:https://www.tatosalsa.com/event/studio-is-closed-6/
LOCATION:Tato Salsa Studio\, 2901 W. Busch Blvd\, Suite 1024\, Tampa\, FL\, 33618\, United States
END:VEVENT
BEGIN:VEVENT
DTSTART;TZID=America/New_York:20231126T150000
DTEND;TZID=America/New_York:20231126T200000
DTSTAMP:20260419T210813
CREATED:20231107T133846Z
LAST-MODIFIED:20231116T015137Z
UID:6429-1701010800-1701028800@www.tatosalsa.com
SUMMARY:SUNDAY DE SABROSURA DANCE SOCIAL
DESCRIPTION:Tampa’s longest running\, original afternoon dance Sunday social. THANK YOU for keeping the passion for dance alive.\nJoin us for an afternoon of dancing at your favorite Sunday social in the heart of Ybor City\, this month’s class will be with Edwin Nieves from Puerto Rico/Orlando.\nPLEASE NOTE THE FOLLOWING:\n– No children will be allowed\, no exceptions\n– If you are feeling under the weather and have COVID like symptoms\, please stay home.\nDISCLAIMER: ***Attend and dance at your own risk. TaToSalsa Inc\, its owners and staff\, La Herencia de Ybor\, its owner and staff will not be held liable for any sickness\, or injuries that may arise while attending this event. ***\nSunday de Sabrosura social is normally held once a month typically every 4th Sunday of the month in the heart of Ybor city at La Herencia de Ybor. It has grown to be Tampa’s favorite afternoon social\, where you’ll find the best mojitos and sangrias here. Let’s not forget great music with an awesome afternoon vibe!\nTaTo Salsa Students $10 | General Admission $15\nMusic By: Mambo Tribe\nDance Lesson: Edwin Nieves (Puerto Rico/Orlando)\nParking is available in the lot behind the venue; HOWEVER\, YOU MUST PAY THE METER. We have noticed the rate has increased\, please consider parking across the street\, or in the lots on the adjacent sides of La Herencia\, they are cheaper. There is free street parking available in some areas\, please read the signs.\nThank you\,\nTaToSalsa\nATTENTION NEW ATTENDEES:\nADDRESS IS 1817 E 7TH AVE TAMPA\, FL\, 33605
URL:https://www.tatosalsa.com/event/sunday-de-sabrosura-dance-social-9/
LOCATION:Herencia de Ybor\, 1817 E 7th ave. \, Tampa\, FL\, 33605\, United States
ATTACH;FMTTYPE=image/jpeg:https://www.tatosalsa.com/wp-content/uploads/2023/11/400091934_1034069344682419_1802247056487132340_n.jpg
END:VEVENT
BEGIN:VEVENT
DTSTART;TZID=America/New_York:20231127T180000
DTEND;TZID=America/New_York:20231127T220000
DTSTAMP:20260419T210813
CREATED:20231107T132841Z
LAST-MODIFIED:20231107T132841Z
UID:6417-1701108000-1701122400@www.tatosalsa.com
SUMMARY:TATOSALSA - NEW SALSA BEGINNER COURSE AND REGULAR CLASSES
DESCRIPTION:Today is the starting day of our new 4 weeks beginner Salsa course. Cost for the beginner course is $45. If you’re a new student and would like to get started\, please register and reserve your spot today! \nFor all our other levels\, is class as usual! \nSchedule is as follows: \n*4 weeks beginner course – 7pm – 8pm \n*Advance beginner class – 6pm to 6:55pm | Second hour  – 7:15pm to 8:10pm \n*Intermediate class – 8:15pm to 9:15pm | Advance Intermediate class – 8:15pm to 9:15pm \n-SHOES- \nNEW STUDENTS: Tennis shoes/ Street shoes/flats/ comfortable indoor shoes (NO FLIP FLOPS OR SANDALS) \nINTERMEDIATE/ADVANCE STUDENTS: Dance Shoes \n*NOTE* \nCOURSE vs CLASS: 4 weeks beginner course has a starting date and ending date | A CLASS – Ongoing and it doesn’t have a starting or ending date. A student can join a class at anytime and doesn’t have to wait for a starting date as it’s an ongoing class (a syllabus is used in a class and it recycles through the material for that level).
URL:https://www.tatosalsa.com/event/tatosalsa-new-salsa-beginner-course-and-regular-classes/
LOCATION:Tato Salsa Studio\, 2901 W. Busch Blvd\, Suite 1024\, Tampa\, FL\, 33618\, United States
END:VEVENT
BEGIN:VEVENT
DTSTART;TZID=America/New_York:20231128T193000
DTEND;TZID=America/New_York:20231128T220000
DTSTAMP:20260419T210813
CREATED:20231107T133331Z
LAST-MODIFIED:20231107T133331Z
UID:6421-1701199800-1701208800@www.tatosalsa.com
SUMMARY:TATOSALSA - NEW BEGINNER SALSA ON2 COURSE AND CLASSES
DESCRIPTION:Today is the starting day of our new 4 weeks beginners Salsa On2 course. Cost for the beginner course is $45. If you’re a new student and would like to get started\, please register and reserve your spot today! \nFor all our other levels\, is class as usual! \nSchedule is as follows: \n*4 weeks beginner course – 7:30pm to 8:30pm \n*Advance beginner class – 7:30pm to 8:30pm \n*Intermediate class – 8:45pm to 9:45pm \n-SHOES- \nNEW STUDENTS: Tennis shoes/ Street shoes/flats/ comfortable indoor shoes (NO FLIP FLOPS OR SANDALS) \nINTERMEDIATE/ADVANCE STUDENTS: Dance Shoes \n*NOTE* \nCOURSE vs CLASS: 4 weeks beginner course has a starting date and ending date | A CLASS – Ongoing and it doesn’t have a starting or ending date. A student can join a class at anytime and doesn’t have to wait for a starting date as its an ongoing class (a syllabus is used in a class and it recycles through the material for that level).
URL:https://www.tatosalsa.com/event/tatosalsa-new-beginner-salsa-on2-course-and-classes/
LOCATION:Tato Salsa Studio\, 2901 W. Busch Blvd\, Suite 1024\, Tampa\, FL\, 33618\, United States
END:VEVENT
BEGIN:VEVENT
DTSTART;TZID=America/New_York:20231129T190000
DTEND;TZID=America/New_York:20231129T220000
DTSTAMP:20260419T210813
CREATED:20231107T133638Z
LAST-MODIFIED:20231107T133638Z
UID:6425-1701284400-1701295200@www.tatosalsa.com
SUMMARY:TATOSALSA - NEW BACHATA BEGINNER COURSE AND REGULAR CLASSES
DESCRIPTION:Today is the starting day of our new 4 weeks beginners Bachata course. Cost for the beginner course is $45. If you’re a new student and would like to get started\, please register and reserve your spot today! \nFor all our other levels\, is class as usual! \nSchedule is as follows: \n*4 weeks beginner course – 7pm to 7:55pm \n*Advance beginner class – 7pm to 7:55pm \n*Intermediate class – 8:15pm to 9:15pm \n-SHOES- \nNEW STUDENTS: Tennis shoes/ Street shoes/flats/ comfortable indoor shoes (NO FLIP FLOPS OR SANDALS) \nINTERMEDIATE/ADVANCE STUDENTS: Dance Shoes \n*NOTE* \nCOURSE vs CLASS: 4 weeks beginner course has a starting date and ending date | A CLASS – Ongoing and it doesn’t have a starting or ending date. A student can join a class at anytime and doesn’t have to wait for a starting date as it’s an ongoing class (a syllabus is used in a class and it recycles through the material for that level).
URL:https://www.tatosalsa.com/event/tatosalsa-new-bachata-beginner-course-and-regular-classes/
LOCATION:Tato Salsa Studio\, 2901 W. Busch Blvd\, Suite 1024\, Tampa\, FL\, 33618\, United States
END:VEVENT
END:VCALENDAR