BEGIN:VCALENDAR
VERSION:2.0
PRODID:-//Tampa Salsa Lessons | Clases de Salsa - ECPv6.15.20//NONSGML v1.0//EN
CALSCALE:GREGORIAN
METHOD:PUBLISH
X-WR-CALNAME:Tampa Salsa Lessons | Clases de Salsa
X-ORIGINAL-URL:https://www.tatosalsa.com
X-WR-CALDESC:Events for Tampa Salsa Lessons | Clases de Salsa
REFRESH-INTERVAL;VALUE=DURATION:PT1H
X-Robots-Tag:noindex
X-PUBLISHED-TTL:PT1H
BEGIN:VTIMEZONE
TZID:America/New_York
BEGIN:DAYLIGHT
TZOFFSETFROM:-0500
TZOFFSETTO:-0400
TZNAME:EDT
DTSTART:20220313T070000
END:DAYLIGHT
BEGIN:STANDARD
TZOFFSETFROM:-0400
TZOFFSETTO:-0500
TZNAME:EST
DTSTART:20221106T060000
END:STANDARD
BEGIN:DAYLIGHT
TZOFFSETFROM:-0500
TZOFFSETTO:-0400
TZNAME:EDT
DTSTART:20230312T070000
END:DAYLIGHT
BEGIN:STANDARD
TZOFFSETFROM:-0400
TZOFFSETTO:-0500
TZNAME:EST
DTSTART:20231105T060000
END:STANDARD
BEGIN:DAYLIGHT
TZOFFSETFROM:-0500
TZOFFSETTO:-0400
TZNAME:EDT
DTSTART:20240310T070000
END:DAYLIGHT
BEGIN:STANDARD
TZOFFSETFROM:-0400
TZOFFSETTO:-0500
TZNAME:EST
DTSTART:20241103T060000
END:STANDARD
END:VTIMEZONE
BEGIN:VEVENT
DTSTART;TZID=America/New_York:20231002T180000
DTEND;TZID=America/New_York:20231002T220000
DTSTAMP:20260419T155944
CREATED:20230819T152311Z
LAST-MODIFIED:20230819T152311Z
UID:6251-1696269600-1696284000@www.tatosalsa.com
SUMMARY:TaToSalsa - Salsa beginner course and regular classes
DESCRIPTION:Our current beginner course is CLOSED for enrollment. If you’re a new student and would like to get started then join us for our upcoming new 6 weeks beginner course starting October 9th. Register and reserve your spot today! \nFor all our other levels\, is class as usual \nSchedule is as follows: \n*Current beginner course – 6pm to 6:55pm – CLOSE \n*Current beginner course – 7pm to 7:55pm – CLOSE \n*Advance beginner class – 6pm to 6:55pm \n*Advance beginner class – 7pm to 7:55pm \n*Intermediate level 1 class – 8:15pm to 9:15pm \n*Intermediate level 2 class – 8:15pm to 9:15pm \n-SHOES- \nNEW STUDENTS: Tennis shoes/ Street shoes/flats/ comfortable indoor shoes (NO FLIP FLOPS OR SANDALS) \nINTERMEDIATE/ADVANCE STUDENTS: Dance Shoes \n*NOTE* \nCOURSE vs CLASS: 6 weeks beginner course has a starting date and ending date | A CLASS – Ongoing and it doesn’t have a starting or ending date. A student can join a class at anytime and doesn’t have to wait for a starting date as it’s an ongoing class (a syllabus is used in a class and it recycles through the material for that level).
URL:https://www.tatosalsa.com/event/tatosalsa-salsa-beginner-course-and-regular-classes-12/
LOCATION:Tato Salsa Studio\, 2901 W. Busch Blvd\, Suite 1024\, Tampa\, FL\, 33618\, United States
ATTACH;FMTTYPE=image/jpeg:https://www.tatosalsa.com/wp-content/uploads/2023/08/unnamed-3.jpg
END:VEVENT
BEGIN:VEVENT
DTSTART;TZID=America/New_York:20231003T193000
DTEND;TZID=America/New_York:20231003T220000
DTSTAMP:20260419T155944
CREATED:20230905T230212Z
LAST-MODIFIED:20230905T230212Z
UID:6298-1696361400-1696370400@www.tatosalsa.com
SUMMARY:TaToSalsa - Salsa beginner course and regular classes
DESCRIPTION:Our current new beginner 6 weeks course is CLOSED. Join us and sign up for our following new 6 weeks starting October 10th. Register today and reserve your spot. \nFor all our other levels\, is class as usual! \nSchedule is as follows: \n*6 weeks beginner course – 7:30pm to 8:30pm – CLOSED \n*Advance beginner class – 7:30pm to 8:30pm \n*Intermediate level 1 class – 8:35pm to 9:35pm \n-SHOES- \nNEW STUDENTS: Tennis shoes/ Street shoes/flats/ comfortable indoor shoes (NO FLIP FLOPS OR SANDALS) \nINTERMEDIATE/ADVANCE STUDENTS: Dance Shoes \n*NOTE* \nCOURSE vs CLASS: 6 weeks beginner course has a starting date and ending date | A CLASS – Ongoing and it doesn’t have a starting or ending date. A student can join a class at anytime and doesn’t have to wait for a starting date as it’s an ongoing class (a syllabus is used in a class and it recycles through the material for that level).
URL:https://www.tatosalsa.com/event/tatosalsa-salsa-beginner-course-and-regular-classes-13/
LOCATION:Tato Salsa Studio\, 2901 W. Busch Blvd\, Suite 1024\, Tampa\, FL\, 33618\, United States
ATTACH;FMTTYPE=image/jpeg:https://www.tatosalsa.com/wp-content/uploads/2023/08/unnamed-3.jpg
END:VEVENT
BEGIN:VEVENT
DTSTART;TZID=America/New_York:20231004T190000
DTEND;TZID=America/New_York:20231004T220000
DTSTAMP:20260419T155944
CREATED:20230905T230613Z
LAST-MODIFIED:20230905T230711Z
UID:6302-1696446000-1696456800@www.tatosalsa.com
SUMMARY:TaToSalsa - Bachata beginner course and regular classes
DESCRIPTION:Our current beginner course is CLOSED for enrollment. If you’re a new student and would like to get started then join us for our upcoming new 6 weeks beginner course starting October 11th. Register today and reserve your spot. \nFor all our other levels\, is class as usual! \nSchedule is as follows: \n*Current beginner course – 7pm to 7:55pm – CLOSE \n*Advance beginner class – 7pm to 7:55pm \n*Intermediate level 1 class – 8:15pm to 9:15pm \n-SHOES- \nNEW STUDENTS: Tennis shoes/ Street shoes/flats/ comfortable indoor shoes (NO FLIP FLOPS OR SANDALS) \nINTERMEDIATE/ADVANCE STUDENTS: Dance Shoes \n*NOTE* \nCOURSE vs CLASS: 6 weeks beginner course has a starting date and ending date | A CLASS – Ongoing and it doesn’t have a starting or ending date. A student can join a class at anytime and doesn’t have to wait for a starting date as it’s an ongoing class (a syllabus is used in a class and it recycles through the material for that level).
URL:https://www.tatosalsa.com/event/tatosalsa-bachata-beginner-course-and-regular-classes-19/
LOCATION:Tato Salsa Studio\, 2901 W. Busch Blvd\, Suite 1024\, Tampa\, FL\, 33618\, United States
ATTACH;FMTTYPE=image/jpeg:https://www.tatosalsa.com/wp-content/uploads/2023/08/unnamed-3.jpg
END:VEVENT
BEGIN:VEVENT
DTSTART;TZID=America/New_York:20231009T180000
DTEND;TZID=America/New_York:20231009T220000
DTSTAMP:20260419T155944
CREATED:20230918T130138Z
LAST-MODIFIED:20230930T123108Z
UID:6306-1696874400-1696888800@www.tatosalsa.com
SUMMARY:TaToSalsa - NEW BEGINNER SALSA COURSE STARTS TODAY!
DESCRIPTION:Today is the starting day of our new 6 weeks beginner Salsa course. Now we are offering two separate times for this course. The first hour is from 6pm to 6:55pm and the second hour will be from 7:15pm to 8:10pm. Cost for the beginner course is $55. If you’re a new student and would like to get started\, please register for either one of these beginner courses and reserve your spot today! \nFor all our other levels\, is class as usual! \nSchedule is as follows: \n*6 weeks beginner course – 6pm to 6:55pm | 6 weeks beginner course – 7:15pm to 8:10pm \n*Advance beginner class – 6pm to 6:55pm | Second hour  – 7:15pm to 8:10pm \n*Intermediate class – 8:15pm to 9:15pm | Advance Intermediate class – 8:15pm to 9:15pm \n-SHOES- \nNEW STUDENTS: Tennis shoes/ Street shoes/flats/ comfortable indoor shoes (NO FLIP FLOPS OR SANDALS) \nINTERMEDIATE/ADVANCE STUDENTS: Dance Shoes \n*NOTE* \nCOURSE vs CLASS: 6 weeks beginner course has a starting date and ending date | A CLASS – Ongoing and it doesn’t have a starting or ending date. A student can join a class at anytime and doesn’t have to wait for a starting date as it’s an ongoing class (a syllabus is used in a class and it recycles through the material for that level).
URL:https://www.tatosalsa.com/event/tatosalsa-new-beginner-salsa-course-starts-today/
LOCATION:Tato Salsa Studio\, 2901 W. Busch Blvd\, Suite 1024\, Tampa\, FL\, 33618\, United States
ATTACH;FMTTYPE=image/jpeg:https://www.tatosalsa.com/wp-content/uploads/2023/09/385023043_10232848590384082_2953815915608168304_n.jpg
END:VEVENT
BEGIN:VEVENT
DTSTART;TZID=America/New_York:20231010T193000
DTEND;TZID=America/New_York:20231010T220000
DTSTAMP:20260419T155944
CREATED:20230918T130330Z
LAST-MODIFIED:20230930T123150Z
UID:6310-1696966200-1696975200@www.tatosalsa.com
SUMMARY:TaToSalsa - NEW BEGINNER SALSA ON2 COURSE STARTS TODAY!
DESCRIPTION:Today is the starting day of our new 6 weeks beginners Salsa On2 course. Cost for the beginner course is $55. If you’re a new student and would like to get started\, please register and reserve your spot today! \nFor all our other levels\, is class as usual! \nSchedule is as follows: \n*6 weeks beginner course – 7:30pm to 8:30pm \n*Advance beginner class – 7:30pm to 8:30pm \n*Intermediate class – 8:45pm to 9:45pm \n-SHOES- \nNEW STUDENTS: Tennis shoes/ Street shoes/flats/ comfortable indoor shoes (NO FLIP FLOPS OR SANDALS) \nINTERMEDIATE/ADVANCE STUDENTS: Dance Shoes \n*NOTE* \nCOURSE vs CLASS: 6 weeks beginner course has a starting date and ending date | A CLASS – Ongoing and it doesn’t have a starting or ending date. A student can join a class at anytime and doesn’t have to wait for a starting date as its an ongoing class (a syllabus is used in a class and it recycles through the material for that level).
URL:https://www.tatosalsa.com/event/tatosalsa-new-beginner-salsa-on2-course-starts-today/
LOCATION:Tato Salsa Studio\, 2901 W. Busch Blvd\, Suite 1024\, Tampa\, FL\, 33618\, United States
ATTACH;FMTTYPE=image/jpeg:https://www.tatosalsa.com/wp-content/uploads/2023/09/385023043_10232848590384082_2953815915608168304_n.jpg
END:VEVENT
BEGIN:VEVENT
DTSTART;TZID=America/New_York:20231011T190000
DTEND;TZID=America/New_York:20231011T220000
DTSTAMP:20260419T155944
CREATED:20230918T130528Z
LAST-MODIFIED:20230930T123218Z
UID:6314-1697050800-1697061600@www.tatosalsa.com
SUMMARY:TaToSalsa - NEW BEGINNER BACHATA COURSE STARTING TODAY!
DESCRIPTION:Today is the starting day of our new 6 weeks beginners Bachata course. Cost for the beginner course is $55. If you’re a new student and would like to get started\, please register and reserve your spot today! \nFor all our other levels\, is class as usual! \nSchedule is as follows: \n*6 weeks beginner course – 7pm to 7:55pm \n*Advance beginner class – 7pm to 7:55pm \n*Intermediate class – 8:15pm to 9:15pm \n-SHOES- \nNEW STUDENTS: Tennis shoes/ Street shoes/flats/ comfortable indoor shoes (NO FLIP FLOPS OR SANDALS) \nINTERMEDIATE/ADVANCE STUDENTS: Dance Shoes \n*NOTE* \nCOURSE vs CLASS: 6 weeks beginner course has a starting date and ending date | A CLASS – Ongoing and it doesn’t have a starting or ending date. A student can join a class at anytime and doesn’t have to wait for a starting date as it’s an ongoing class (a syllabus is used in a class and it recycles through the material for that level).
URL:https://www.tatosalsa.com/event/tatosalsa-new-beginner-bachata-course-starting-today-3/
LOCATION:Tato Salsa Studio\, 2901 W. Busch Blvd\, Suite 1024\, Tampa\, FL\, 33618\, United States
ATTACH;FMTTYPE=image/jpeg:https://www.tatosalsa.com/wp-content/uploads/2023/09/385023043_10232848590384082_2953815915608168304_n.jpg
END:VEVENT
BEGIN:VEVENT
DTSTART;TZID=America/New_York:20231012T210000
DTEND;TZID=America/New_York:20231013T010000
DTSTAMP:20260419T155944
CREATED:20230930T132439Z
LAST-MODIFIED:20230930T132439Z
UID:6360-1697144400-1697158800@www.tatosalsa.com
SUMMARY:TUMBAO DANCE SOCIAL
DESCRIPTION:Join us for our once a month Thursday Tumbao Dance Social. Details coming soon!
URL:https://www.tatosalsa.com/event/tumbao-dance-social-3/
LOCATION:Tato Salsa Studio\, 2901 W. Busch Blvd\, Suite 1024\, Tampa\, FL\, 33618\, United States
END:VEVENT
BEGIN:VEVENT
DTSTART;TZID=America/New_York:20231016T180000
DTEND;TZID=America/New_York:20231016T220000
DTSTAMP:20260419T155944
CREATED:20230930T123654Z
LAST-MODIFIED:20230930T123654Z
UID:6323-1697479200-1697493600@www.tatosalsa.com
SUMMARY:TaToSalsa - New beginner Salsa course and regular classes
DESCRIPTION:If you happen to miss the first day of our new beginner 6 weeks course\, it’s okay. You can join us for the following 5 weeks. Cost for the course is $55. \nFor all our other levels\, is class as usual! \nSchedule is as follows: \n*6 weeks beginner course – 6pm to 6:55pm \n*6 weeks beginner course – 7:10pm to 8:15pm \n*Advance beginner class – 6pm to 6:55pm \n*Advance beginner class – 7:10pm to 8:15pm \n*Intermediate level 1 class – 8:20pm to 9:20pm \n*Intermediate level 2 class – 8:20pm to 9:20pm \n-SHOES- \nNEW STUDENTS: Tennis shoes/ Street shoes/flats/ comfortable indoor shoes (NO FLIP FLOPS OR SANDALS) \nINTERMEDIATE/ADVANCE STUDENTS: Dance Shoes \n*NOTE* \nCOURSE vs CLASS: 6 weeks beginner course has a starting date and ending date | A CLASS – Ongoing and it doesn’t have a starting or ending date. A student can join a class at anytime and doesn’t have to wait for a starting date as it’s an ongoing class (a syllabus is used in a class and it recycles through the material for that level).
URL:https://www.tatosalsa.com/event/tatosalsa-new-beginner-salsa-course-and-regular-classes-2/
LOCATION:Tato Salsa Studio\, 2901 W. Busch Blvd\, Suite 1024\, Tampa\, FL\, 33618\, United States
ATTACH;FMTTYPE=image/jpeg:https://www.tatosalsa.com/wp-content/uploads/2023/09/385023043_10232848590384082_2953815915608168304_n.jpg
END:VEVENT
BEGIN:VEVENT
DTSTART;TZID=America/New_York:20231017T193000
DTEND;TZID=America/New_York:20231017T220000
DTSTAMP:20260419T155944
CREATED:20230930T123930Z
LAST-MODIFIED:20230930T124025Z
UID:6327-1697571000-1697580000@www.tatosalsa.com
SUMMARY:TaToSalsa - New beginner Salsa On2 course and regular classes
DESCRIPTION:If you happen to miss the first day of our new beginner 6 weeks course\, it’s okay. You can join us tonight for the following 5 weeks. Cost for the course is $55. \nFor all our other levels\, is class as usual! \nSchedule is as follows: \n*6 weeks beginner course – 7:30pm to 8:30pm \n*Advance beginner class – 7:30pm to 8:30pm \n*Intermediate class – 8:45pm to 9:45pm \n-SHOES- \nNEW STUDENTS: Tennis shoes/ Street shoes/flats/ comfortable indoor shoes (NO FLIP FLOPS OR SANDALS) \nINTERMEDIATE/ADVANCE STUDENTS: Dance Shoes \n*NOTE* \nCOURSE vs CLASS: 6 weeks beginner course has a starting date and ending date | A CLASS – Ongoing and it doesn’t have a starting or ending date. A student can join a class at anytime and doesn’t have to wait for a starting date as it’s an ongoing class (a syllabus is used in a class and it recycles through the material for that level).
URL:https://www.tatosalsa.com/event/tatosalsa-new-beginner-salsa-on2-course-and-regular-classes-2/
LOCATION:Tato Salsa Studio\, 2901 W. Busch Blvd\, Suite 1024\, Tampa\, FL\, 33618\, United States
ATTACH;FMTTYPE=image/jpeg:https://www.tatosalsa.com/wp-content/uploads/2023/09/385023043_10232848590384082_2953815915608168304_n.jpg
END:VEVENT
BEGIN:VEVENT
DTSTART;TZID=America/New_York:20231018T190000
DTEND;TZID=America/New_York:20231018T220000
DTSTAMP:20260419T155944
CREATED:20230930T124247Z
LAST-MODIFIED:20230930T124354Z
UID:6331-1697655600-1697666400@www.tatosalsa.com
SUMMARY:TaToSalsa - New beginner Bachata course and regular classes
DESCRIPTION:If you happen to miss the first day of our new beginner 6 weeks course\, it’s okay. You can join us for the following 5 weeks. Cost for the course is $55 and class schedule is as follows: \nFor all our other levels\, is class as usual! \nSchedule is as follows: \n*Beginner course – 7pm – 8pm \n*Advance beginner class – 7pm – 8pm \n*Intermediate class – 8:15 – 9:15pm \n-SHOES- \nNEW STUDENTS: Tennis shoes/ Street shoes/flats/ comfortable indoor shoes (NO FLIP FLOPS OR SANDALS) \nINTERMEDIATE/ADVANCE STUDENTS: Dance Shoes \n*NOTE* \nCOURSE vs CLASS: 6 weeks beginner course has a starting date and ending date | A CLASS – Ongoing and it doesn’t have a starting or ending date. A student can join a class at anytime and doesn’t have to wait for a starting date as it’s an ongoing class (a syllabus is used in a class and it recycles through the material for that level).
URL:https://www.tatosalsa.com/event/tatosalsa-new-beginner-bachata-course-and-regular-classes-2/
LOCATION:Tato Salsa Studio\, 2901 W. Busch Blvd\, Suite 1024\, Tampa\, FL\, 33618\, United States
ATTACH;FMTTYPE=image/jpeg:https://www.tatosalsa.com/wp-content/uploads/2023/09/385023043_10232848590384082_2953815915608168304_n.jpg
END:VEVENT
BEGIN:VEVENT
DTSTART;TZID=America/New_York:20231022T150000
DTEND;TZID=America/New_York:20231022T200000
DTSTAMP:20260419T155944
CREATED:20230930T132612Z
LAST-MODIFIED:20230930T132612Z
UID:6364-1697986800-1698004800@www.tatosalsa.com
SUMMARY:SUNDAY DE SABROSURA DANCE SOCIAL
DESCRIPTION:Join us for our once a month Sunday de Sabrosura Dance Social. Details coming soon!
URL:https://www.tatosalsa.com/event/sunday-de-sabrosura-dance-social-8/
LOCATION:Tato Salsa Studio\, 2901 W. Busch Blvd\, Suite 1024\, Tampa\, FL\, 33618\, United States
END:VEVENT
BEGIN:VEVENT
DTSTART;TZID=America/New_York:20231023T180000
DTEND;TZID=America/New_York:20231023T220000
DTSTAMP:20260419T155944
CREATED:20230930T130546Z
LAST-MODIFIED:20230930T130546Z
UID:6335-1698084000-1698098400@www.tatosalsa.com
SUMMARY:TaToSalsa - New beginner Salsa course and regular classes
DESCRIPTION:Today is the last day to join the beginner course. There’s only 4 weeks left and cost is $55. If you rather wait for the new 6 week beginner course\, the starting date is November 27th. Register and reserve your spot today! \nFor all our other levels\, is class as usual \nSchedule is as follows: \n*Current beginner course – 6pm to 6:55pm \n*Current beginner course – 7pm to 7:55pm \n*Advance beginner class – 6pm to 6:55pm \n*Advance beginner class – 7pm to 7:55pm \n*Intermediate level 1 class – 8:15pm to 9:15pm \n*Intermediate level 2 class – 8:15pm to 9:15pm \n-SHOES- \nNEW STUDENTS: Tennis shoes/ Street shoes/flats/ comfortable indoor shoes (NO FLIP FLOPS OR SANDALS) \nINTERMEDIATE/ADVANCE STUDENTS: Dance Shoes \n*NOTE* \nCOURSE vs CLASS: 6 weeks beginner course has a starting date and ending date | A CLASS – Ongoing and it doesn’t have a starting or ending date. A student can join a class at anytime and doesn’t have to wait for a starting date as it’s an ongoing class (a syllabus is used in a class and it recycles through the material for that level).
URL:https://www.tatosalsa.com/event/tatosalsa-new-beginner-salsa-course-and-regular-classes-3/
LOCATION:Tato Salsa Studio\, 2901 W. Busch Blvd\, Suite 1024\, Tampa\, FL\, 33618\, United States
ATTACH;FMTTYPE=image/jpeg:https://www.tatosalsa.com/wp-content/uploads/2023/09/385023043_10232848590384082_2953815915608168304_n.jpg
END:VEVENT
BEGIN:VEVENT
DTSTART;TZID=America/New_York:20231024T080000
DTEND;TZID=America/New_York:20231024T170000
DTSTAMP:20260419T155944
CREATED:20230930T131046Z
LAST-MODIFIED:20230930T131449Z
UID:6339-1698134400-1698166800@www.tatosalsa.com
SUMMARY:TaToSalsa - New beginner Salsa On2 course and regular classes
DESCRIPTION:Today is the last day to join the beginner course. There’s only 4 weeks left and cost is $55. If you rather wait for the new 6 week beginner course\, the starting date is November 28th. Register and reserve your spot today! \nFor all our other levels\, is class as usual \nSchedule is as follows: \n*Current beginner course – 7:30pm to 8:30pm \n*Advance beginner class – 7:30pm to 8:30pm \n*Intermediate level 2 class – 8:30pm to 9:30pm \n-SHOES- \nNEW STUDENTS: Tennis shoes/ Street shoes/flats/ comfortable indoor shoes (NO FLIP FLOPS OR SANDALS) \nINTERMEDIATE/ADVANCE STUDENTS: Dance Shoes \n*NOTE* \nCOURSE vs CLASS: 6 weeks beginner course has a starting date and ending date | A CLASS – Ongoing and it doesn’t have a starting or ending date. A student can join a class at anytime and doesn’t have to wait for a starting date as it’s an ongoing class (a syllabus is used in a class and it recycles through the material for that level).
URL:https://www.tatosalsa.com/event/tatosalsa-new-beginner-salsa-on2-course-and-regular-classes-3/
LOCATION:Tato Salsa Studio\, 2901 W. Busch Blvd\, Suite 1024\, Tampa\, FL\, 33618\, United States
ATTACH;FMTTYPE=image/jpeg:https://www.tatosalsa.com/wp-content/uploads/2023/09/385023043_10232848590384082_2953815915608168304_n.jpg
END:VEVENT
BEGIN:VEVENT
DTSTART;TZID=America/New_York:20231025T080000
DTEND;TZID=America/New_York:20231025T170000
DTSTAMP:20260419T155944
CREATED:20230930T131412Z
LAST-MODIFIED:20230930T131412Z
UID:6343-1698220800-1698253200@www.tatosalsa.com
SUMMARY:TaToSalsa - New beginner Bachata course and regular classes
DESCRIPTION:Today is the last day to join the beginner course. There’s only 4 weeks left and cost is $55. If you rather wait for the new 6 week beginner course\, the starting date is November 29th. Register and reserve your spot today! \nFor all our other levels\, is class as usual \nSchedule is as follows: \n*Current beginner course – 7pm to 8pm \n*Advance beginner class – 7pm to 8pm \n*Intermediate level 1 class – 8:15pm to 9:15pm \n-SHOES- \nNEW STUDENTS: Tennis shoes/ Street shoes/flats/ comfortable indoor shoes (NO FLIP FLOPS OR SANDALS) \nINTERMEDIATE/ADVANCE STUDENTS: Dance Shoes \n*NOTE* \nCOURSE vs CLASS: 6 weeks beginner course has a starting date and ending date | A CLASS – Ongoing and it doesn’t have a starting or ending date. A student can join a class at anytime and doesn’t have to wait for a starting date as it’s an ongoing class (a syllabus is used in a class and it recycles through the material for that level).
URL:https://www.tatosalsa.com/event/tatosalsa-new-beginner-bachata-course-and-regular-classes-3/
LOCATION:Tato Salsa Studio\, 2901 W. Busch Blvd\, Suite 1024\, Tampa\, FL\, 33618\, United States
ATTACH;FMTTYPE=image/jpeg:https://www.tatosalsa.com/wp-content/uploads/2023/09/385023043_10232848590384082_2953815915608168304_n.jpg
END:VEVENT
BEGIN:VEVENT
DTSTART;TZID=America/New_York:20231030T180000
DTEND;TZID=America/New_York:20231030T220000
DTSTAMP:20260419T155944
CREATED:20230930T131838Z
LAST-MODIFIED:20230930T131838Z
UID:6348-1698688800-1698703200@www.tatosalsa.com
SUMMARY:TaToSalsa - New beginner Salsa course and regular classes
DESCRIPTION:Our current beginner course is CLOSED for enrollment. If you’re a new student and would like to get started then join us for our upcoming new 6 weeks beginner course starting NOVEMBER 27th. Register and reserve your spot today! \nFor all our other levels\, is class as usual \nSchedule is as follows: \n*Current beginner course – 6pm to 6:55pm \n*Current beginner course – 7pm to 7:55pm \n*Advance beginner class – 6pm to 6:55pm \n*Advance beginner class – 7pm to 7:55pm \n*Intermediate level 1 class – 8:15pm to 9:15pm \n*Intermediate level 2 class – 8:15pm to 9:15pm \n-SHOES- \nNEW STUDENTS: Tennis shoes/ Street shoes/flats/ comfortable indoor shoes (NO FLIP FLOPS OR SANDALS) \nINTERMEDIATE/ADVANCE STUDENTS: Dance Shoes \n*NOTE* \nCOURSE vs CLASS: 6 weeks beginner course has a starting date and ending date | A CLASS – Ongoing and it doesn’t have a starting or ending date. A student can join a class at anytime and doesn’t have to wait for a starting date as it’s an ongoing class (a syllabus is used in a class and it recycles through the material for that level).
URL:https://www.tatosalsa.com/event/tatosalsa-new-beginner-salsa-course-and-regular-classes-4/
LOCATION:Tato Salsa Studio\, 2901 W. Busch Blvd\, Suite 1024\, Tampa\, FL\, 33618\, United States
ATTACH;FMTTYPE=image/jpeg:https://www.tatosalsa.com/wp-content/uploads/2023/09/385023043_10232848590384082_2953815915608168304_n.jpg
END:VEVENT
BEGIN:VEVENT
DTSTART;TZID=America/New_York:20231031T193000
DTEND;TZID=America/New_York:20231031T220000
DTSTAMP:20260419T155944
CREATED:20230930T132047Z
LAST-MODIFIED:20230930T132047Z
UID:6352-1698780600-1698789600@www.tatosalsa.com
SUMMARY:TaToSalsa - New beginner Salsa On2 course and regular classes
DESCRIPTION:Our current new beginner 6 weeks course is CLOSED. Join us and sign up for our following new 6 weeks starting NOVEMBER 28th. Register today and reserve your spot. \nFor all our other levels\, is class as usual! \nSchedule is as follows: \n*6 weeks beginner course – 7:30pm to 8:30pm – CLOSED \n*Advance beginner class – 7:30pm to 8:30pm \n*Intermediate level 1 class – 8:35pm to 9:35pm \n-SHOES- \nNEW STUDENTS: Tennis shoes/ Street shoes/flats/ comfortable indoor shoes (NO FLIP FLOPS OR SANDALS) \nINTERMEDIATE/ADVANCE STUDENTS: Dance Shoes \n*NOTE* \nCOURSE vs CLASS: 6 weeks beginner course has a starting date and ending date | A CLASS – Ongoing and it doesn’t have a starting or ending date. A student can join a class at anytime and doesn’t have to wait for a starting date as it’s an ongoing class (a syllabus is used in a class and it recycles through the material for that level).
URL:https://www.tatosalsa.com/event/tatosalsa-new-beginner-salsa-on2-course-and-regular-classes-4/
LOCATION:Tato Salsa Studio\, 2901 W. Busch Blvd\, Suite 1024\, Tampa\, FL\, 33618\, United States
ATTACH;FMTTYPE=image/jpeg:https://www.tatosalsa.com/wp-content/uploads/2023/09/385023043_10232848590384082_2953815915608168304_n.jpg
END:VEVENT
END:VCALENDAR