BEGIN:VCALENDAR
VERSION:2.0
PRODID:-//Tampa Salsa Lessons | Clases de Salsa - ECPv6.15.20//NONSGML v1.0//EN
CALSCALE:GREGORIAN
METHOD:PUBLISH
X-ORIGINAL-URL:https://www.tatosalsa.com
X-WR-CALDESC:Events for Tampa Salsa Lessons | Clases de Salsa
REFRESH-INTERVAL;VALUE=DURATION:PT1H
X-Robots-Tag:noindex
X-PUBLISHED-TTL:PT1H
BEGIN:VTIMEZONE
TZID:America/New_York
BEGIN:DAYLIGHT
TZOFFSETFROM:-0500
TZOFFSETTO:-0400
TZNAME:EDT
DTSTART:20240310T070000
END:DAYLIGHT
BEGIN:STANDARD
TZOFFSETFROM:-0400
TZOFFSETTO:-0500
TZNAME:EST
DTSTART:20241103T060000
END:STANDARD
BEGIN:DAYLIGHT
TZOFFSETFROM:-0500
TZOFFSETTO:-0400
TZNAME:EDT
DTSTART:20250309T070000
END:DAYLIGHT
BEGIN:STANDARD
TZOFFSETFROM:-0400
TZOFFSETTO:-0500
TZNAME:EST
DTSTART:20251102T060000
END:STANDARD
BEGIN:DAYLIGHT
TZOFFSETFROM:-0500
TZOFFSETTO:-0400
TZNAME:EDT
DTSTART:20260308T070000
END:DAYLIGHT
BEGIN:STANDARD
TZOFFSETFROM:-0400
TZOFFSETTO:-0500
TZNAME:EST
DTSTART:20261101T060000
END:STANDARD
END:VTIMEZONE
BEGIN:VEVENT
DTSTART;TZID=America/New_York:20251104T193000
DTEND;TZID=America/New_York:20251104T220000
DTSTAMP:20260419T110946
CREATED:20250917T154435Z
LAST-MODIFIED:20250917T154435Z
UID:7601-1762284600-1762293600@www.tatosalsa.com
SUMMARY:TaToSalsa - New 6 weeks beginner Salsa On2 course and regular classes
DESCRIPTION:Our current 6 weeks beginner course is CLOSED. If you’re a new student and would like to get started\, you can join our upcoming new 5 weeks course starting November 18th. Register today to reserve your spot! \nPlease note: If you’ve never taken formal classes at a studio before\, you will need to start with our beginner course. Those students that have taken formal classes will need to do a “test-in” to join our advance beginner level class. \nFor all our other levels\, is class as usual! \nSchedule is as follows: \n*6 weeks beginner course – Starting next week \n*Advance beginner class – 7:30pm – 8:30pm \n*Intermediate class – 8:30pm to 9:30pm \n-SHOES- \nNEW STUDENTS: Tennis shoes/ Street shoes/flats/ comfortable indoor shoes (NO FLIP FLOPS OR SANDALS) \nINTERMEDIATE/ADVANCE STUDENTS: Dance Shoes \n*NOTE* \nADULT CLASS (18+) \nCOURSE vs CLASS: 6 weeks beginner course has a starting date and ending date | A CLASS – Ongoing and it doesn’t have a starting or ending date. A student can join a class at anytime and doesn’t have to wait for a starting date as it’s an ongoing class (a syllabus is used in a class and it recycles through the material for that level).
URL:https://www.tatosalsa.com/event/tatosalsa-new-6-weeks-beginner-salsa-on2-course-and-regular-classes-40/
LOCATION:Tato Salsa Studio\, 2901 W. Busch Blvd\, Suite 1024\, Tampa\, FL\, 33618\, United States
CATEGORIES:Mambo
ATTACH;FMTTYPE=image/png:https://www.tatosalsa.com/wp-content/uploads/2025/08/octoberclassflyer.png
END:VEVENT
BEGIN:VEVENT
DTSTART;TZID=America/New_York:20251111T193000
DTEND;TZID=America/New_York:20251111T220000
DTSTAMP:20260419T110946
CREATED:20250917T154613Z
LAST-MODIFIED:20250917T154613Z
UID:7603-1762889400-1762898400@www.tatosalsa.com
SUMMARY:TaToSalsa - New 6 weeks beginner Salsa On2 course and regular classes
DESCRIPTION:Our current 6 weeks beginner course is CLOSED. If you’re a new student and would like to get started\, you can join our upcoming new 5 weeks course starting November 18th. Register today to reserve your spot! \nPlease note: If you’ve never taken formal classes at a studio before\, you will need to start with our beginner course. Those students that have taken formal classes will need to do a “test-in” to join our advance beginner level class. \nFor all our other levels\, is class as usual! \nSchedule is as follows: \n*6 weeks beginner course – Starting next week \n*Advance beginner class – 7:30pm – 8:30pm \n*Intermediate class – 8:30pm to 9:30pm \n-SHOES- \nNEW STUDENTS: Tennis shoes/ Street shoes/flats/ comfortable indoor shoes (NO FLIP FLOPS OR SANDALS) \nINTERMEDIATE/ADVANCE STUDENTS: Dance Shoes \n*NOTE* \nADULT CLASS (18+) \nCOURSE vs CLASS: 6 weeks beginner course has a starting date and ending date | A CLASS – Ongoing and it doesn’t have a starting or ending date. A student can join a class at anytime and doesn’t have to wait for a starting date as it’s an ongoing class (a syllabus is used in a class and it recycles through the material for that level).
URL:https://www.tatosalsa.com/event/tatosalsa-new-6-weeks-beginner-salsa-on2-course-and-regular-classes-41/
LOCATION:Tato Salsa Studio\, 2901 W. Busch Blvd\, Suite 1024\, Tampa\, FL\, 33618\, United States
CATEGORIES:Mambo
ATTACH;FMTTYPE=image/png:https://www.tatosalsa.com/wp-content/uploads/2025/08/octoberclassflyer.png
END:VEVENT
BEGIN:VEVENT
DTSTART;TZID=America/New_York:20251118T193000
DTEND;TZID=America/New_York:20251118T220000
DTSTAMP:20260419T110946
CREATED:20251020T142504Z
LAST-MODIFIED:20251020T152740Z
UID:7639-1763494200-1763503200@www.tatosalsa.com
SUMMARY:NEW 4 WEEKS BEGINNER SALSA ON2 (MAMBO) COURSE STARTING TONIGHT
DESCRIPTION:Join us for our END OF THE YEAR 4 weeks beginner course starting tonight at 7:30pm. Please be sure to arrive a little early to settle and also go through our registration process. Please register for this course online. Cost is $50 for the course. \nPlease note: If you’ve never taken formal classes at a studio before\, you will need to start with our beginner course. Those students that have taken formal classes will need to do a “test-in” to join our advance beginner level class. \nFor all our other levels\, is class as usual! \nSchedule is as follows: \n*4 weeks beginner course – 7:30pm-8:30pm \n*Advance beginner class – 7:30pm – 8:30pm \n*Intermediate class – 8:30pm to 9:30pm \n-SHOES- \nNEW STUDENTS: Tennis shoes/ Street shoes/flats/ comfortable indoor shoes (NO FLIP FLOPS OR SANDALS) \nINTERMEDIATE/ADVANCE STUDENTS: Dance Shoes \n*NOTE* \nADULT CLASS (18+) \nCOURSE vs CLASS: 4 weeks beginner course has a starting date and ending date | A CLASS – Ongoing and it doesn’t have a starting or ending date. A student can join a class at anytime and doesn’t have to wait for a starting date as it’s an ongoing class (a syllabus is used in a class and it recycles through the material for that level).
URL:https://www.tatosalsa.com/event/new-4-weeks-beginner-salsa-on2-mambo-course-starting-tonight/
LOCATION:Tato Salsa Studio\, 2901 W. Busch Blvd\, Suite 1024\, Tampa\, FL\, 33618\, United States
CATEGORIES:Mambo
ATTACH;FMTTYPE=image/png:https://www.tatosalsa.com/wp-content/uploads/2025/10/end-of-year-class-flyer.png
END:VEVENT
END:VCALENDAR