BEGIN:VCALENDAR
VERSION:2.0
PRODID:-//Tampa Salsa Lessons | Clases de Salsa - ECPv6.15.20//NONSGML v1.0//EN
CALSCALE:GREGORIAN
METHOD:PUBLISH
X-ORIGINAL-URL:https://www.tatosalsa.com
X-WR-CALDESC:Events for Tampa Salsa Lessons | Clases de Salsa
REFRESH-INTERVAL;VALUE=DURATION:PT1H
X-Robots-Tag:noindex
X-PUBLISHED-TTL:PT1H
BEGIN:VTIMEZONE
TZID:America/New_York
BEGIN:DAYLIGHT
TZOFFSETFROM:-0500
TZOFFSETTO:-0400
TZNAME:EDT
DTSTART:20240310T070000
END:DAYLIGHT
BEGIN:STANDARD
TZOFFSETFROM:-0400
TZOFFSETTO:-0500
TZNAME:EST
DTSTART:20241103T060000
END:STANDARD
BEGIN:DAYLIGHT
TZOFFSETFROM:-0500
TZOFFSETTO:-0400
TZNAME:EDT
DTSTART:20250309T070000
END:DAYLIGHT
BEGIN:STANDARD
TZOFFSETFROM:-0400
TZOFFSETTO:-0500
TZNAME:EST
DTSTART:20251102T060000
END:STANDARD
BEGIN:DAYLIGHT
TZOFFSETFROM:-0500
TZOFFSETTO:-0400
TZNAME:EDT
DTSTART:20260308T070000
END:DAYLIGHT
BEGIN:STANDARD
TZOFFSETFROM:-0400
TZOFFSETTO:-0500
TZNAME:EST
DTSTART:20261101T060000
END:STANDARD
END:VTIMEZONE
BEGIN:VEVENT
DTSTART;TZID=America/New_York:20250909T193000
DTEND;TZID=America/New_York:20250909T220000
DTSTAMP:20260419T193134
CREATED:20250726T200343Z
LAST-MODIFIED:20250726T200343Z
UID:7544-1757446200-1757455200@www.tatosalsa.com
SUMMARY:TaToSalsa - New 6 weeks beginner Salsa On2 course and regular classes
DESCRIPTION:Our current 6 weeks beginner course is CLOSED. If you’re a new student and would like to get started\, you can join our upcoming new 6 weeks course starting October 7th. Register today to reserve your spot! \nPlease note: If you’ve never taken formal classes at a studio before\, you will need to start with our beginner course. Those students that have taken formal classes will need to do a “test-in” to join our advance beginner level class. \nFor all our other levels\, is class as usual! \nSchedule is as follows: \n*6 weeks beginner course – 7:30pm – 8:30pm \n*Advance beginner class – 7:30pm – 8:30pm \n*Intermediate class – 8:30pm to 9:30pm \n-SHOES- \nNEW STUDENTS: Tennis shoes/ Street shoes/flats/ comfortable indoor shoes (NO FLIP FLOPS OR SANDALS) \nINTERMEDIATE/ADVANCE STUDENTS: Dance Shoes \n*NOTE* \nADULT CLASS (18+) \nCOURSE vs CLASS: 6 weeks beginner course has a starting date and ending date | A CLASS – Ongoing and it doesn’t have a starting or ending date. A student can join a class at anytime and doesn’t have to wait for a starting date as it’s an ongoing class (a syllabus is used in a class and it recycles through the material for that level).
URL:https://www.tatosalsa.com/event/tatosalsa-new-6-weeks-beginner-salsa-on2-course-and-regular-classes-34/
LOCATION:Tato Salsa Studio\, 2901 W. Busch Blvd\, Suite 1024\, Tampa\, FL\, 33618\, United States
CATEGORIES:Mambo,Salsa
ATTACH;FMTTYPE=image/png:https://www.tatosalsa.com/wp-content/uploads/2025/07/newclassflyerjuly2025.png
END:VEVENT
BEGIN:VEVENT
DTSTART;TZID=America/New_York:20250916T193000
DTEND;TZID=America/New_York:20250916T220000
DTSTAMP:20260419T193134
CREATED:20250726T200630Z
LAST-MODIFIED:20250726T200630Z
UID:7547-1758051000-1758060000@www.tatosalsa.com
SUMMARY:TaToSalsa - New 6 weeks beginner Salsa On2 course and regular classes
DESCRIPTION:Our current 6 weeks beginner course is CLOSED. If you’re a new student and would like to get started\, you can join our upcoming new 6 weeks course starting October 7th. Register today to reserve your spot! \nPlease note: If you’ve never taken formal classes at a studio before\, you will need to start with our beginner course. Those students that have taken formal classes will need to do a “test-in” to join our advance beginner level class. \nFor all our other levels\, is class as usual! \nSchedule is as follows: \n*6 weeks beginner course – 7:30pm – 8:30pm \n*Advance beginner class – 7:30pm – 8:30pm \n*Intermediate class – 8:30pm to 9:30pm \n-SHOES- \nNEW STUDENTS: Tennis shoes/ Street shoes/flats/ comfortable indoor shoes (NO FLIP FLOPS OR SANDALS) \nINTERMEDIATE/ADVANCE STUDENTS: Dance Shoes \n*NOTE* \nADULT CLASS (18+) \nCOURSE vs CLASS: 6 weeks beginner course has a starting date and ending date | A CLASS – Ongoing and it doesn’t have a starting or ending date. A student can join a class at anytime and doesn’t have to wait for a starting date as it’s an ongoing class (a syllabus is used in a class and it recycles through the material for that level).
URL:https://www.tatosalsa.com/event/tatosalsa-new-6-weeks-beginner-salsa-on2-course-and-regular-classes-35/
LOCATION:Tato Salsa Studio\, 2901 W. Busch Blvd\, Suite 1024\, Tampa\, FL\, 33618\, United States
CATEGORIES:Mambo,Salsa
ATTACH;FMTTYPE=image/png:https://www.tatosalsa.com/wp-content/uploads/2025/07/newclassflyerjuly2025.png
END:VEVENT
BEGIN:VEVENT
DTSTART;TZID=America/New_York:20250923T193000
DTEND;TZID=America/New_York:20250923T220000
DTSTAMP:20260419T193134
CREATED:20250726T200826Z
LAST-MODIFIED:20250726T200826Z
UID:7549-1758655800-1758664800@www.tatosalsa.com
SUMMARY:TaToSalsa - New 6 weeks beginner Salsa On2 course and regular classes
DESCRIPTION:Our current 6 weeks beginner course is CLOSED. If you’re a new student and would like to get started\, you can join our upcoming new 6 weeks course starting October 7th. Register today to reserve your spot! \nPlease note: If you’ve never taken formal classes at a studio before\, you will need to start with our beginner course. Those students that have taken formal classes will need to do a “test-in” to join our advance beginner level class. \nFor all our other levels\, is class as usual! \nSchedule is as follows: \n*6 weeks beginner course – 7:30pm – 8:30pm \n*Advance beginner class – 7:30pm – 8:30pm \n*Intermediate class – 8:30pm to 9:30pm \n-SHOES- \nNEW STUDENTS: Tennis shoes/ Street shoes/flats/ comfortable indoor shoes (NO FLIP FLOPS OR SANDALS) \nINTERMEDIATE/ADVANCE STUDENTS: Dance Shoes \n*NOTE* \nADULT CLASS (18+) \nCOURSE vs CLASS: 6 weeks beginner course has a starting date and ending date | A CLASS – Ongoing and it doesn’t have a starting or ending date. A student can join a class at anytime and doesn’t have to wait for a starting date as it’s an ongoing class (a syllabus is used in a class and it recycles through the material for that level).
URL:https://www.tatosalsa.com/event/tatosalsa-new-6-weeks-beginner-salsa-on2-course-and-regular-classes-36/
LOCATION:Tato Salsa Studio\, 2901 W. Busch Blvd\, Suite 1024\, Tampa\, FL\, 33618\, United States
CATEGORIES:Mambo,Salsa
ATTACH;FMTTYPE=image/png:https://www.tatosalsa.com/wp-content/uploads/2025/07/newclassflyerjuly2025.png
END:VEVENT
BEGIN:VEVENT
DTSTART;TZID=America/New_York:20250928T150000
DTEND;TZID=America/New_York:20250928T200000
DTSTAMP:20260419T193134
CREATED:20250917T160256Z
LAST-MODIFIED:20250923T211445Z
UID:7615-1759071600-1759089600@www.tatosalsa.com
SUMMARY:SUNDAY DE SABROSURA DANCE SOCIAL
DESCRIPTION:Join us Sep 28th for your favorite Sunday social! Tampa’s longest running\, original afternoon dance Sunday social in the heart of Ybor. THANK YOU for keeping the passion for dance alive.\nThis month’s dance class will be with Mr. TaToSalsa himself\, Juan TaTo Paredes right here from Tampa\, FL.\nPLEASE NOTE THE FOLLOWING:\n– No children will be allowed\, no exceptions– Must be 18 to enter event– If you are feeling under the weather and have COVID like symptoms\, please stay home.\nDISCLAIMER: ***Attend and dance at your own risk. TaToSalsa Inc\, its owners and staff\, La Herencia de Ybor\, its owner and staff will not be held liable for any sickness\, or injuries that may arise while attending this event. ***\nSunday de Sabrosura social is normally held once a month typically every 4th Sunday of the month in the heart of Ybor city at La Herencia de Ybor. It has grown to be Tampa’s favorite afternoon social\, where you’ll find the best mojitos and sangrias here. Let’s not forget great music with an awesome afternoon vibe!\nTaTo Salsa Students $10 | General Admission $15Music By: DJ Mambo TribeDance Lesson: Juan TaTo Paredes\nParking is available in the lot behind the venue; HOWEVER\, YOU MUST PAY THE METER. We have noticed the rate has increased\, please consider parking across the street\, or in the lots on the adjacent sides of La Herencia\, they are cheaper. There is free street parking available in some areas\, please read the signs.\nThank you\,\nTaToSalsa\nATTENTION NEW ATTENDEES:\nADDRESS IS 1817 E 7TH AVE TAMPA\, FL\, 33605.
URL:https://www.tatosalsa.com/event/sunday-de-sabrosura-dance-social-31/
LOCATION:Herencia de Ybor\, 1817 E 7th ave. \, Tampa\, FL\, 33605\, United States
CATEGORIES:Bachata,Mambo,Salsa,Social
ATTACH;FMTTYPE=image/png:https://www.tatosalsa.com/wp-content/uploads/2025/09/September-sabrosura-2025.png
END:VEVENT
END:VCALENDAR