BEGIN:VCALENDAR
VERSION:2.0
PRODID:-//Tampa Salsa Lessons | Clases de Salsa - ECPv6.15.20//NONSGML v1.0//EN
CALSCALE:GREGORIAN
METHOD:PUBLISH
X-ORIGINAL-URL:https://www.tatosalsa.com
X-WR-CALDESC:Events for Tampa Salsa Lessons | Clases de Salsa
REFRESH-INTERVAL;VALUE=DURATION:PT1H
X-Robots-Tag:noindex
X-PUBLISHED-TTL:PT1H
BEGIN:VTIMEZONE
TZID:America/New_York
BEGIN:DAYLIGHT
TZOFFSETFROM:-0500
TZOFFSETTO:-0400
TZNAME:EDT
DTSTART:20240310T070000
END:DAYLIGHT
BEGIN:STANDARD
TZOFFSETFROM:-0400
TZOFFSETTO:-0500
TZNAME:EST
DTSTART:20241103T060000
END:STANDARD
BEGIN:DAYLIGHT
TZOFFSETFROM:-0500
TZOFFSETTO:-0400
TZNAME:EDT
DTSTART:20250309T070000
END:DAYLIGHT
BEGIN:STANDARD
TZOFFSETFROM:-0400
TZOFFSETTO:-0500
TZNAME:EST
DTSTART:20251102T060000
END:STANDARD
BEGIN:DAYLIGHT
TZOFFSETFROM:-0500
TZOFFSETTO:-0400
TZNAME:EDT
DTSTART:20260308T070000
END:DAYLIGHT
BEGIN:STANDARD
TZOFFSETFROM:-0400
TZOFFSETTO:-0500
TZNAME:EST
DTSTART:20261101T060000
END:STANDARD
END:VTIMEZONE
BEGIN:VEVENT
DTSTART;TZID=America/New_York:20250805T193000
DTEND;TZID=America/New_York:20250805T220000
DTSTAMP:20260420T000812
CREATED:20250626T004349Z
LAST-MODIFIED:20250626T004349Z
UID:7482-1754422200-1754431200@www.tatosalsa.com
SUMMARY:TaToSalsa - New 6 weeks beginner Salsa On2 course and regular classes
DESCRIPTION:Our current 6 weeks beginner course is CLOSED. If you’re a new student and would like to get started\, you can join our upcoming new 6 weeks course starting August 19th. Register today to reserve your spot! \nPlease note: If you’ve never taken formal classes at a studio before\, you will need to start with our beginner course. Those students that have taken formal classes will need to do a “test-in” to join our advance beginner level class. \nFor all our other levels\, is class as usual! \nSchedule is as follows: \n*6 weeks beginner course – 7:30pm – 8:30pm \n*Advance beginner class – 7:30pm – 8:30pm \n*Intermediate class – 8:30pm to 9:30pm \n-SHOES- \nNEW STUDENTS: Tennis shoes/ Street shoes/flats/ comfortable indoor shoes (NO FLIP FLOPS OR SANDALS) \nINTERMEDIATE/ADVANCE STUDENTS: Dance Shoes \n*NOTE* \nADULT CLASS (18+) \nCOURSE vs CLASS: 6 weeks beginner course has a starting date and ending date | A CLASS – Ongoing and it doesn’t have a starting or ending date. A student can join a class at anytime and doesn’t have to wait for a starting date as it’s an ongoing class (a syllabus is used in a class and it recycles through the material for that level).
URL:https://www.tatosalsa.com/event/tatosalsa-new-6-weeks-beginner-salsa-on2-course-and-regular-classes-30/
LOCATION:Tato Salsa Studio\, 2901 W. Busch Blvd\, Suite 1024\, Tampa\, FL\, 33618\, United States
CATEGORIES:Mambo
ATTACH;FMTTYPE=image/png:https://www.tatosalsa.com/wp-content/uploads/2025/05/beginnerclassflyerjuly2025.png
END:VEVENT
BEGIN:VEVENT
DTSTART;TZID=America/New_York:20250812T193000
DTEND;TZID=America/New_York:20250812T220000
DTSTAMP:20260420T000812
CREATED:20250626T004509Z
LAST-MODIFIED:20250626T004509Z
UID:7484-1755027000-1755036000@www.tatosalsa.com
SUMMARY:TaToSalsa - New 6 weeks beginner Salsa On2 course and regular classes
DESCRIPTION:Our current 6 weeks beginner course is CLOSED. If you’re a new student and would like to get started\, you can join our upcoming new 6 weeks course starting August 19th. Register today to reserve your spot! \nPlease note: If you’ve never taken formal classes at a studio before\, you will need to start with our beginner course. Those students that have taken formal classes will need to do a “test-in” to join our advance beginner level class. \nFor all our other levels\, is class as usual! \nSchedule is as follows: \n*6 weeks beginner course – 7:30pm – 8:30pm \n*Advance beginner class – 7:30pm – 8:30pm \n*Intermediate class – 8:30pm to 9:30pm \n-SHOES- \nNEW STUDENTS: Tennis shoes/ Street shoes/flats/ comfortable indoor shoes (NO FLIP FLOPS OR SANDALS) \nINTERMEDIATE/ADVANCE STUDENTS: Dance Shoes \n*NOTE* \nADULT CLASS (18+) \nCOURSE vs CLASS: 6 weeks beginner course has a starting date and ending date | A CLASS – Ongoing and it doesn’t have a starting or ending date. A student can join a class at anytime and doesn’t have to wait for a starting date as it’s an ongoing class (a syllabus is used in a class and it recycles through the material for that level).
URL:https://www.tatosalsa.com/event/tatosalsa-new-6-weeks-beginner-salsa-on2-course-and-regular-classes-31/
LOCATION:Tato Salsa Studio\, 2901 W. Busch Blvd\, Suite 1024\, Tampa\, FL\, 33618\, United States
CATEGORIES:Mambo
ATTACH;FMTTYPE=image/png:https://www.tatosalsa.com/wp-content/uploads/2025/05/beginnerclassflyerjuly2025.png
END:VEVENT
BEGIN:VEVENT
DTSTART;TZID=America/New_York:20250819T193000
DTEND;TZID=America/New_York:20250819T220000
DTSTAMP:20260420T000812
CREATED:20250626T010838Z
LAST-MODIFIED:20250725T190055Z
UID:7496-1755631800-1755640800@www.tatosalsa.com
SUMMARY:NEW 6 WEEKS BEGINNER SALSA ON2 COURSE AND REGULAR CLASSES
DESCRIPTION:Join us for our NEW 6 weeks beginner course starting tonight at 7:30pm. Please be sure to arrive a little early to settle and also go through our registration process. Please register for this course online. \nPlease note: If you’ve never taken formal classes at a studio before\, you will need to start with our beginner course. Those students that have taken formal classes will need to do a “test-in” to join our advance beginner level class. \nFor all our other levels\, is class as usual! \nSchedule is as follows: \n*6 weeks beginner course – 7:30pm-8:30pm \n*Advance beginner class – 7:30pm – 8:30pm \n*Intermediate class – 8:30pm to 9:30pm \n-SHOES- \nNEW STUDENTS: Tennis shoes/ Street shoes/flats/ comfortable indoor shoes (NO FLIP FLOPS OR SANDALS) \nINTERMEDIATE/ADVANCE STUDENTS: Dance Shoes \n*NOTE* \nADULT CLASS (18+) \nCOURSE vs CLASS: 6 weeks beginner course has a starting date and ending date | A CLASS – Ongoing and it doesn’t have a starting or ending date. A student can join a class at anytime and doesn’t have to wait for a starting date as it’s an ongoing class (a syllabus is used in a class and it recycles through the material for that level).
URL:https://www.tatosalsa.com/event/new-6-weeks-beginner-salsa-on2-course-and-regular-classes-3/
LOCATION:Tato Salsa Studio\, 2901 W. Busch Blvd\, Suite 1024\, Tampa\, FL\, 33618\, United States
CATEGORIES:Bachata,Mambo
ATTACH;FMTTYPE=image/png:https://www.tatosalsa.com/wp-content/uploads/2025/07/newclassflyerjuly2025.png
END:VEVENT
BEGIN:VEVENT
DTSTART;TZID=America/New_York:20250826T193000
DTEND;TZID=America/New_York:20250826T220000
DTSTAMP:20260420T000812
CREATED:20250726T195823Z
LAST-MODIFIED:20250726T195823Z
UID:7540-1756236600-1756245600@www.tatosalsa.com
SUMMARY:TaToSalsa - New 6 weeks beginner Salsa On2 course and regular classes
DESCRIPTION:If you’re a new student and missed the first week of our 6 weeks course\, it’s okay. You can still join this course today. Cost is $65 and starting time is 7:30pm. \nPlease note: If you’ve never taken formal classes at a studio before\, you will need to start with our beginner course. Those students that have taken formal classes will need to do a “test-in” to join our advance beginner level class. \nFor all our other levels\, is class as usual! \nSchedule is as follows: \n*6 weeks beginner course – 7:30pm-8:30pm \n*Advance beginner class – 7:30pm – 8:30pm \n*Intermediate class – 8:30pm to 9:30pm \n-SHOES- \nNEW STUDENTS: Tennis shoes/ Street shoes/flats/ comfortable indoor shoes (NO FLIP FLOPS OR SANDALS) \nINTERMEDIATE/ADVANCE STUDENTS: Dance Shoes \n*NOTE* \nADULT CLASS (18+) \nCOURSE vs CLASS: 4 weeks beginner course has a starting date and ending date | A CLASS – Ongoing and it doesn’t have a starting or ending date. A student can join a class at anytime and doesn’t have to wait for a starting date as it’s an ongoing class (a syllabus is used in a class and it recycles through the material for that level).
URL:https://www.tatosalsa.com/event/tatosalsa-new-6-weeks-beginner-salsa-on2-course-and-regular-classes-32/
LOCATION:Tato Salsa Studio\, 2901 W. Busch Blvd\, Suite 1024\, Tampa\, FL\, 33618\, United States
CATEGORIES:Mambo,Salsa
ATTACH;FMTTYPE=image/png:https://www.tatosalsa.com/wp-content/uploads/2025/07/newclassflyerjuly2025.png
END:VEVENT
END:VCALENDAR