BEGIN:VCALENDAR
VERSION:2.0
PRODID:-//Tampa Salsa Lessons | Clases de Salsa - ECPv6.15.20//NONSGML v1.0//EN
CALSCALE:GREGORIAN
METHOD:PUBLISH
X-ORIGINAL-URL:https://www.tatosalsa.com
X-WR-CALDESC:Events for Tampa Salsa Lessons | Clases de Salsa
REFRESH-INTERVAL;VALUE=DURATION:PT1H
X-Robots-Tag:noindex
X-PUBLISHED-TTL:PT1H
BEGIN:VTIMEZONE
TZID:America/New_York
BEGIN:DAYLIGHT
TZOFFSETFROM:-0500
TZOFFSETTO:-0400
TZNAME:EDT
DTSTART:20250309T070000
END:DAYLIGHT
BEGIN:STANDARD
TZOFFSETFROM:-0400
TZOFFSETTO:-0500
TZNAME:EST
DTSTART:20251102T060000
END:STANDARD
BEGIN:DAYLIGHT
TZOFFSETFROM:-0500
TZOFFSETTO:-0400
TZNAME:EDT
DTSTART:20260308T070000
END:DAYLIGHT
BEGIN:STANDARD
TZOFFSETFROM:-0400
TZOFFSETTO:-0500
TZNAME:EST
DTSTART:20261101T060000
END:STANDARD
BEGIN:DAYLIGHT
TZOFFSETFROM:-0500
TZOFFSETTO:-0400
TZNAME:EDT
DTSTART:20270314T070000
END:DAYLIGHT
BEGIN:STANDARD
TZOFFSETFROM:-0400
TZOFFSETTO:-0500
TZNAME:EST
DTSTART:20271107T060000
END:STANDARD
END:VTIMEZONE
BEGIN:VEVENT
DTSTART;TZID=America/New_York:20260312T210000
DTEND;TZID=America/New_York:20260313T010000
DTSTAMP:20260421T113329
CREATED:20260306T144538Z
LAST-MODIFIED:20260306T144538Z
UID:7831-1773349200-1773363600@www.tatosalsa.com
SUMMARY:TUMBAO THURSDAYS DANCE SOCIAL
DESCRIPTION:Join us for our Valentine’s social at our TaToSalsa Studio in Tampa. Get your pre-weekend dance fix on with your favorite Salsa\, Mambo\, and Bachata music. Dance lesson by the studio’s very own\, Javi Pagan!\nSpecial Guest DJ: DeeJay DCPrice: $10 Current TaTo Salsa Students Must present current student card| $15 General AdmissionLesson by: Javi PaganParking Available.Start Time: Doors open 9:00 pm – 1amHosted by: Tato SalsaPhotos: The Scene Media\nNO ONE UNDER 18Free ParkingSee you there!!!!
URL:https://www.tatosalsa.com/event/tumbao-thursdays-dance-social-4/
LOCATION:Tato Salsa Studio\, 2901 W. Busch Blvd\, Suite 1024\, Tampa\, FL\, 33618\, United States
CATEGORIES:Bachata,Kizomba,Mambo,Salsa,Social
ATTACH;FMTTYPE=image/png:https://www.tatosalsa.com/wp-content/uploads/2026/03/Tumbao.png
END:VEVENT
END:VCALENDAR