BEGIN:VCALENDAR
VERSION:2.0
PRODID:-//Tampa Salsa Lessons | Clases de Salsa - ECPv6.15.20//NONSGML v1.0//EN
CALSCALE:GREGORIAN
METHOD:PUBLISH
X-ORIGINAL-URL:https://www.tatosalsa.com
X-WR-CALDESC:Events for Tampa Salsa Lessons | Clases de Salsa
REFRESH-INTERVAL;VALUE=DURATION:PT1H
X-Robots-Tag:noindex
X-PUBLISHED-TTL:PT1H
BEGIN:VTIMEZONE
TZID:America/New_York
BEGIN:DAYLIGHT
TZOFFSETFROM:-0500
TZOFFSETTO:-0400
TZNAME:EDT
DTSTART:20240310T070000
END:DAYLIGHT
BEGIN:STANDARD
TZOFFSETFROM:-0400
TZOFFSETTO:-0500
TZNAME:EST
DTSTART:20241103T060000
END:STANDARD
BEGIN:DAYLIGHT
TZOFFSETFROM:-0500
TZOFFSETTO:-0400
TZNAME:EDT
DTSTART:20250309T070000
END:DAYLIGHT
BEGIN:STANDARD
TZOFFSETFROM:-0400
TZOFFSETTO:-0500
TZNAME:EST
DTSTART:20251102T060000
END:STANDARD
BEGIN:DAYLIGHT
TZOFFSETFROM:-0500
TZOFFSETTO:-0400
TZNAME:EDT
DTSTART:20260308T070000
END:DAYLIGHT
BEGIN:STANDARD
TZOFFSETFROM:-0400
TZOFFSETTO:-0500
TZNAME:EST
DTSTART:20261101T060000
END:STANDARD
END:VTIMEZONE
BEGIN:VEVENT
DTSTART;TZID=America/New_York:20251008T190000
DTEND;TZID=America/New_York:20251008T220000
DTSTAMP:20260419T184000
CREATED:20250828T005856Z
LAST-MODIFIED:20250904T002323Z
UID:7576-1759950000-1759960800@www.tatosalsa.com
SUMMARY:NEW 6 WEEKS BEGINNER BACHATA COURSE STARTS TODAY!!
DESCRIPTION:Join us for our NEW 6 weeks beginner course starting tonight at 7pm. Please be sure to arrive a little early to settle and also go through our registration process. Please register for this course online. \nPlease note: If you’ve never taken formal classes at a studio before\, you will need to start with our beginner course. Those students that have taken formal classes will need to do a “test-in” to join our advance beginner level class. \nFor all our other levels\, is class as usual! \nSchedule is as follows: \n*6 weeks beginner course – 7pm-8pm \n*Advance beginner class – 7pm – 8pm \n*Intermediate class – 8:15pm to 9:15pm \n-SHOES- \nNEW STUDENTS: Tennis shoes/ Street shoes/flats/ comfortable indoor shoes (NO FLIP FLOPS OR SANDALS) \nINTERMEDIATE/ADVANCE STUDENTS: Dance Shoes \n*NOTE* \nADULT CLASS (18+) \nCOURSE vs CLASS: 6 weeks beginner course has a starting date and ending date | A CLASS – Ongoing and it doesn’t have a starting or ending date. A student can join a class at anytime and doesn’t have to wait for a starting date as it’s an ongoing class (a syllabus is used in a class and it recycles through the material for that level).
URL:https://www.tatosalsa.com/event/new-6-weeks-beginner-bachata-course-starts-today-3/
LOCATION:Tato Salsa Studio\, 2901 W. Busch Blvd\, Suite 1024\, Tampa\, FL\, 33618\, United States
CATEGORIES:Bachata,Salsa
ATTACH;FMTTYPE=image/png:https://www.tatosalsa.com/wp-content/uploads/2025/08/octoberclassflyer.png
END:VEVENT
BEGIN:VEVENT
DTSTART;TZID=America/New_York:20251009T210000
DTEND;TZID=America/New_York:20251010T010000
DTSTAMP:20260419T184000
CREATED:20251006T123057Z
LAST-MODIFIED:20251006T123057Z
UID:7626-1760043600-1760058000@www.tatosalsa.com
SUMMARY:TUMBAO THURSDAYS DANCE SOCIAL
DESCRIPTION:Join us for October’s edition of Tumbao Thursday our TaToSalsa Studio in Tampa. Get your pre-weekend dance fix on with your favorite Salsa\, Mambo\, and Bachata music. Dance lesson by Jonathan Troncoso from Orlando! \nDJ: Mambo Tribe\nPrice: $20 General Admission | $15 Current TaTo Salsa Students must present current student card\nLesson by: Jonathan Troncoso\nDJ: Mambo Tribe\nPictures by: The Scene Media \nParking Available.\nStart Time: Doors open 9:00 pm – 1am\nHosted by: TatoSalsa\nNO ONE UNDER 18\nFree Parking \nSee you there!!!!
URL:https://www.tatosalsa.com/event/tumbao-thursdays-dance-social-2/
LOCATION:Tato Salsa Studio\, 2901 W. Busch Blvd\, Suite 1024\, Tampa\, FL\, 33618\, United States
CATEGORIES:Bachata,Mambo,Salsa,Social
ATTACH;FMTTYPE=image/png:https://www.tatosalsa.com/wp-content/uploads/2025/10/October-Tumbao-Flyer.png
END:VEVENT
BEGIN:VEVENT
DTSTART;TZID=America/New_York:20251015T190000
DTEND;TZID=America/New_York:20251015T220000
DTSTAMP:20260419T184000
CREATED:20250917T155402Z
LAST-MODIFIED:20250917T155402Z
UID:7605-1760554800-1760565600@www.tatosalsa.com
SUMMARY:TaToSalsa - New 6 weeks beginner Bachata course and regular classes
DESCRIPTION:If you’re a new student and missed the first week of our 6 weeks course\, it’s okay. You can still join this course today. Cost is $65 and starting time is 7pm. \nPlease note: If you’ve never taken formal classes at a studio before\, you will need to start with our beginner course. Those students that have taken formal classes will need to do a “test-in” to join our advance beginner level class. \nFor all our other levels\, is class as usual! \nSchedule is as follows: \n*6 weeks beginner course – 7pm-8pm \n*Advance beginner class – 7pm – 8pm \n*Intermediate/Advance class – 8:15pm to 9:15pm \n-SHOES- \nNEW STUDENTS: Tennis shoes/ Street shoes/flats/ comfortable indoor shoes (NO FLIP FLOPS OR SANDALS) \nINTERMEDIATE/ADVANCE STUDENTS: Dance Shoes \n*NOTE* \nADULT CLASS (18+) \nCOURSE vs CLASS: 6 weeks beginner course has a starting date and ending date | A CLASS – Ongoing and it doesn’t have a starting or ending date. A student can join a class at anytime and doesn’t have to wait for a starting date as it’s an ongoing class (a syllabus is used in a class and it recycles through the material for that level).
URL:https://www.tatosalsa.com/event/tatosalsa-new-6-weeks-beginner-bachata-course-and-regular-classes-40/
LOCATION:Tato Salsa Studio\, 2901 W. Busch Blvd\, Suite 1024\, Tampa\, FL\, 33618\, United States
CATEGORIES:Bachata
ATTACH;FMTTYPE=image/png:https://www.tatosalsa.com/wp-content/uploads/2025/08/octoberclassflyer.png
END:VEVENT
BEGIN:VEVENT
DTSTART;TZID=America/New_York:20251022T190000
DTEND;TZID=America/New_York:20251022T220000
DTSTAMP:20260419T184000
CREATED:20250917T155555Z
LAST-MODIFIED:20250917T155555Z
UID:7607-1761159600-1761170400@www.tatosalsa.com
SUMMARY:TaToSalsa - New 6 weeks beginner Bachata course and regular classes
DESCRIPTION:Today is the last day to join our current beginner course. This will be a 4 weeks course and price is $65. Starting time is 7pm. \nPlease note: If you’ve never taken formal classes at a studio before\, you will need to start with our beginner course. Those students that have taken formal classes will need to do a “test-in” to join our advance beginner level class. \nFor all our other levels\, is class as usual! \nSchedule is as follows: \n*6 weeks beginner course – 7pm-8pm \n*Advance beginner class – 7pm – 8pm \n*Intermediate/Advance class – 8:15pm to 9:15pm \n-SHOES- \nNEW STUDENTS: Tennis shoes/ Street shoes/flats/ comfortable indoor shoes (NO FLIP FLOPS OR SANDALS) \nINTERMEDIATE/ADVANCE STUDENTS: Dance Shoes \n*NOTE* \nADULT CLASS (18+) \nCOURSE vs CLASS: 6 weeks beginner course has a starting date and ending date | A CLASS – Ongoing and it doesn’t have a starting or ending date. A student can join a class at anytime and doesn’t have to wait for a starting date as it’s an ongoing class (a syllabus is used in a class and it recycles through the material for that level).
URL:https://www.tatosalsa.com/event/tatosalsa-new-6-weeks-beginner-bachata-course-and-regular-classes-41/
LOCATION:Tato Salsa Studio\, 2901 W. Busch Blvd\, Suite 1024\, Tampa\, FL\, 33618\, United States
CATEGORIES:Bachata
ATTACH;FMTTYPE=image/png:https://www.tatosalsa.com/wp-content/uploads/2025/08/octoberclassflyer.png
END:VEVENT
END:VCALENDAR