BEGIN:VCALENDAR
VERSION:2.0
PRODID:-//Tampa Salsa Lessons | Clases de Salsa - ECPv6.15.20//NONSGML v1.0//EN
CALSCALE:GREGORIAN
METHOD:PUBLISH
X-WR-CALNAME:Tampa Salsa Lessons | Clases de Salsa
X-ORIGINAL-URL:https://www.tatosalsa.com
X-WR-CALDESC:Events for Tampa Salsa Lessons | Clases de Salsa
REFRESH-INTERVAL;VALUE=DURATION:PT1H
X-Robots-Tag:noindex
X-PUBLISHED-TTL:PT1H
BEGIN:VTIMEZONE
TZID:America/New_York
BEGIN:DAYLIGHT
TZOFFSETFROM:-0500
TZOFFSETTO:-0400
TZNAME:EDT
DTSTART:20240310T070000
END:DAYLIGHT
BEGIN:STANDARD
TZOFFSETFROM:-0400
TZOFFSETTO:-0500
TZNAME:EST
DTSTART:20241103T060000
END:STANDARD
BEGIN:DAYLIGHT
TZOFFSETFROM:-0500
TZOFFSETTO:-0400
TZNAME:EDT
DTSTART:20250309T070000
END:DAYLIGHT
BEGIN:STANDARD
TZOFFSETFROM:-0400
TZOFFSETTO:-0500
TZNAME:EST
DTSTART:20251102T060000
END:STANDARD
BEGIN:DAYLIGHT
TZOFFSETFROM:-0500
TZOFFSETTO:-0400
TZNAME:EDT
DTSTART:20260308T070000
END:DAYLIGHT
BEGIN:STANDARD
TZOFFSETFROM:-0400
TZOFFSETTO:-0500
TZNAME:EST
DTSTART:20261101T060000
END:STANDARD
END:VTIMEZONE
BEGIN:VEVENT
DTSTART;TZID=America/New_York:20250716T190000
DTEND;TZID=America/New_York:20250716T220000
DTSTAMP:20260420T083141
CREATED:20250626T005405Z
LAST-MODIFIED:20250626T005405Z
UID:7486-1752692400-1752703200@www.tatosalsa.com
SUMMARY:TaToSalsa - New 6 weeks beginner Bachata course and regular classes
DESCRIPTION:If you’re a new student and missed the first week of our 6 weeks course\, it’s okay. You can still join this course today. Cost is $65 and starting time is 7pm. \nPlease note: If you’ve never taken formal classes at a studio before\, you will need to start with our beginner course. Those students that have taken formal classes will need to do a “test-in” to join our advance beginner level class. \nFor all our other levels\, is class as usual! \nSchedule is as follows: \n*6 weeks beginner course – 7pm-8pm \n*Advance beginner class – 7pm – 8pm \n*Intermediate/Advance class – 8:15pm to 9:15pm \n-SHOES- \nNEW STUDENTS: Tennis shoes/ Street shoes/flats/ comfortable indoor shoes (NO FLIP FLOPS OR SANDALS) \nINTERMEDIATE/ADVANCE STUDENTS: Dance Shoes \n*NOTE* \nADULT CLASS (18+) \nCOURSE vs CLASS: 6 weeks beginner course has a starting date and ending date | A CLASS – Ongoing and it doesn’t have a starting or ending date. A student can join a class at anytime and doesn’t have to wait for a starting date as it’s an ongoing class (a syllabus is used in a class and it recycles through the material for that level).
URL:https://www.tatosalsa.com/event/tatosalsa-new-6-weeks-beginner-bachata-course-and-regular-classes-30/
LOCATION:Tato Salsa Studio\, 2901 W. Busch Blvd\, Suite 1024\, Tampa\, FL\, 33618\, United States
CATEGORIES:Bachata
ATTACH;FMTTYPE=image/png:https://www.tatosalsa.com/wp-content/uploads/2025/05/beginnerclassflyerjuly2025.png
END:VEVENT
BEGIN:VEVENT
DTSTART;TZID=America/New_York:20250723T190000
DTEND;TZID=America/New_York:20250723T220000
DTSTAMP:20260420T083141
CREATED:20250626T005552Z
LAST-MODIFIED:20250626T005552Z
UID:7488-1753297200-1753308000@www.tatosalsa.com
SUMMARY:TatoSalsa - New 6 week beginner Bachata course and regular classes
DESCRIPTION:Today is the last day to join our current beginner course. This will be a 4 weeks course and price is $65. Starting time is 7pm. \nPlease note: If you’ve never taken formal classes at a studio before\, you will need to start with our beginner course. Those students that have taken formal classes will need to do a “test-in” to join our advance beginner level class. \nFor all our other levels\, is class as usual! \nSchedule is as follows: \n*6 weeks beginner course – 7pm-8pm \n*Advance beginner class – 7pm – 8pm \n*Intermediate/Advance class – 8:15pm to 9:15pm \n-SHOES- \nNEW STUDENTS: Tennis shoes/ Street shoes/flats/ comfortable indoor shoes (NO FLIP FLOPS OR SANDALS) \nINTERMEDIATE/ADVANCE STUDENTS: Dance Shoes \n*NOTE* \nADULT CLASS (18+) \nCOURSE vs CLASS: 6 weeks beginner course has a starting date and ending date | A CLASS – Ongoing and it doesn’t have a starting or ending date. A student can join a class at anytime and doesn’t have to wait for a starting date as it’s an ongoing class (a syllabus is used in a class and it recycles through the material for that level).
URL:https://www.tatosalsa.com/event/tatosalsa-new-6-week-beginner-bachata-course-and-regular-classes/
LOCATION:Tato Salsa Studio\, 2901 W. Busch Blvd\, Suite 1024\, Tampa\, FL\, 33618\, United States
CATEGORIES:Bachata
ATTACH;FMTTYPE=image/png:https://www.tatosalsa.com/wp-content/uploads/2025/05/beginnerclassflyerjuly2025.png
END:VEVENT
BEGIN:VEVENT
DTSTART;TZID=America/New_York:20250726T123000
DTEND;TZID=America/New_York:20250726T160000
DTSTAMP:20260420T083141
CREATED:20250708T183138Z
LAST-MODIFIED:20250726T110934Z
UID:7506-1753533000-1753545600@www.tatosalsa.com
SUMMARY:Workshops with Robinson and Larissa
DESCRIPTION:Join us for our upcoming workshop weekend with Robinson and Larissa. These two have gained the love and hearts of our Tampa dance community and we couldn’t be happier then to have them back at our studio for 3 amazing workshops. \n*All sales are final and by purchasing the workshop/workshops you’re registered \nWorkshops: \n12:30am – 1:30am – Ladies styling Salsa On1 with Larissa \n1:45pm – 2:45pm – Bachata Styling – For both male and female \n2:50pm – 3:50pm – Bachata Fusion Partnerwork \nCost: \n1 workshop: $35 door \n2 workshop: $55 door \n3 workshop: $65 door \nOnline sales will expire on Friday\, July 25th.
URL:https://www.tatosalsa.com/event/workshops-with-robinson-and-larissa-2/
LOCATION:Tato Salsa Studio\, 2901 W. Busch Blvd\, Suite 1024\, Tampa\, FL\, 33618\, United States
CATEGORIES:Bachata,Salsa,Social
ATTACH;FMTTYPE=image/png:https://www.tatosalsa.com/wp-content/uploads/2025/07/Robinsonandlarissa.png
END:VEVENT
BEGIN:VEVENT
DTSTART;TZID=America/New_York:20250727T150000
DTEND;TZID=America/New_York:20250727T200000
DTSTAMP:20260420T083141
CREATED:20250725T185627Z
LAST-MODIFIED:20250725T185627Z
UID:7520-1753628400-1753646400@www.tatosalsa.com
SUMMARY:SUNDAY DE SABROSURA DANCE SOCIAL
DESCRIPTION:Join us July 27th for your favorite Sunday social! Tampa’s longest running\, original afternoon dance Sunday social in the heart of Ybor. THANK YOU for keeping the passion for dance alive.\nThis month’s dance class will be with Robinson and Larissa from Brazil/Orlando!\nPLEASE NOTE THE FOLLOWING:\n– No children will be allowed\, no exceptions– Must be 18 to enter event– If you are feeling under the weather and have COVID like symptoms\, please stay home.\nDISCLAIMER: ***Attend and dance at your own risk. TaToSalsa Inc\, its owners and staff\, La Herencia de Ybor\, its owner and staff will not be held liable for any sickness\, or injuries that may arise while attending this event. ***\nSunday de Sabrosura social is normally held once a month typically every 4th Sunday of the month in the heart of Ybor city at La Herencia de Ybor. It has grown to be Tampa’s favorite afternoon social\, where you’ll find the best mojitos and sangrias here. Let’s not forget great music with an awesome afternoon vibe!\nTaTo Salsa Students $10 | General Admission $15Music By: Mambo TribeDance Lesson: Robinson and Larissa\nParking is available in the lot behind the venue; HOWEVER\, YOU MUST PAY THE METER. We have noticed the rate has increased\, please consider parking across the street\, or in the lots on the adjacent sides of La Herencia\, they are cheaper. There is free street parking available in some areas\, please read the signs.\nThank you\,\nTaToSalsa\nATTENTION NEW ATTENDEES:\nADDRESS IS 1817 E 7TH AVE TAMPA\, FL\, 33605.
URL:https://www.tatosalsa.com/event/sunday-de-sabrosura-dance-social-30/
LOCATION:Herencia de Ybor\, 1817 E 7th ave. \, Tampa\, FL\, 33605\, United States
CATEGORIES:Bachata,Mambo,Salsa,Social
ATTACH;FMTTYPE=image/png:https://www.tatosalsa.com/wp-content/uploads/2025/07/sundaydesabrosurajuly2025.png
END:VEVENT
BEGIN:VEVENT
DTSTART;TZID=America/New_York:20250730T190000
DTEND;TZID=America/New_York:20250730T220000
DTSTAMP:20260420T083141
CREATED:20250626T010125Z
LAST-MODIFIED:20250626T010125Z
UID:7490-1753902000-1753912800@www.tatosalsa.com
SUMMARY:TaToSalsa - New 6 weeks beginner Bachata course and regular classes
DESCRIPTION:Our current 6 weeks beginner course is CLOSED. If you’re a new student and would like to get started\, you can join our upcoming new 6 weeks course starting August 20th. Register today to reserve your spot! \nPlease note: If you’ve never taken formal classes at a studio before\, you will need to start with our beginner course. Those students that have taken formal classes will need to do a “test-in” to join our advance beginner level class. \nFor all our other levels\, is class as usual! \nSchedule is as follows: \n*6 weeks beginner course – 7pm-8pm \n*Advance beginner class – 7pm to 8pm \n*Intermediate class – 8:30pm to 9:30pm \n-SHOES- \nNEW STUDENTS: Tennis shoes/ Street shoes/flats/ comfortable indoor shoes (NO FLIP FLOPS OR SANDALS) \nINTERMEDIATE/ADVANCE STUDENTS: Dance Shoes \n*NOTE* \nADULT CLASS (18+) \nCOURSE vs CLASS: 6 weeks beginner course has a starting date and ending date | A CLASS – Ongoing and it doesn’t have a starting or ending date. A student can join a class at anytime and doesn’t have to wait for a starting date as it’s an ongoing class (a syllabus is used in a class and it recycles through the material for that level).
URL:https://www.tatosalsa.com/event/tatosalsa-new-6-weeks-beginner-bachata-course-and-regular-classes-31/
LOCATION:Tato Salsa Studio\, 2901 W. Busch Blvd\, Suite 1024\, Tampa\, FL\, 33618\, United States
CATEGORIES:Bachata
ATTACH;FMTTYPE=image/png:https://www.tatosalsa.com/wp-content/uploads/2025/05/beginnerclassflyerjuly2025.png
END:VEVENT
END:VCALENDAR