BEGIN:VCALENDAR
VERSION:2.0
PRODID:-//Tampa Salsa Lessons | Clases de Salsa - ECPv6.15.20//NONSGML v1.0//EN
CALSCALE:GREGORIAN
METHOD:PUBLISH
X-ORIGINAL-URL:https://www.tatosalsa.com
X-WR-CALDESC:Events for Tampa Salsa Lessons | Clases de Salsa
REFRESH-INTERVAL;VALUE=DURATION:PT1H
X-Robots-Tag:noindex
X-PUBLISHED-TTL:PT1H
BEGIN:VTIMEZONE
TZID:America/New_York
BEGIN:DAYLIGHT
TZOFFSETFROM:-0500
TZOFFSETTO:-0400
TZNAME:EDT
DTSTART:20240310T070000
END:DAYLIGHT
BEGIN:STANDARD
TZOFFSETFROM:-0400
TZOFFSETTO:-0500
TZNAME:EST
DTSTART:20241103T060000
END:STANDARD
BEGIN:DAYLIGHT
TZOFFSETFROM:-0500
TZOFFSETTO:-0400
TZNAME:EDT
DTSTART:20250309T070000
END:DAYLIGHT
BEGIN:STANDARD
TZOFFSETFROM:-0400
TZOFFSETTO:-0500
TZNAME:EST
DTSTART:20251102T060000
END:STANDARD
BEGIN:DAYLIGHT
TZOFFSETFROM:-0500
TZOFFSETTO:-0400
TZNAME:EDT
DTSTART:20260308T070000
END:DAYLIGHT
BEGIN:STANDARD
TZOFFSETFROM:-0400
TZOFFSETTO:-0500
TZNAME:EST
DTSTART:20261101T060000
END:STANDARD
END:VTIMEZONE
BEGIN:VEVENT
DTSTART;TZID=America/New_York:20250612T210000
DTEND;TZID=America/New_York:20250613T010000
DTSTAMP:20260420T122521
CREATED:20250606T151545Z
LAST-MODIFIED:20250606T151545Z
UID:7449-1749762000-1749776400@www.tatosalsa.com
SUMMARY:TUMBAO DANCE SOCIAL
DESCRIPTION:Join us for June’s edition of Tumbao Thursday our TaToSalsa Studio in Tampa. Get your pre-weekend dance fix on with your favorite Salsa\, Mambo\, and Bachata music. For the first time teaching at TaToSalsa\, Tampa’s very own\, Dennis Alvarado.\nDJ: Mambo TribePrice: $10 Current TaTo Salsa Students Must present current student card| $15 General AdmissionLesson by: Dennis AlvaradoPictures by: The Scene Media\nParking Available.Start Time: Doors open 9:00 pm – 1amHosted by: Tato SalsaNO ONE UNDER 18Free Parking\nSee you there!!!!
URL:https://www.tatosalsa.com/event/tumbao-dance-social-8/
LOCATION:Tato Salsa Studio\, 2901 W. Busch Blvd\, Suite 1024\, Tampa\, FL\, 33618\, United States
CATEGORIES:Bachata,Kizomba,Mambo,Salsa,Social
ATTACH;FMTTYPE=image/png:https://www.tatosalsa.com/wp-content/uploads/2025/05/Junetumbaoflyer2025.png
END:VEVENT
BEGIN:VEVENT
DTSTART;TZID=America/New_York:20250622T150000
DTEND;TZID=America/New_York:20250622T200000
DTSTAMP:20260420T122521
CREATED:20250606T151818Z
LAST-MODIFIED:20250617T102517Z
UID:7451-1750604400-1750622400@www.tatosalsa.com
SUMMARY:SUNDAY DE SABROSURA DANCE SOCIAL
DESCRIPTION:Join us June 22nd for your favorite Sunday social! Tampa’s longest running\, original afternoon dance Sunday social in the heart of Ybor. THANK YOU for keeping the passion for dance alive.\nThis month’s dance class is with Carlos Suarez from Venezuela!\nPLEASE NOTE THE FOLLOWING:\n– No children will be allowed\, no exceptions– Must be 18 to enter event– If you are feeling under the weather and have COVID like symptoms\, please stay home.DISCLAIMER: ***Attend and dance at your own risk. TaToSalsa Inc\, its owners and staff\, La Herencia de Ybor\, its owner and staff will not be held liable for any sickness\, or injuries that may arise while attending this event. ***Sunday de Sabrosura social is normally held once a month typically every 4th Sunday of the month in the heart of Ybor city at La Herencia de Ybor. It has grown to be Tampa’s favorite afternoon social\, where you’ll find the best mojitos and sangrias here. Let’s not forget great music with an awesome afternoon vibe!\nTaTo Salsa Students $10 | General Admission $15Music By: Mambo TribeDance Lesson: Carlos Suarez\nParking is available in the lot behind the venue; HOWEVER\, YOU MUST PAY THE METER. We have noticed the rate has increased\, please consider parking across the street\, or in the lots on the adjacent sides of La Herencia\, they are cheaper. There is free street parking available in some areas\, please read the signs.\nThank you\,\nTaToSalsa\nATTENTION NEW ATTENDEES:\nADDRESS IS 1817 E 7TH AVE TAMPA\, FL\, 33605.
URL:https://www.tatosalsa.com/event/sunday-de-sabrosura-dance-social-29/
LOCATION:La Herencia de Ybor\, 1817 E. 7th ave.\, Tampa\, FL\, 33605\, United States
CATEGORIES:Bachata,Mambo,Salsa,Social
ATTACH;FMTTYPE=image/png:https://www.tatosalsa.com/wp-content/uploads/2025/06/Sunday-de-Sabrosura-June-2025.png
END:VEVENT
END:VCALENDAR